{"text_format":"3","workbook":"xlsx","n_sheets":62,"sheets":["80","40","30","20","17","15","12","10","01 KL7","02 VO2","03 VE7","03 W6","04 W0","04 W5","05 W1","05 W4","06 XE","07 TI","08 KP4","09 8R","10 OA","11 PY2","11 PY7","12 CE","13 LU","14 EA","14 G","14 LA","15 I","15 OH","15 OM","16 UA3","17 UN","18 UA9","19 UA0","20 4X","20 LZ","21 A7","22 VU","23 JT","24 BY","24 VR2","25 JA","26 HS","27 DU","27 KH2","28 YB","29 VK6","30 VK3","31 KH6","32 KH8","32 ZL","33 EA8","34 ST","35 5N","36 6W","36 9Q","36 ZD8","37 5Z","38 ZS6","39 5R","40 TF"],"read":"whole","date_system":"1900"}

{"sheet":"80","index":0,"n_rows":0,"n_cols":0,"rows_kept":0}

{"sheet":"40","index":1,"n_rows":0,"n_cols":0,"rows_kept":0}

{"sheet":"30","index":2,"n_rows":0,"n_cols":0,"rows_kept":0}

{"sheet":"20","index":3,"n_rows":0,"n_cols":0,"rows_kept":0}

{"sheet":"17","index":4,"n_rows":0,"n_cols":0,"rows_kept":0}

{"sheet":"15","index":5,"n_rows":0,"n_cols":0,"rows_kept":0}

{"sheet":"12","index":6,"n_rows":0,"n_cols":0,"rows_kept":0}

{"sheet":"10","index":7,"n_rows":0,"n_cols":0,"rows_kept":0}

{"sheet":"01 KL7","index":8,"n_rows":25,"n_cols":9,"rows_kept":25}
["UT","80M","40M","30M","20M","17M","15M","12M","10M"]
[1,{"$f":"'80'!B4","v":0},{"$f":"'40'!B4","v":0},{"$f":"'30'!B4","v":0},{"$f":"'20'!B4","v":0},{"$f":"'17'!B4","v":0},{"$f":"'15'!B4","v":0},{"$f":"'12'!B4","v":0},{"$f":"'10'!B4","v":0}]
[2,{"$f":"'80'!B5","v":0},{"$f":"'40'!B5","v":0},{"$f":"'30'!B5","v":0},{"$f":"'20'!B5","v":0},{"$f":"'17'!B5","v":0},{"$f":"'15'!B5","v":0},{"$f":"'12'!B5","v":0},{"$f":"'10'!B5","v":0}]
[3,{"$f":"'80'!B6","v":0},{"$f":"'40'!B6","v":0},{"$f":"'30'!B6","v":0},{"$f":"'20'!B6","v":0},{"$f":"'17'!B6","v":0},{"$f":"'15'!B6","v":0},{"$f":"'12'!B6","v":0},{"$f":"'10'!B6","v":0}]
[4,{"$f":"'80'!B7","v":0},{"$f":"'40'!B7","v":0},{"$f":"'30'!B7","v":0},{"$f":"'20'!B7","v":0},{"$f":"'17'!B7","v":0},{"$f":"'15'!B7","v":0},{"$f":"'12'!B7","v":0},{"$f":"'10'!B7","v":0}]
[5,{"$f":"'80'!B8","v":0},{"$f":"'40'!B8","v":0},{"$f":"'30'!B8","v":0},{"$f":"'20'!B8","v":0},{"$f":"'17'!B8","v":0},{"$f":"'15'!B8","v":0},{"$f":"'12'!B8","v":0},{"$f":"'10'!B8","v":0}]
[6,{"$f":"'80'!B9","v":0},{"$f":"'40'!B9","v":0},{"$f":"'30'!B9","v":0},{"$f":"'20'!B9","v":0},{"$f":"'17'!B9","v":0},{"$f":"'15'!B9","v":0},{"$f":"'12'!B9","v":0},{"$f":"'10'!B9","v":0}]
[7,{"$f":"'80'!B10","v":0},{"$f":"'40'!B10","v":0},{"$f":"'30'!B10","v":0},{"$f":"'20'!B10","v":0},{"$f":"'17'!B10","v":0},{"$f":"'15'!B10","v":0},{"$f":"'12'!B10","v":0},{"$f":"'10'!B10","v":0}]
[8,{"$f":"'80'!B11","v":0},{"$f":"'40'!B11","v":0},{"$f":"'30'!B11","v":0},{"$f":"'20'!B11","v":0},{"$f":"'17'!B11","v":0},{"$f":"'15'!B11","v":0},{"$f":"'12'!B11","v":0},{"$f":"'10'!B11","v":0}]
[9,{"$f":"'80'!B12","v":0},{"$f":"'40'!B12","v":0},{"$f":"'30'!B12","v":0},{"$f":"'20'!B12","v":0},{"$f":"'17'!B12","v":0},{"$f":"'15'!B12","v":0},{"$f":"'12'!B12","v":0},{"$f":"'10'!B12","v":0}]
[10,{"$f":"'80'!B13","v":0},{"$f":"'40'!B13","v":0},{"$f":"'30'!B13","v":0},{"$f":"'20'!B13","v":0},{"$f":"'17'!B13","v":0},{"$f":"'15'!B13","v":0},{"$f":"'12'!B13","v":0},{"$f":"'10'!B13","v":0}]
[11,{"$f":"'80'!B14","v":0},{"$f":"'40'!B14","v":0},{"$f":"'30'!B14","v":0},{"$f":"'20'!B14","v":0},{"$f":"'17'!B14","v":0},{"$f":"'15'!B14","v":0},{"$f":"'12'!B14","v":0},{"$f":"'10'!B14","v":0}]
[12,{"$f":"'80'!B15","v":0},{"$f":"'40'!B15","v":0},{"$f":"'30'!B15","v":0},{"$f":"'20'!B15","v":0},{"$f":"'17'!B15","v":0},{"$f":"'15'!B15","v":0},{"$f":"'12'!B15","v":0},{"$f":"'10'!B15","v":0}]
[13,{"$f":"'80'!B16","v":0},{"$f":"'40'!B16","v":0},{"$f":"'30'!B16","v":0},{"$f":"'20'!B16","v":0},{"$f":"'17'!B16","v":0},{"$f":"'15'!B16","v":0},{"$f":"'12'!B16","v":0},{"$f":"'10'!B16","v":0}]
[14,{"$f":"'80'!B17","v":0},{"$f":"'40'!B17","v":0},{"$f":"'30'!B17","v":0},{"$f":"'20'!B17","v":0},{"$f":"'17'!B17","v":0},{"$f":"'15'!B17","v":0},{"$f":"'12'!B17","v":0},{"$f":"'10'!B17","v":0}]
[15,{"$f":"'80'!B18","v":0},{"$f":"'40'!B18","v":0},{"$f":"'30'!B18","v":0},{"$f":"'20'!B18","v":0},{"$f":"'17'!B18","v":0},{"$f":"'15'!B18","v":0},{"$f":"'12'!B18","v":0},{"$f":"'10'!B18","v":0}]
[16,{"$f":"'80'!B19","v":0},{"$f":"'40'!B19","v":0},{"$f":"'30'!B19","v":0},{"$f":"'20'!B19","v":0},{"$f":"'17'!B19","v":0},{"$f":"'15'!B19","v":0},{"$f":"'12'!B19","v":0},{"$f":"'10'!B19","v":0}]
[17,{"$f":"'80'!B20","v":0},{"$f":"'40'!B20","v":0},{"$f":"'30'!B20","v":0},{"$f":"'20'!B20","v":0},{"$f":"'17'!B20","v":0},{"$f":"'15'!B20","v":0},{"$f":"'12'!B20","v":0},{"$f":"'10'!B20","v":0}]
[18,{"$f":"'80'!B21","v":0},{"$f":"'40'!B21","v":0},{"$f":"'30'!B21","v":0},{"$f":"'20'!B21","v":0},{"$f":"'17'!B21","v":0},{"$f":"'15'!B21","v":0},{"$f":"'12'!B21","v":0},{"$f":"'10'!B21","v":0}]
[19,{"$f":"'80'!B22","v":0},{"$f":"'40'!B22","v":0},{"$f":"'30'!B22","v":0},{"$f":"'20'!B22","v":0},{"$f":"'17'!B22","v":0},{"$f":"'15'!B22","v":0},{"$f":"'12'!B22","v":0},{"$f":"'10'!B22","v":0}]
[20,{"$f":"'80'!B23","v":0},{"$f":"'40'!B23","v":0},{"$f":"'30'!B23","v":0},{"$f":"'20'!B23","v":0},{"$f":"'17'!B23","v":0},{"$f":"'15'!B23","v":0},{"$f":"'12'!B23","v":0},{"$f":"'10'!B23","v":0}]
[21,{"$f":"'80'!B24","v":0},{"$f":"'40'!B24","v":0},{"$f":"'30'!B24","v":0},{"$f":"'20'!B24","v":0},{"$f":"'17'!B24","v":0},{"$f":"'15'!B24","v":0},{"$f":"'12'!B24","v":0},{"$f":"'10'!B24","v":0}]
[22,{"$f":"'80'!B25","v":0},{"$f":"'40'!B25","v":0},{"$f":"'30'!B25","v":0},{"$f":"'20'!B25","v":0},{"$f":"'17'!B25","v":0},{"$f":"'15'!B25","v":0},{"$f":"'12'!B25","v":0},{"$f":"'10'!B25","v":0}]
[23,{"$f":"'80'!B26","v":0},{"$f":"'40'!B26","v":0},{"$f":"'30'!B26","v":0},{"$f":"'20'!B26","v":0},{"$f":"'17'!B26","v":0},{"$f":"'15'!B26","v":0},{"$f":"'12'!B26","v":0},{"$f":"'10'!B26","v":0}]
[24,{"$f":"'80'!B27","v":0},{"$f":"'40'!B27","v":0},{"$f":"'30'!B27","v":0},{"$f":"'20'!B27","v":0},{"$f":"'17'!B27","v":0},{"$f":"'15'!B27","v":0},{"$f":"'12'!B27","v":0},{"$f":"'10'!B27","v":0}]

{"sheet":"02 VO2","index":9,"n_rows":25,"n_cols":9,"rows_kept":25}
["UT","80M","40M","30M","20M","17M","15M","12M","10M"]
[1,{"$f":"'80'!C4","v":0},{"$f":"'40'!C4","v":0},{"$f":"'30'!C4","v":0},{"$f":"'20'!C4","v":0},{"$f":"'17'!C4","v":0},{"$f":"'15'!C4","v":0},{"$f":"'12'!C4","v":0},{"$f":"'10'!C4","v":0}]
[2,{"$f":"'80'!C5","v":0},{"$f":"'40'!C5","v":0},{"$f":"'30'!C5","v":0},{"$f":"'20'!C5","v":0},{"$f":"'17'!C5","v":0},{"$f":"'15'!C5","v":0},{"$f":"'12'!C5","v":0},{"$f":"'10'!C5","v":0}]
[3,{"$f":"'80'!C6","v":0},{"$f":"'40'!C6","v":0},{"$f":"'30'!C6","v":0},{"$f":"'20'!C6","v":0},{"$f":"'17'!C6","v":0},{"$f":"'15'!C6","v":0},{"$f":"'12'!C6","v":0},{"$f":"'10'!C6","v":0}]
[4,{"$f":"'80'!C7","v":0},{"$f":"'40'!C7","v":0},{"$f":"'30'!C7","v":0},{"$f":"'20'!C7","v":0},{"$f":"'17'!C7","v":0},{"$f":"'15'!C7","v":0},{"$f":"'12'!C7","v":0},{"$f":"'10'!C7","v":0}]
[5,{"$f":"'80'!C8","v":0},{"$f":"'40'!C8","v":0},{"$f":"'30'!C8","v":0},{"$f":"'20'!C8","v":0},{"$f":"'17'!C8","v":0},{"$f":"'15'!C8","v":0},{"$f":"'12'!C8","v":0},{"$f":"'10'!C8","v":0}]
[6,{"$f":"'80'!C9","v":0},{"$f":"'40'!C9","v":0},{"$f":"'30'!C9","v":0},{"$f":"'20'!C9","v":0},{"$f":"'17'!C9","v":0},{"$f":"'15'!C9","v":0},{"$f":"'12'!C9","v":0},{"$f":"'10'!C9","v":0}]
[7,{"$f":"'80'!C10","v":0},{"$f":"'40'!C10","v":0},{"$f":"'30'!C10","v":0},{"$f":"'20'!C10","v":0},{"$f":"'17'!C10","v":0},{"$f":"'15'!C10","v":0},{"$f":"'12'!C10","v":0},{"$f":"'10'!C10","v":0}]
[8,{"$f":"'80'!C11","v":0},{"$f":"'40'!C11","v":0},{"$f":"'30'!C11","v":0},{"$f":"'20'!C11","v":0},{"$f":"'17'!C11","v":0},{"$f":"'15'!C11","v":0},{"$f":"'12'!C11","v":0},{"$f":"'10'!C11","v":0}]
[9,{"$f":"'80'!C12","v":0},{"$f":"'40'!C12","v":0},{"$f":"'30'!C12","v":0},{"$f":"'20'!C12","v":0},{"$f":"'17'!C12","v":0},{"$f":"'15'!C12","v":0},{"$f":"'12'!C12","v":0},{"$f":"'10'!C12","v":0}]
[10,{"$f":"'80'!C13","v":0},{"$f":"'40'!C13","v":0},{"$f":"'30'!C13","v":0},{"$f":"'20'!C13","v":0},{"$f":"'17'!C13","v":0},{"$f":"'15'!C13","v":0},{"$f":"'12'!C13","v":0},{"$f":"'10'!C13","v":0}]
[11,{"$f":"'80'!C14","v":0},{"$f":"'40'!C14","v":0},{"$f":"'30'!C14","v":0},{"$f":"'20'!C14","v":0},{"$f":"'17'!C14","v":0},{"$f":"'15'!C14","v":0},{"$f":"'12'!C14","v":0},{"$f":"'10'!C14","v":0}]
[12,{"$f":"'80'!C15","v":0},{"$f":"'40'!C15","v":0},{"$f":"'30'!C15","v":0},{"$f":"'20'!C15","v":0},{"$f":"'17'!C15","v":0},{"$f":"'15'!C15","v":0},{"$f":"'12'!C15","v":0},{"$f":"'10'!C15","v":0}]
[13,{"$f":"'80'!C16","v":0},{"$f":"'40'!C16","v":0},{"$f":"'30'!C16","v":0},{"$f":"'20'!C16","v":0},{"$f":"'17'!C16","v":0},{"$f":"'15'!C16","v":0},{"$f":"'12'!C16","v":0},{"$f":"'10'!C16","v":0}]
[14,{"$f":"'80'!C17","v":0},{"$f":"'40'!C17","v":0},{"$f":"'30'!C17","v":0},{"$f":"'20'!C17","v":0},{"$f":"'17'!C17","v":0},{"$f":"'15'!C17","v":0},{"$f":"'12'!C17","v":0},{"$f":"'10'!C17","v":0}]
[15,{"$f":"'80'!C18","v":0},{"$f":"'40'!C18","v":0},{"$f":"'30'!C18","v":0},{"$f":"'20'!C18","v":0},{"$f":"'17'!C18","v":0},{"$f":"'15'!C18","v":0},{"$f":"'12'!C18","v":0},{"$f":"'10'!C18","v":0}]
[16,{"$f":"'80'!C19","v":0},{"$f":"'40'!C19","v":0},{"$f":"'30'!C19","v":0},{"$f":"'20'!C19","v":0},{"$f":"'17'!C19","v":0},{"$f":"'15'!C19","v":0},{"$f":"'12'!C19","v":0},{"$f":"'10'!C19","v":0}]
[17,{"$f":"'80'!C20","v":0},{"$f":"'40'!C20","v":0},{"$f":"'30'!C20","v":0},{"$f":"'20'!C20","v":0},{"$f":"'17'!C20","v":0},{"$f":"'15'!C20","v":0},{"$f":"'12'!C20","v":0},{"$f":"'10'!C20","v":0}]
[18,{"$f":"'80'!C21","v":0},{"$f":"'40'!C21","v":0},{"$f":"'30'!C21","v":0},{"$f":"'20'!C21","v":0},{"$f":"'17'!C21","v":0},{"$f":"'15'!C21","v":0},{"$f":"'12'!C21","v":0},{"$f":"'10'!C21","v":0}]
[19,{"$f":"'80'!C22","v":0},{"$f":"'40'!C22","v":0},{"$f":"'30'!C22","v":0},{"$f":"'20'!C22","v":0},{"$f":"'17'!C22","v":0},{"$f":"'15'!C22","v":0},{"$f":"'12'!C22","v":0},{"$f":"'10'!C22","v":0}]
[20,{"$f":"'80'!C23","v":0},{"$f":"'40'!C23","v":0},{"$f":"'30'!C23","v":0},{"$f":"'20'!C23","v":0},{"$f":"'17'!C23","v":0},{"$f":"'15'!C23","v":0},{"$f":"'12'!C23","v":0},{"$f":"'10'!C23","v":0}]
[21,{"$f":"'80'!C24","v":0},{"$f":"'40'!C24","v":0},{"$f":"'30'!C24","v":0},{"$f":"'20'!C24","v":0},{"$f":"'17'!C24","v":0},{"$f":"'15'!C24","v":0},{"$f":"'12'!C24","v":0},{"$f":"'10'!C24","v":0}]
[22,{"$f":"'80'!C25","v":0},{"$f":"'40'!C25","v":0},{"$f":"'30'!C25","v":0},{"$f":"'20'!C25","v":0},{"$f":"'17'!C25","v":0},{"$f":"'15'!C25","v":0},{"$f":"'12'!C25","v":0},{"$f":"'10'!C25","v":0}]
[23,{"$f":"'80'!C26","v":0},{"$f":"'40'!C26","v":0},{"$f":"'30'!C26","v":0},{"$f":"'20'!C26","v":0},{"$f":"'17'!C26","v":0},{"$f":"'15'!C26","v":0},{"$f":"'12'!C26","v":0},{"$f":"'10'!C26","v":0}]
[24,{"$f":"'80'!C27","v":0},{"$f":"'40'!C27","v":0},{"$f":"'30'!C27","v":0},{"$f":"'20'!C27","v":0},{"$f":"'17'!C27","v":0},{"$f":"'15'!C27","v":0},{"$f":"'12'!C27","v":0},{"$f":"'10'!C27","v":0}]

{"sheet":"03 VE7","index":10,"n_rows":25,"n_cols":9,"rows_kept":25}
["UT","80M","40M","30M","20M","17M","15M","12M","10M"]
[1,{"$f":"'80'!D4","v":0},{"$f":"'40'!D4","v":0},{"$f":"'30'!D4","v":0},{"$f":"'20'!D4","v":0},{"$f":"'17'!D4","v":0},{"$f":"'15'!D4","v":0},{"$f":"'12'!D4","v":0},{"$f":"'10'!D4","v":0}]
[2,{"$f":"'80'!D5","v":0},{"$f":"'40'!D5","v":0},{"$f":"'30'!D5","v":0},{"$f":"'20'!D5","v":0},{"$f":"'17'!D5","v":0},{"$f":"'15'!D5","v":0},{"$f":"'12'!D5","v":0},{"$f":"'10'!D5","v":0}]
[3,{"$f":"'80'!D6","v":0},{"$f":"'40'!D6","v":0},{"$f":"'30'!D6","v":0},{"$f":"'20'!D6","v":0},{"$f":"'17'!D6","v":0},{"$f":"'15'!D6","v":0},{"$f":"'12'!D6","v":0},{"$f":"'10'!D6","v":0}]
[4,{"$f":"'80'!D7","v":0},{"$f":"'40'!D7","v":0},{"$f":"'30'!D7","v":0},{"$f":"'20'!D7","v":0},{"$f":"'17'!D7","v":0},{"$f":"'15'!D7","v":0},{"$f":"'12'!D7","v":0},{"$f":"'10'!D7","v":0}]
[5,{"$f":"'80'!D8","v":0},{"$f":"'40'!D8","v":0},{"$f":"'30'!D8","v":0},{"$f":"'20'!D8","v":0},{"$f":"'17'!D8","v":0},{"$f":"'15'!D8","v":0},{"$f":"'12'!D8","v":0},{"$f":"'10'!D8","v":0}]
[6,{"$f":"'80'!D9","v":0},{"$f":"'40'!D9","v":0},{"$f":"'30'!D9","v":0},{"$f":"'20'!D9","v":0},{"$f":"'17'!D9","v":0},{"$f":"'15'!D9","v":0},{"$f":"'12'!D9","v":0},{"$f":"'10'!D9","v":0}]
[7,{"$f":"'80'!D10","v":0},{"$f":"'40'!D10","v":0},{"$f":"'30'!D10","v":0},{"$f":"'20'!D10","v":0},{"$f":"'17'!D10","v":0},{"$f":"'15'!D10","v":0},{"$f":"'12'!D10","v":0},{"$f":"'10'!D10","v":0}]
[8,{"$f":"'80'!D11","v":0},{"$f":"'40'!D11","v":0},{"$f":"'30'!D11","v":0},{"$f":"'20'!D11","v":0},{"$f":"'17'!D11","v":0},{"$f":"'15'!D11","v":0},{"$f":"'12'!D11","v":0},{"$f":"'10'!D11","v":0}]
[9,{"$f":"'80'!D12","v":0},{"$f":"'40'!D12","v":0},{"$f":"'30'!D12","v":0},{"$f":"'20'!D12","v":0},{"$f":"'17'!D12","v":0},{"$f":"'15'!D12","v":0},{"$f":"'12'!D12","v":0},{"$f":"'10'!D12","v":0}]
[10,{"$f":"'80'!D13","v":0},{"$f":"'40'!D13","v":0},{"$f":"'30'!D13","v":0},{"$f":"'20'!D13","v":0},{"$f":"'17'!D13","v":0},{"$f":"'15'!D13","v":0},{"$f":"'12'!D13","v":0},{"$f":"'10'!D13","v":0}]
[11,{"$f":"'80'!D14","v":0},{"$f":"'40'!D14","v":0},{"$f":"'30'!D14","v":0},{"$f":"'20'!D14","v":0},{"$f":"'17'!D14","v":0},{"$f":"'15'!D14","v":0},{"$f":"'12'!D14","v":0},{"$f":"'10'!D14","v":0}]
[12,{"$f":"'80'!D15","v":0},{"$f":"'40'!D15","v":0},{"$f":"'30'!D15","v":0},{"$f":"'20'!D15","v":0},{"$f":"'17'!D15","v":0},{"$f":"'15'!D15","v":0},{"$f":"'12'!D15","v":0},{"$f":"'10'!D15","v":0}]
[13,{"$f":"'80'!D16","v":0},{"$f":"'40'!D16","v":0},{"$f":"'30'!D16","v":0},{"$f":"'20'!D16","v":0},{"$f":"'17'!D16","v":0},{"$f":"'15'!D16","v":0},{"$f":"'12'!D16","v":0},{"$f":"'10'!D16","v":0}]
[14,{"$f":"'80'!D17","v":0},{"$f":"'40'!D17","v":0},{"$f":"'30'!D17","v":0},{"$f":"'20'!D17","v":0},{"$f":"'17'!D17","v":0},{"$f":"'15'!D17","v":0},{"$f":"'12'!D17","v":0},{"$f":"'10'!D17","v":0}]
[15,{"$f":"'80'!D18","v":0},{"$f":"'40'!D18","v":0},{"$f":"'30'!D18","v":0},{"$f":"'20'!D18","v":0},{"$f":"'17'!D18","v":0},{"$f":"'15'!D18","v":0},{"$f":"'12'!D18","v":0},{"$f":"'10'!D18","v":0}]
[16,{"$f":"'80'!D19","v":0},{"$f":"'40'!D19","v":0},{"$f":"'30'!D19","v":0},{"$f":"'20'!D19","v":0},{"$f":"'17'!D19","v":0},{"$f":"'15'!D19","v":0},{"$f":"'12'!D19","v":0},{"$f":"'10'!D19","v":0}]
[17,{"$f":"'80'!D20","v":0},{"$f":"'40'!D20","v":0},{"$f":"'30'!D20","v":0},{"$f":"'20'!D20","v":0},{"$f":"'17'!D20","v":0},{"$f":"'15'!D20","v":0},{"$f":"'12'!D20","v":0},{"$f":"'10'!D20","v":0}]
[18,{"$f":"'80'!D21","v":0},{"$f":"'40'!D21","v":0},{"$f":"'30'!D21","v":0},{"$f":"'20'!D21","v":0},{"$f":"'17'!D21","v":0},{"$f":"'15'!D21","v":0},{"$f":"'12'!D21","v":0},{"$f":"'10'!D21","v":0}]
[19,{"$f":"'80'!D22","v":0},{"$f":"'40'!D22","v":0},{"$f":"'30'!D22","v":0},{"$f":"'20'!D22","v":0},{"$f":"'17'!D22","v":0},{"$f":"'15'!D22","v":0},{"$f":"'12'!D22","v":0},{"$f":"'10'!D22","v":0}]
[20,{"$f":"'80'!D23","v":0},{"$f":"'40'!D23","v":0},{"$f":"'30'!D23","v":0},{"$f":"'20'!D23","v":0},{"$f":"'17'!D23","v":0},{"$f":"'15'!D23","v":0},{"$f":"'12'!D23","v":0},{"$f":"'10'!D23","v":0}]
[21,{"$f":"'80'!D24","v":0},{"$f":"'40'!D24","v":0},{"$f":"'30'!D24","v":0},{"$f":"'20'!D24","v":0},{"$f":"'17'!D24","v":0},{"$f":"'15'!D24","v":0},{"$f":"'12'!D24","v":0},{"$f":"'10'!D24","v":0}]
[22,{"$f":"'80'!D25","v":0},{"$f":"'40'!D25","v":0},{"$f":"'30'!D25","v":0},{"$f":"'20'!D25","v":0},{"$f":"'17'!D25","v":0},{"$f":"'15'!D25","v":0},{"$f":"'12'!D25","v":0},{"$f":"'10'!D25","v":0}]
[23,{"$f":"'80'!D26","v":0},{"$f":"'40'!D26","v":0},{"$f":"'30'!D26","v":0},{"$f":"'20'!D26","v":0},{"$f":"'17'!D26","v":0},{"$f":"'15'!D26","v":0},{"$f":"'12'!D26","v":0},{"$f":"'10'!D26","v":0}]
[24,{"$f":"'80'!D27","v":0},{"$f":"'40'!D27","v":0},{"$f":"'30'!D27","v":0},{"$f":"'20'!D27","v":0},{"$f":"'17'!D27","v":0},{"$f":"'15'!D27","v":0},{"$f":"'12'!D27","v":0},{"$f":"'10'!D27","v":0}]

{"sheet":"03 W6","index":11,"n_rows":25,"n_cols":9,"rows_kept":25}
["UT","80M","40M","30M","20M","17M","15M","12M","10M"]
[1,{"$f":"'80'!E4","v":0},{"$f":"'40'!E4","v":0},{"$f":"'30'!E4","v":0},{"$f":"'20'!E4","v":0},{"$f":"'17'!E4","v":0},{"$f":"'15'!E4","v":0},{"$f":"'12'!E4","v":0},{"$f":"'10'!E4","v":0}]
[2,{"$f":"'80'!E5","v":0},{"$f":"'40'!E5","v":0},{"$f":"'30'!E5","v":0},{"$f":"'20'!E5","v":0},{"$f":"'17'!E5","v":0},{"$f":"'15'!E5","v":0},{"$f":"'12'!E5","v":0},{"$f":"'10'!E5","v":0}]
[3,{"$f":"'80'!E6","v":0},{"$f":"'40'!E6","v":0},{"$f":"'30'!E6","v":0},{"$f":"'20'!E6","v":0},{"$f":"'17'!E6","v":0},{"$f":"'15'!E6","v":0},{"$f":"'12'!E6","v":0},{"$f":"'10'!E6","v":0}]
[4,{"$f":"'80'!E7","v":0},{"$f":"'40'!E7","v":0},{"$f":"'30'!E7","v":0},{"$f":"'20'!E7","v":0},{"$f":"'17'!E7","v":0},{"$f":"'15'!E7","v":0},{"$f":"'12'!E7","v":0},{"$f":"'10'!E7","v":0}]
[5,{"$f":"'80'!E8","v":0},{"$f":"'40'!E8","v":0},{"$f":"'30'!E8","v":0},{"$f":"'20'!E8","v":0},{"$f":"'17'!E8","v":0},{"$f":"'15'!E8","v":0},{"$f":"'12'!E8","v":0},{"$f":"'10'!E8","v":0}]
[6,{"$f":"'80'!E9","v":0},{"$f":"'40'!E9","v":0},{"$f":"'30'!E9","v":0},{"$f":"'20'!E9","v":0},{"$f":"'17'!E9","v":0},{"$f":"'15'!E9","v":0},{"$f":"'12'!E9","v":0},{"$f":"'10'!E9","v":0}]
[7,{"$f":"'80'!E10","v":0},{"$f":"'40'!E10","v":0},{"$f":"'30'!E10","v":0},{"$f":"'20'!E10","v":0},{"$f":"'17'!E10","v":0},{"$f":"'15'!E10","v":0},{"$f":"'12'!E10","v":0},{"$f":"'10'!E10","v":0}]
[8,{"$f":"'80'!E11","v":0},{"$f":"'40'!E11","v":0},{"$f":"'30'!E11","v":0},{"$f":"'20'!E11","v":0},{"$f":"'17'!E11","v":0},{"$f":"'15'!E11","v":0},{"$f":"'12'!E11","v":0},{"$f":"'10'!E11","v":0}]
[9,{"$f":"'80'!E12","v":0},{"$f":"'40'!E12","v":0},{"$f":"'30'!E12","v":0},{"$f":"'20'!E12","v":0},{"$f":"'17'!E12","v":0},{"$f":"'15'!E12","v":0},{"$f":"'12'!E12","v":0},{"$f":"'10'!E12","v":0}]
[10,{"$f":"'80'!E13","v":0},{"$f":"'40'!E13","v":0},{"$f":"'30'!E13","v":0},{"$f":"'20'!E13","v":0},{"$f":"'17'!E13","v":0},{"$f":"'15'!E13","v":0},{"$f":"'12'!E13","v":0},{"$f":"'10'!E13","v":0}]
[11,{"$f":"'80'!E14","v":0},{"$f":"'40'!E14","v":0},{"$f":"'30'!E14","v":0},{"$f":"'20'!E14","v":0},{"$f":"'17'!E14","v":0},{"$f":"'15'!E14","v":0},{"$f":"'12'!E14","v":0},{"$f":"'10'!E14","v":0}]
[12,{"$f":"'80'!E15","v":0},{"$f":"'40'!E15","v":0},{"$f":"'30'!E15","v":0},{"$f":"'20'!E15","v":0},{"$f":"'17'!E15","v":0},{"$f":"'15'!E15","v":0},{"$f":"'12'!E15","v":0},{"$f":"'10'!E15","v":0}]
[13,{"$f":"'80'!E16","v":0},{"$f":"'40'!E16","v":0},{"$f":"'30'!E16","v":0},{"$f":"'20'!E16","v":0},{"$f":"'17'!E16","v":0},{"$f":"'15'!E16","v":0},{"$f":"'12'!E16","v":0},{"$f":"'10'!E16","v":0}]
[14,{"$f":"'80'!E17","v":0},{"$f":"'40'!E17","v":0},{"$f":"'30'!E17","v":0},{"$f":"'20'!E17","v":0},{"$f":"'17'!E17","v":0},{"$f":"'15'!E17","v":0},{"$f":"'12'!E17","v":0},{"$f":"'10'!E17","v":0}]
[15,{"$f":"'80'!E18","v":0},{"$f":"'40'!E18","v":0},{"$f":"'30'!E18","v":0},{"$f":"'20'!E18","v":0},{"$f":"'17'!E18","v":0},{"$f":"'15'!E18","v":0},{"$f":"'12'!E18","v":0},{"$f":"'10'!E18","v":0}]
[16,{"$f":"'80'!E19","v":0},{"$f":"'40'!E19","v":0},{"$f":"'30'!E19","v":0},{"$f":"'20'!E19","v":0},{"$f":"'17'!E19","v":0},{"$f":"'15'!E19","v":0},{"$f":"'12'!E19","v":0},{"$f":"'10'!E19","v":0}]
[17,{"$f":"'80'!E20","v":0},{"$f":"'40'!E20","v":0},{"$f":"'30'!E20","v":0},{"$f":"'20'!E20","v":0},{"$f":"'17'!E20","v":0},{"$f":"'15'!E20","v":0},{"$f":"'12'!E20","v":0},{"$f":"'10'!E20","v":0}]
[18,{"$f":"'80'!E21","v":0},{"$f":"'40'!E21","v":0},{"$f":"'30'!E21","v":0},{"$f":"'20'!E21","v":0},{"$f":"'17'!E21","v":0},{"$f":"'15'!E21","v":0},{"$f":"'12'!E21","v":0},{"$f":"'10'!E21","v":0}]
[19,{"$f":"'80'!E22","v":0},{"$f":"'40'!E22","v":0},{"$f":"'30'!E22","v":0},{"$f":"'20'!E22","v":0},{"$f":"'17'!E22","v":0},{"$f":"'15'!E22","v":0},{"$f":"'12'!E22","v":0},{"$f":"'10'!E22","v":0}]
[20,{"$f":"'80'!E23","v":0},{"$f":"'40'!E23","v":0},{"$f":"'30'!E23","v":0},{"$f":"'20'!E23","v":0},{"$f":"'17'!E23","v":0},{"$f":"'15'!E23","v":0},{"$f":"'12'!E23","v":0},{"$f":"'10'!E23","v":0}]
[21,{"$f":"'80'!E24","v":0},{"$f":"'40'!E24","v":0},{"$f":"'30'!E24","v":0},{"$f":"'20'!E24","v":0},{"$f":"'17'!E24","v":0},{"$f":"'15'!E24","v":0},{"$f":"'12'!E24","v":0},{"$f":"'10'!E24","v":0}]
[22,{"$f":"'80'!E25","v":0},{"$f":"'40'!E25","v":0},{"$f":"'30'!E25","v":0},{"$f":"'20'!E25","v":0},{"$f":"'17'!E25","v":0},{"$f":"'15'!E25","v":0},{"$f":"'12'!E25","v":0},{"$f":"'10'!E25","v":0}]
[23,{"$f":"'80'!E26","v":0},{"$f":"'40'!E26","v":0},{"$f":"'30'!E26","v":0},{"$f":"'20'!E26","v":0},{"$f":"'17'!E26","v":0},{"$f":"'15'!E26","v":0},{"$f":"'12'!E26","v":0},{"$f":"'10'!E26","v":0}]
[24,{"$f":"'80'!E27","v":0},{"$f":"'40'!E27","v":0},{"$f":"'30'!E27","v":0},{"$f":"'20'!E27","v":0},{"$f":"'17'!E27","v":0},{"$f":"'15'!E27","v":0},{"$f":"'12'!E27","v":0},{"$f":"'10'!E27","v":0}]

{"sheet":"04 W0","index":12,"n_rows":25,"n_cols":9,"rows_kept":25}
["UT","80M","40M","30M","20M","17M","15M","12M","10M"]
[1,{"$f":"'80'!F4","v":0},{"$f":"'40'!F4","v":0},{"$f":"'30'!F4","v":0},{"$f":"'20'!F4","v":0},{"$f":"'17'!F4","v":0},{"$f":"'15'!F4","v":0},{"$f":"'12'!F4","v":0},{"$f":"'10'!F4","v":0}]
[2,{"$f":"'80'!F5","v":0},{"$f":"'40'!F5","v":0},{"$f":"'30'!F5","v":0},{"$f":"'20'!F5","v":0},{"$f":"'17'!F5","v":0},{"$f":"'15'!F5","v":0},{"$f":"'12'!F5","v":0},{"$f":"'10'!F5","v":0}]
[3,{"$f":"'80'!F6","v":0},{"$f":"'40'!F6","v":0},{"$f":"'30'!F6","v":0},{"$f":"'20'!F6","v":0},{"$f":"'17'!F6","v":0},{"$f":"'15'!F6","v":0},{"$f":"'12'!F6","v":0},{"$f":"'10'!F6","v":0}]
[4,{"$f":"'80'!F7","v":0},{"$f":"'40'!F7","v":0},{"$f":"'30'!F7","v":0},{"$f":"'20'!F7","v":0},{"$f":"'17'!F7","v":0},{"$f":"'15'!F7","v":0},{"$f":"'12'!F7","v":0},{"$f":"'10'!F7","v":0}]
[5,{"$f":"'80'!F8","v":0},{"$f":"'40'!F8","v":0},{"$f":"'30'!F8","v":0},{"$f":"'20'!F8","v":0},{"$f":"'17'!F8","v":0},{"$f":"'15'!F8","v":0},{"$f":"'12'!F8","v":0},{"$f":"'10'!F8","v":0}]
[6,{"$f":"'80'!F9","v":0},{"$f":"'40'!F9","v":0},{"$f":"'30'!F9","v":0},{"$f":"'20'!F9","v":0},{"$f":"'17'!F9","v":0},{"$f":"'15'!F9","v":0},{"$f":"'12'!F9","v":0},{"$f":"'10'!F9","v":0}]
[7,{"$f":"'80'!F10","v":0},{"$f":"'40'!F10","v":0},{"$f":"'30'!F10","v":0},{"$f":"'20'!F10","v":0},{"$f":"'17'!F10","v":0},{"$f":"'15'!F10","v":0},{"$f":"'12'!F10","v":0},{"$f":"'10'!F10","v":0}]
[8,{"$f":"'80'!F11","v":0},{"$f":"'40'!F11","v":0},{"$f":"'30'!F11","v":0},{"$f":"'20'!F11","v":0},{"$f":"'17'!F11","v":0},{"$f":"'15'!F11","v":0},{"$f":"'12'!F11","v":0},{"$f":"'10'!F11","v":0}]
[9,{"$f":"'80'!F12","v":0},{"$f":"'40'!F12","v":0},{"$f":"'30'!F12","v":0},{"$f":"'20'!F12","v":0},{"$f":"'17'!F12","v":0},{"$f":"'15'!F12","v":0},{"$f":"'12'!F12","v":0},{"$f":"'10'!F12","v":0}]
[10,{"$f":"'80'!F13","v":0},{"$f":"'40'!F13","v":0},{"$f":"'30'!F13","v":0},{"$f":"'20'!F13","v":0},{"$f":"'17'!F13","v":0},{"$f":"'15'!F13","v":0},{"$f":"'12'!F13","v":0},{"$f":"'10'!F13","v":0}]
[11,{"$f":"'80'!F14","v":0},{"$f":"'40'!F14","v":0},{"$f":"'30'!F14","v":0},{"$f":"'20'!F14","v":0},{"$f":"'17'!F14","v":0},{"$f":"'15'!F14","v":0},{"$f":"'12'!F14","v":0},{"$f":"'10'!F14","v":0}]
[12,{"$f":"'80'!F15","v":0},{"$f":"'40'!F15","v":0},{"$f":"'30'!F15","v":0},{"$f":"'20'!F15","v":0},{"$f":"'17'!F15","v":0},{"$f":"'15'!F15","v":0},{"$f":"'12'!F15","v":0},{"$f":"'10'!F15","v":0}]
[13,{"$f":"'80'!F16","v":0},{"$f":"'40'!F16","v":0},{"$f":"'30'!F16","v":0},{"$f":"'20'!F16","v":0},{"$f":"'17'!F16","v":0},{"$f":"'15'!F16","v":0},{"$f":"'12'!F16","v":0},{"$f":"'10'!F16","v":0}]
[14,{"$f":"'80'!F17","v":0},{"$f":"'40'!F17","v":0},{"$f":"'30'!F17","v":0},{"$f":"'20'!F17","v":0},{"$f":"'17'!F17","v":0},{"$f":"'15'!F17","v":0},{"$f":"'12'!F17","v":0},{"$f":"'10'!F17","v":0}]
[15,{"$f":"'80'!F18","v":0},{"$f":"'40'!F18","v":0},{"$f":"'30'!F18","v":0},{"$f":"'20'!F18","v":0},{"$f":"'17'!F18","v":0},{"$f":"'15'!F18","v":0},{"$f":"'12'!F18","v":0},{"$f":"'10'!F18","v":0}]
[16,{"$f":"'80'!F19","v":0},{"$f":"'40'!F19","v":0},{"$f":"'30'!F19","v":0},{"$f":"'20'!F19","v":0},{"$f":"'17'!F19","v":0},{"$f":"'15'!F19","v":0},{"$f":"'12'!F19","v":0},{"$f":"'10'!F19","v":0}]
[17,{"$f":"'80'!F20","v":0},{"$f":"'40'!F20","v":0},{"$f":"'30'!F20","v":0},{"$f":"'20'!F20","v":0},{"$f":"'17'!F20","v":0},{"$f":"'15'!F20","v":0},{"$f":"'12'!F20","v":0},{"$f":"'10'!F20","v":0}]
[18,{"$f":"'80'!F21","v":0},{"$f":"'40'!F21","v":0},{"$f":"'30'!F21","v":0},{"$f":"'20'!F21","v":0},{"$f":"'17'!F21","v":0},{"$f":"'15'!F21","v":0},{"$f":"'12'!F21","v":0},{"$f":"'10'!F21","v":0}]
[19,{"$f":"'80'!F22","v":0},{"$f":"'40'!F22","v":0},{"$f":"'30'!F22","v":0},{"$f":"'20'!F22","v":0},{"$f":"'17'!F22","v":0},{"$f":"'15'!F22","v":0},{"$f":"'12'!F22","v":0},{"$f":"'10'!F22","v":0}]
[20,{"$f":"'80'!F23","v":0},{"$f":"'40'!F23","v":0},{"$f":"'30'!F23","v":0},{"$f":"'20'!F23","v":0},{"$f":"'17'!F23","v":0},{"$f":"'15'!F23","v":0},{"$f":"'12'!F23","v":0},{"$f":"'10'!F23","v":0}]
[21,{"$f":"'80'!F24","v":0},{"$f":"'40'!F24","v":0},{"$f":"'30'!F24","v":0},{"$f":"'20'!F24","v":0},{"$f":"'17'!F24","v":0},{"$f":"'15'!F24","v":0},{"$f":"'12'!F24","v":0},{"$f":"'10'!F24","v":0}]
[22,{"$f":"'80'!F25","v":0},{"$f":"'40'!F25","v":0},{"$f":"'30'!F25","v":0},{"$f":"'20'!F25","v":0},{"$f":"'17'!F25","v":0},{"$f":"'15'!F25","v":0},{"$f":"'12'!F25","v":0},{"$f":"'10'!F25","v":0}]
[23,{"$f":"'80'!F26","v":0},{"$f":"'40'!F26","v":0},{"$f":"'30'!F26","v":0},{"$f":"'20'!F26","v":0},{"$f":"'17'!F26","v":0},{"$f":"'15'!F26","v":0},{"$f":"'12'!F26","v":0},{"$f":"'10'!F26","v":0}]
[24,{"$f":"'80'!F27","v":0},{"$f":"'40'!F27","v":0},{"$f":"'30'!F27","v":0},{"$f":"'20'!F27","v":0},{"$f":"'17'!F27","v":0},{"$f":"'15'!F27","v":0},{"$f":"'12'!F27","v":0},{"$f":"'10'!F27","v":0}]

{"sheet":"04 W5","index":13,"n_rows":25,"n_cols":9,"rows_kept":25}
["UT","80M","40M","30M","20M","17M","15M","12M","10M"]
[1,{"$f":"'80'!G4","v":0},{"$f":"'40'!G4","v":0},{"$f":"'30'!G4","v":0},{"$f":"'20'!G4","v":0},{"$f":"'17'!G4","v":0},{"$f":"'15'!G4","v":0},{"$f":"'12'!G4","v":0},{"$f":"'10'!G4","v":0}]
[2,{"$f":"'80'!G5","v":0},{"$f":"'40'!G5","v":0},{"$f":"'30'!G5","v":0},{"$f":"'20'!G5","v":0},{"$f":"'17'!G5","v":0},{"$f":"'15'!G5","v":0},{"$f":"'12'!G5","v":0},{"$f":"'10'!G5","v":0}]
[3,{"$f":"'80'!G6","v":0},{"$f":"'40'!G6","v":0},{"$f":"'30'!G6","v":0},{"$f":"'20'!G6","v":0},{"$f":"'17'!G6","v":0},{"$f":"'15'!G6","v":0},{"$f":"'12'!G6","v":0},{"$f":"'10'!G6","v":0}]
[4,{"$f":"'80'!G7","v":0},{"$f":"'40'!G7","v":0},{"$f":"'30'!G7","v":0},{"$f":"'20'!G7","v":0},{"$f":"'17'!G7","v":0},{"$f":"'15'!G7","v":0},{"$f":"'12'!G7","v":0},{"$f":"'10'!G7","v":0}]
[5,{"$f":"'80'!G8","v":0},{"$f":"'40'!G8","v":0},{"$f":"'30'!G8","v":0},{"$f":"'20'!G8","v":0},{"$f":"'17'!G8","v":0},{"$f":"'15'!G8","v":0},{"$f":"'12'!G8","v":0},{"$f":"'10'!G8","v":0}]
[6,{"$f":"'80'!G9","v":0},{"$f":"'40'!G9","v":0},{"$f":"'30'!G9","v":0},{"$f":"'20'!G9","v":0},{"$f":"'17'!G9","v":0},{"$f":"'15'!G9","v":0},{"$f":"'12'!G9","v":0},{"$f":"'10'!G9","v":0}]
[7,{"$f":"'80'!G10","v":0},{"$f":"'40'!G10","v":0},{"$f":"'30'!G10","v":0},{"$f":"'20'!G10","v":0},{"$f":"'17'!G10","v":0},{"$f":"'15'!G10","v":0},{"$f":"'12'!G10","v":0},{"$f":"'10'!G10","v":0}]
[8,{"$f":"'80'!G11","v":0},{"$f":"'40'!G11","v":0},{"$f":"'30'!G11","v":0},{"$f":"'20'!G11","v":0},{"$f":"'17'!G11","v":0},{"$f":"'15'!G11","v":0},{"$f":"'12'!G11","v":0},{"$f":"'10'!G11","v":0}]
[9,{"$f":"'80'!G12","v":0},{"$f":"'40'!G12","v":0},{"$f":"'30'!G12","v":0},{"$f":"'20'!G12","v":0},{"$f":"'17'!G12","v":0},{"$f":"'15'!G12","v":0},{"$f":"'12'!G12","v":0},{"$f":"'10'!G12","v":0}]
[10,{"$f":"'80'!G13","v":0},{"$f":"'40'!G13","v":0},{"$f":"'30'!G13","v":0},{"$f":"'20'!G13","v":0},{"$f":"'17'!G13","v":0},{"$f":"'15'!G13","v":0},{"$f":"'12'!G13","v":0},{"$f":"'10'!G13","v":0}]
[11,{"$f":"'80'!G14","v":0},{"$f":"'40'!G14","v":0},{"$f":"'30'!G14","v":0},{"$f":"'20'!G14","v":0},{"$f":"'17'!G14","v":0},{"$f":"'15'!G14","v":0},{"$f":"'12'!G14","v":0},{"$f":"'10'!G14","v":0}]
[12,{"$f":"'80'!G15","v":0},{"$f":"'40'!G15","v":0},{"$f":"'30'!G15","v":0},{"$f":"'20'!G15","v":0},{"$f":"'17'!G15","v":0},{"$f":"'15'!G15","v":0},{"$f":"'12'!G15","v":0},{"$f":"'10'!G15","v":0}]
[13,{"$f":"'80'!G16","v":0},{"$f":"'40'!G16","v":0},{"$f":"'30'!G16","v":0},{"$f":"'20'!G16","v":0},{"$f":"'17'!G16","v":0},{"$f":"'15'!G16","v":0},{"$f":"'12'!G16","v":0},{"$f":"'10'!G16","v":0}]
[14,{"$f":"'80'!G17","v":0},{"$f":"'40'!G17","v":0},{"$f":"'30'!G17","v":0},{"$f":"'20'!G17","v":0},{"$f":"'17'!G17","v":0},{"$f":"'15'!G17","v":0},{"$f":"'12'!G17","v":0},{"$f":"'10'!G17","v":0}]
[15,{"$f":"'80'!G18","v":0},{"$f":"'40'!G18","v":0},{"$f":"'30'!G18","v":0},{"$f":"'20'!G18","v":0},{"$f":"'17'!G18","v":0},{"$f":"'15'!G18","v":0},{"$f":"'12'!G18","v":0},{"$f":"'10'!G18","v":0}]
[16,{"$f":"'80'!G19","v":0},{"$f":"'40'!G19","v":0},{"$f":"'30'!G19","v":0},{"$f":"'20'!G19","v":0},{"$f":"'17'!G19","v":0},{"$f":"'15'!G19","v":0},{"$f":"'12'!G19","v":0},{"$f":"'10'!G19","v":0}]
[17,{"$f":"'80'!G20","v":0},{"$f":"'40'!G20","v":0},{"$f":"'30'!G20","v":0},{"$f":"'20'!G20","v":0},{"$f":"'17'!G20","v":0},{"$f":"'15'!G20","v":0},{"$f":"'12'!G20","v":0},{"$f":"'10'!G20","v":0}]
[18,{"$f":"'80'!G21","v":0},{"$f":"'40'!G21","v":0},{"$f":"'30'!G21","v":0},{"$f":"'20'!G21","v":0},{"$f":"'17'!G21","v":0},{"$f":"'15'!G21","v":0},{"$f":"'12'!G21","v":0},{"$f":"'10'!G21","v":0}]
[19,{"$f":"'80'!G22","v":0},{"$f":"'40'!G22","v":0},{"$f":"'30'!G22","v":0},{"$f":"'20'!G22","v":0},{"$f":"'17'!G22","v":0},{"$f":"'15'!G22","v":0},{"$f":"'12'!G22","v":0},{"$f":"'10'!G22","v":0}]
[20,{"$f":"'80'!G23","v":0},{"$f":"'40'!G23","v":0},{"$f":"'30'!G23","v":0},{"$f":"'20'!G23","v":0},{"$f":"'17'!G23","v":0},{"$f":"'15'!G23","v":0},{"$f":"'12'!G23","v":0},{"$f":"'10'!G23","v":0}]
[21,{"$f":"'80'!G24","v":0},{"$f":"'40'!G24","v":0},{"$f":"'30'!G24","v":0},{"$f":"'20'!G24","v":0},{"$f":"'17'!G24","v":0},{"$f":"'15'!G24","v":0},{"$f":"'12'!G24","v":0},{"$f":"'10'!G24","v":0}]
[22,{"$f":"'80'!G25","v":0},{"$f":"'40'!G25","v":0},{"$f":"'30'!G25","v":0},{"$f":"'20'!G25","v":0},{"$f":"'17'!G25","v":0},{"$f":"'15'!G25","v":0},{"$f":"'12'!G25","v":0},{"$f":"'10'!G25","v":0}]
[23,{"$f":"'80'!G26","v":0},{"$f":"'40'!G26","v":0},{"$f":"'30'!G26","v":0},{"$f":"'20'!G26","v":0},{"$f":"'17'!G26","v":0},{"$f":"'15'!G26","v":0},{"$f":"'12'!G26","v":0},{"$f":"'10'!G26","v":0}]
[24,{"$f":"'80'!G27","v":0},{"$f":"'40'!G27","v":0},{"$f":"'30'!G27","v":0},{"$f":"'20'!G27","v":0},{"$f":"'17'!G27","v":0},{"$f":"'15'!G27","v":0},{"$f":"'12'!G27","v":0},{"$f":"'10'!G27","v":0}]

{"sheet":"05 W1","index":14,"n_rows":25,"n_cols":9,"rows_kept":25}
["UT","80M","40M","30M","20M","17M","15M","12M","10M"]
[1,{"$f":"'80'!H4","v":0},{"$f":"'40'!H4","v":0},{"$f":"'30'!H4","v":0},{"$f":"'20'!H4","v":0},{"$f":"'17'!H4","v":0},{"$f":"'15'!H4","v":0},{"$f":"'12'!H4","v":0},{"$f":"'10'!H4","v":0}]
[2,{"$f":"'80'!H5","v":0},{"$f":"'40'!H5","v":0},{"$f":"'30'!H5","v":0},{"$f":"'20'!H5","v":0},{"$f":"'17'!H5","v":0},{"$f":"'15'!H5","v":0},{"$f":"'12'!H5","v":0},{"$f":"'10'!H5","v":0}]
[3,{"$f":"'80'!H6","v":0},{"$f":"'40'!H6","v":0},{"$f":"'30'!H6","v":0},{"$f":"'20'!H6","v":0},{"$f":"'17'!H6","v":0},{"$f":"'15'!H6","v":0},{"$f":"'12'!H6","v":0},{"$f":"'10'!H6","v":0}]
[4,{"$f":"'80'!H7","v":0},{"$f":"'40'!H7","v":0},{"$f":"'30'!H7","v":0},{"$f":"'20'!H7","v":0},{"$f":"'17'!H7","v":0},{"$f":"'15'!H7","v":0},{"$f":"'12'!H7","v":0},{"$f":"'10'!H7","v":0}]
[5,{"$f":"'80'!H8","v":0},{"$f":"'40'!H8","v":0},{"$f":"'30'!H8","v":0},{"$f":"'20'!H8","v":0},{"$f":"'17'!H8","v":0},{"$f":"'15'!H8","v":0},{"$f":"'12'!H8","v":0},{"$f":"'10'!H8","v":0}]
[6,{"$f":"'80'!H9","v":0},{"$f":"'40'!H9","v":0},{"$f":"'30'!H9","v":0},{"$f":"'20'!H9","v":0},{"$f":"'17'!H9","v":0},{"$f":"'15'!H9","v":0},{"$f":"'12'!H9","v":0},{"$f":"'10'!H9","v":0}]
[7,{"$f":"'80'!H10","v":0},{"$f":"'40'!H10","v":0},{"$f":"'30'!H10","v":0},{"$f":"'20'!H10","v":0},{"$f":"'17'!H10","v":0},{"$f":"'15'!H10","v":0},{"$f":"'12'!H10","v":0},{"$f":"'10'!H10","v":0}]
[8,{"$f":"'80'!H11","v":0},{"$f":"'40'!H11","v":0},{"$f":"'30'!H11","v":0},{"$f":"'20'!H11","v":0},{"$f":"'17'!H11","v":0},{"$f":"'15'!H11","v":0},{"$f":"'12'!H11","v":0},{"$f":"'10'!H11","v":0}]
[9,{"$f":"'80'!H12","v":0},{"$f":"'40'!H12","v":0},{"$f":"'30'!H12","v":0},{"$f":"'20'!H12","v":0},{"$f":"'17'!H12","v":0},{"$f":"'15'!H12","v":0},{"$f":"'12'!H12","v":0},{"$f":"'10'!H12","v":0}]
[10,{"$f":"'80'!H13","v":0},{"$f":"'40'!H13","v":0},{"$f":"'30'!H13","v":0},{"$f":"'20'!H13","v":0},{"$f":"'17'!H13","v":0},{"$f":"'15'!H13","v":0},{"$f":"'12'!H13","v":0},{"$f":"'10'!H13","v":0}]
[11,{"$f":"'80'!H14","v":0},{"$f":"'40'!H14","v":0},{"$f":"'30'!H14","v":0},{"$f":"'20'!H14","v":0},{"$f":"'17'!H14","v":0},{"$f":"'15'!H14","v":0},{"$f":"'12'!H14","v":0},{"$f":"'10'!H14","v":0}]
[12,{"$f":"'80'!H15","v":0},{"$f":"'40'!H15","v":0},{"$f":"'30'!H15","v":0},{"$f":"'20'!H15","v":0},{"$f":"'17'!H15","v":0},{"$f":"'15'!H15","v":0},{"$f":"'12'!H15","v":0},{"$f":"'10'!H15","v":0}]
[13,{"$f":"'80'!H16","v":0},{"$f":"'40'!H16","v":0},{"$f":"'30'!H16","v":0},{"$f":"'20'!H16","v":0},{"$f":"'17'!H16","v":0},{"$f":"'15'!H16","v":0},{"$f":"'12'!H16","v":0},{"$f":"'10'!H16","v":0}]
[14,{"$f":"'80'!H17","v":0},{"$f":"'40'!H17","v":0},{"$f":"'30'!H17","v":0},{"$f":"'20'!H17","v":0},{"$f":"'17'!H17","v":0},{"$f":"'15'!H17","v":0},{"$f":"'12'!H17","v":0},{"$f":"'10'!H17","v":0}]
[15,{"$f":"'80'!H18","v":0},{"$f":"'40'!H18","v":0},{"$f":"'30'!H18","v":0},{"$f":"'20'!H18","v":0},{"$f":"'17'!H18","v":0},{"$f":"'15'!H18","v":0},{"$f":"'12'!H18","v":0},{"$f":"'10'!H18","v":0}]
[16,{"$f":"'80'!H19","v":0},{"$f":"'40'!H19","v":0},{"$f":"'30'!H19","v":0},{"$f":"'20'!H19","v":0},{"$f":"'17'!H19","v":0},{"$f":"'15'!H19","v":0},{"$f":"'12'!H19","v":0},{"$f":"'10'!H19","v":0}]
[17,{"$f":"'80'!H20","v":0},{"$f":"'40'!H20","v":0},{"$f":"'30'!H20","v":0},{"$f":"'20'!H20","v":0},{"$f":"'17'!H20","v":0},{"$f":"'15'!H20","v":0},{"$f":"'12'!H20","v":0},{"$f":"'10'!H20","v":0}]
[18,{"$f":"'80'!H21","v":0},{"$f":"'40'!H21","v":0},{"$f":"'30'!H21","v":0},{"$f":"'20'!H21","v":0},{"$f":"'17'!H21","v":0},{"$f":"'15'!H21","v":0},{"$f":"'12'!H21","v":0},{"$f":"'10'!H21","v":0}]
[19,{"$f":"'80'!H22","v":0},{"$f":"'40'!H22","v":0},{"$f":"'30'!H22","v":0},{"$f":"'20'!H22","v":0},{"$f":"'17'!H22","v":0},{"$f":"'15'!H22","v":0},{"$f":"'12'!H22","v":0},{"$f":"'10'!H22","v":0}]
[20,{"$f":"'80'!H23","v":0},{"$f":"'40'!H23","v":0},{"$f":"'30'!H23","v":0},{"$f":"'20'!H23","v":0},{"$f":"'17'!H23","v":0},{"$f":"'15'!H23","v":0},{"$f":"'12'!H23","v":0},{"$f":"'10'!H23","v":0}]
[21,{"$f":"'80'!H24","v":0},{"$f":"'40'!H24","v":0},{"$f":"'30'!H24","v":0},{"$f":"'20'!H24","v":0},{"$f":"'17'!H24","v":0},{"$f":"'15'!H24","v":0},{"$f":"'12'!H24","v":0},{"$f":"'10'!H24","v":0}]
[22,{"$f":"'80'!H25","v":0},{"$f":"'40'!H25","v":0},{"$f":"'30'!H25","v":0},{"$f":"'20'!H25","v":0},{"$f":"'17'!H25","v":0},{"$f":"'15'!H25","v":0},{"$f":"'12'!H25","v":0},{"$f":"'10'!H25","v":0}]
[23,{"$f":"'80'!H26","v":0},{"$f":"'40'!H26","v":0},{"$f":"'30'!H26","v":0},{"$f":"'20'!H26","v":0},{"$f":"'17'!H26","v":0},{"$f":"'15'!H26","v":0},{"$f":"'12'!H26","v":0},{"$f":"'10'!H26","v":0}]
[24,{"$f":"'80'!H27","v":0},{"$f":"'40'!H27","v":0},{"$f":"'30'!H27","v":0},{"$f":"'20'!H27","v":0},{"$f":"'17'!H27","v":0},{"$f":"'15'!H27","v":0},{"$f":"'12'!H27","v":0},{"$f":"'10'!H27","v":0}]

{"sheet":"05 W4","index":15,"n_rows":25,"n_cols":9,"rows_kept":25}
["UT","80M","40M","30M","20M","17M","15M","12M","10M"]
[1,{"$f":"'80'!I4","v":0},{"$f":"'40'!I4","v":0},{"$f":"'30'!I4","v":0},{"$f":"'20'!I4","v":0},{"$f":"'17'!I4","v":0},{"$f":"'15'!I4","v":0},{"$f":"'12'!I4","v":0},{"$f":"'10'!I4","v":0}]
[2,{"$f":"'80'!I5","v":0},{"$f":"'40'!I5","v":0},{"$f":"'30'!I5","v":0},{"$f":"'20'!I5","v":0},{"$f":"'17'!I5","v":0},{"$f":"'15'!I5","v":0},{"$f":"'12'!I5","v":0},{"$f":"'10'!I5","v":0}]
[3,{"$f":"'80'!I6","v":0},{"$f":"'40'!I6","v":0},{"$f":"'30'!I6","v":0},{"$f":"'20'!I6","v":0},{"$f":"'17'!I6","v":0},{"$f":"'15'!I6","v":0},{"$f":"'12'!I6","v":0},{"$f":"'10'!I6","v":0}]
[4,{"$f":"'80'!I7","v":0},{"$f":"'40'!I7","v":0},{"$f":"'30'!I7","v":0},{"$f":"'20'!I7","v":0},{"$f":"'17'!I7","v":0},{"$f":"'15'!I7","v":0},{"$f":"'12'!I7","v":0},{"$f":"'10'!I7","v":0}]
[5,{"$f":"'80'!I8","v":0},{"$f":"'40'!I8","v":0},{"$f":"'30'!I8","v":0},{"$f":"'20'!I8","v":0},{"$f":"'17'!I8","v":0},{"$f":"'15'!I8","v":0},{"$f":"'12'!I8","v":0},{"$f":"'10'!I8","v":0}]
[6,{"$f":"'80'!I9","v":0},{"$f":"'40'!I9","v":0},{"$f":"'30'!I9","v":0},{"$f":"'20'!I9","v":0},{"$f":"'17'!I9","v":0},{"$f":"'15'!I9","v":0},{"$f":"'12'!I9","v":0},{"$f":"'10'!I9","v":0}]
[7,{"$f":"'80'!I10","v":0},{"$f":"'40'!I10","v":0},{"$f":"'30'!I10","v":0},{"$f":"'20'!I10","v":0},{"$f":"'17'!I10","v":0},{"$f":"'15'!I10","v":0},{"$f":"'12'!I10","v":0},{"$f":"'10'!I10","v":0}]
[8,{"$f":"'80'!I11","v":0},{"$f":"'40'!I11","v":0},{"$f":"'30'!I11","v":0},{"$f":"'20'!I11","v":0},{"$f":"'17'!I11","v":0},{"$f":"'15'!I11","v":0},{"$f":"'12'!I11","v":0},{"$f":"'10'!I11","v":0}]
[9,{"$f":"'80'!I12","v":0},{"$f":"'40'!I12","v":0},{"$f":"'30'!I12","v":0},{"$f":"'20'!I12","v":0},{"$f":"'17'!I12","v":0},{"$f":"'15'!I12","v":0},{"$f":"'12'!I12","v":0},{"$f":"'10'!I12","v":0}]
[10,{"$f":"'80'!I13","v":0},{"$f":"'40'!I13","v":0},{"$f":"'30'!I13","v":0},{"$f":"'20'!I13","v":0},{"$f":"'17'!I13","v":0},{"$f":"'15'!I13","v":0},{"$f":"'12'!I13","v":0},{"$f":"'10'!I13","v":0}]
[11,{"$f":"'80'!I14","v":0},{"$f":"'40'!I14","v":0},{"$f":"'30'!I14","v":0},{"$f":"'20'!I14","v":0},{"$f":"'17'!I14","v":0},{"$f":"'15'!I14","v":0},{"$f":"'12'!I14","v":0},{"$f":"'10'!I14","v":0}]
[12,{"$f":"'80'!I15","v":0},{"$f":"'40'!I15","v":0},{"$f":"'30'!I15","v":0},{"$f":"'20'!I15","v":0},{"$f":"'17'!I15","v":0},{"$f":"'15'!I15","v":0},{"$f":"'12'!I15","v":0},{"$f":"'10'!I15","v":0}]
[13,{"$f":"'80'!I16","v":0},{"$f":"'40'!I16","v":0},{"$f":"'30'!I16","v":0},{"$f":"'20'!I16","v":0},{"$f":"'17'!I16","v":0},{"$f":"'15'!I16","v":0},{"$f":"'12'!I16","v":0},{"$f":"'10'!I16","v":0}]
[14,{"$f":"'80'!I17","v":0},{"$f":"'40'!I17","v":0},{"$f":"'30'!I17","v":0},{"$f":"'20'!I17","v":0},{"$f":"'17'!I17","v":0},{"$f":"'15'!I17","v":0},{"$f":"'12'!I17","v":0},{"$f":"'10'!I17","v":0}]
[15,{"$f":"'80'!I18","v":0},{"$f":"'40'!I18","v":0},{"$f":"'30'!I18","v":0},{"$f":"'20'!I18","v":0},{"$f":"'17'!I18","v":0},{"$f":"'15'!I18","v":0},{"$f":"'12'!I18","v":0},{"$f":"'10'!I18","v":0}]
[16,{"$f":"'80'!I19","v":0},{"$f":"'40'!I19","v":0},{"$f":"'30'!I19","v":0},{"$f":"'20'!I19","v":0},{"$f":"'17'!I19","v":0},{"$f":"'15'!I19","v":0},{"$f":"'12'!I19","v":0},{"$f":"'10'!I19","v":0}]
[17,{"$f":"'80'!I20","v":0},{"$f":"'40'!I20","v":0},{"$f":"'30'!I20","v":0},{"$f":"'20'!I20","v":0},{"$f":"'17'!I20","v":0},{"$f":"'15'!I20","v":0},{"$f":"'12'!I20","v":0},{"$f":"'10'!I20","v":0}]
[18,{"$f":"'80'!I21","v":0},{"$f":"'40'!I21","v":0},{"$f":"'30'!I21","v":0},{"$f":"'20'!I21","v":0},{"$f":"'17'!I21","v":0},{"$f":"'15'!I21","v":0},{"$f":"'12'!I21","v":0},{"$f":"'10'!I21","v":0}]
[19,{"$f":"'80'!I22","v":0},{"$f":"'40'!I22","v":0},{"$f":"'30'!I22","v":0},{"$f":"'20'!I22","v":0},{"$f":"'17'!I22","v":0},{"$f":"'15'!I22","v":0},{"$f":"'12'!I22","v":0},{"$f":"'10'!I22","v":0}]
[20,{"$f":"'80'!I23","v":0},{"$f":"'40'!I23","v":0},{"$f":"'30'!I23","v":0},{"$f":"'20'!I23","v":0},{"$f":"'17'!I23","v":0},{"$f":"'15'!I23","v":0},{"$f":"'12'!I23","v":0},{"$f":"'10'!I23","v":0}]
[21,{"$f":"'80'!I24","v":0},{"$f":"'40'!I24","v":0},{"$f":"'30'!I24","v":0},{"$f":"'20'!I24","v":0},{"$f":"'17'!I24","v":0},{"$f":"'15'!I24","v":0},{"$f":"'12'!I24","v":0},{"$f":"'10'!I24","v":0}]
[22,{"$f":"'80'!I25","v":0},{"$f":"'40'!I25","v":0},{"$f":"'30'!I25","v":0},{"$f":"'20'!I25","v":0},{"$f":"'17'!I25","v":0},{"$f":"'15'!I25","v":0},{"$f":"'12'!I25","v":0},{"$f":"'10'!I25","v":0}]
[23,{"$f":"'80'!I26","v":0},{"$f":"'40'!I26","v":0},{"$f":"'30'!I26","v":0},{"$f":"'20'!I26","v":0},{"$f":"'17'!I26","v":0},{"$f":"'15'!I26","v":0},{"$f":"'12'!I26","v":0},{"$f":"'10'!I26","v":0}]
[24,{"$f":"'80'!I27","v":0},{"$f":"'40'!I27","v":0},{"$f":"'30'!I27","v":0},{"$f":"'20'!I27","v":0},{"$f":"'17'!I27","v":0},{"$f":"'15'!I27","v":0},{"$f":"'12'!I27","v":0},{"$f":"'10'!I27","v":0}]

{"sheet":"06 XE","index":16,"n_rows":25,"n_cols":9,"rows_kept":25}
["UT","80M","40M","30M","20M","17M","15M","12M","10M"]
[1,{"$f":"'80'!J4","v":0},{"$f":"'40'!J4","v":0},{"$f":"'30'!J4","v":0},{"$f":"'20'!J4","v":0},{"$f":"'17'!J4","v":0},{"$f":"'15'!J4","v":0},{"$f":"'12'!J4","v":0},{"$f":"'10'!J4","v":0}]
[2,{"$f":"'80'!J5","v":0},{"$f":"'40'!J5","v":0},{"$f":"'30'!J5","v":0},{"$f":"'20'!J5","v":0},{"$f":"'17'!J5","v":0},{"$f":"'15'!J5","v":0},{"$f":"'12'!J5","v":0},{"$f":"'10'!J5","v":0}]
[3,{"$f":"'80'!J6","v":0},{"$f":"'40'!J6","v":0},{"$f":"'30'!J6","v":0},{"$f":"'20'!J6","v":0},{"$f":"'17'!J6","v":0},{"$f":"'15'!J6","v":0},{"$f":"'12'!J6","v":0},{"$f":"'10'!J6","v":0}]
[4,{"$f":"'80'!J7","v":0},{"$f":"'40'!J7","v":0},{"$f":"'30'!J7","v":0},{"$f":"'20'!J7","v":0},{"$f":"'17'!J7","v":0},{"$f":"'15'!J7","v":0},{"$f":"'12'!J7","v":0},{"$f":"'10'!J7","v":0}]
[5,{"$f":"'80'!J8","v":0},{"$f":"'40'!J8","v":0},{"$f":"'30'!J8","v":0},{"$f":"'20'!J8","v":0},{"$f":"'17'!J8","v":0},{"$f":"'15'!J8","v":0},{"$f":"'12'!J8","v":0},{"$f":"'10'!J8","v":0}]
[6,{"$f":"'80'!J9","v":0},{"$f":"'40'!J9","v":0},{"$f":"'30'!J9","v":0},{"$f":"'20'!J9","v":0},{"$f":"'17'!J9","v":0},{"$f":"'15'!J9","v":0},{"$f":"'12'!J9","v":0},{"$f":"'10'!J9","v":0}]
[7,{"$f":"'80'!J10","v":0},{"$f":"'40'!J10","v":0},{"$f":"'30'!J10","v":0},{"$f":"'20'!J10","v":0},{"$f":"'17'!J10","v":0},{"$f":"'15'!J10","v":0},{"$f":"'12'!J10","v":0},{"$f":"'10'!J10","v":0}]
[8,{"$f":"'80'!J11","v":0},{"$f":"'40'!J11","v":0},{"$f":"'30'!J11","v":0},{"$f":"'20'!J11","v":0},{"$f":"'17'!J11","v":0},{"$f":"'15'!J11","v":0},{"$f":"'12'!J11","v":0},{"$f":"'10'!J11","v":0}]
[9,{"$f":"'80'!J12","v":0},{"$f":"'40'!J12","v":0},{"$f":"'30'!J12","v":0},{"$f":"'20'!J12","v":0},{"$f":"'17'!J12","v":0},{"$f":"'15'!J12","v":0},{"$f":"'12'!J12","v":0},{"$f":"'10'!J12","v":0}]
[10,{"$f":"'80'!J13","v":0},{"$f":"'40'!J13","v":0},{"$f":"'30'!J13","v":0},{"$f":"'20'!J13","v":0},{"$f":"'17'!J13","v":0},{"$f":"'15'!J13","v":0},{"$f":"'12'!J13","v":0},{"$f":"'10'!J13","v":0}]
[11,{"$f":"'80'!J14","v":0},{"$f":"'40'!J14","v":0},{"$f":"'30'!J14","v":0},{"$f":"'20'!J14","v":0},{"$f":"'17'!J14","v":0},{"$f":"'15'!J14","v":0},{"$f":"'12'!J14","v":0},{"$f":"'10'!J14","v":0}]
[12,{"$f":"'80'!J15","v":0},{"$f":"'40'!J15","v":0},{"$f":"'30'!J15","v":0},{"$f":"'20'!J15","v":0},{"$f":"'17'!J15","v":0},{"$f":"'15'!J15","v":0},{"$f":"'12'!J15","v":0},{"$f":"'10'!J15","v":0}]
[13,{"$f":"'80'!J16","v":0},{"$f":"'40'!J16","v":0},{"$f":"'30'!J16","v":0},{"$f":"'20'!J16","v":0},{"$f":"'17'!J16","v":0},{"$f":"'15'!J16","v":0},{"$f":"'12'!J16","v":0},{"$f":"'10'!J16","v":0}]
[14,{"$f":"'80'!J17","v":0},{"$f":"'40'!J17","v":0},{"$f":"'30'!J17","v":0},{"$f":"'20'!J17","v":0},{"$f":"'17'!J17","v":0},{"$f":"'15'!J17","v":0},{"$f":"'12'!J17","v":0},{"$f":"'10'!J17","v":0}]
[15,{"$f":"'80'!J18","v":0},{"$f":"'40'!J18","v":0},{"$f":"'30'!J18","v":0},{"$f":"'20'!J18","v":0},{"$f":"'17'!J18","v":0},{"$f":"'15'!J18","v":0},{"$f":"'12'!J18","v":0},{"$f":"'10'!J18","v":0}]
[16,{"$f":"'80'!J19","v":0},{"$f":"'40'!J19","v":0},{"$f":"'30'!J19","v":0},{"$f":"'20'!J19","v":0},{"$f":"'17'!J19","v":0},{"$f":"'15'!J19","v":0},{"$f":"'12'!J19","v":0},{"$f":"'10'!J19","v":0}]
[17,{"$f":"'80'!J20","v":0},{"$f":"'40'!J20","v":0},{"$f":"'30'!J20","v":0},{"$f":"'20'!J20","v":0},{"$f":"'17'!J20","v":0},{"$f":"'15'!J20","v":0},{"$f":"'12'!J20","v":0},{"$f":"'10'!J20","v":0}]
[18,{"$f":"'80'!J21","v":0},{"$f":"'40'!J21","v":0},{"$f":"'30'!J21","v":0},{"$f":"'20'!J21","v":0},{"$f":"'17'!J21","v":0},{"$f":"'15'!J21","v":0},{"$f":"'12'!J21","v":0},{"$f":"'10'!J21","v":0}]
[19,{"$f":"'80'!J22","v":0},{"$f":"'40'!J22","v":0},{"$f":"'30'!J22","v":0},{"$f":"'20'!J22","v":0},{"$f":"'17'!J22","v":0},{"$f":"'15'!J22","v":0},{"$f":"'12'!J22","v":0},{"$f":"'10'!J22","v":0}]
[20,{"$f":"'80'!J23","v":0},{"$f":"'40'!J23","v":0},{"$f":"'30'!J23","v":0},{"$f":"'20'!J23","v":0},{"$f":"'17'!J23","v":0},{"$f":"'15'!J23","v":0},{"$f":"'12'!J23","v":0},{"$f":"'10'!J23","v":0}]
[21,{"$f":"'80'!J24","v":0},{"$f":"'40'!J24","v":0},{"$f":"'30'!J24","v":0},{"$f":"'20'!J24","v":0},{"$f":"'17'!J24","v":0},{"$f":"'15'!J24","v":0},{"$f":"'12'!J24","v":0},{"$f":"'10'!J24","v":0}]
[22,{"$f":"'80'!J25","v":0},{"$f":"'40'!J25","v":0},{"$f":"'30'!J25","v":0},{"$f":"'20'!J25","v":0},{"$f":"'17'!J25","v":0},{"$f":"'15'!J25","v":0},{"$f":"'12'!J25","v":0},{"$f":"'10'!J25","v":0}]
[23,{"$f":"'80'!J26","v":0},{"$f":"'40'!J26","v":0},{"$f":"'30'!J26","v":0},{"$f":"'20'!J26","v":0},{"$f":"'17'!J26","v":0},{"$f":"'15'!J26","v":0},{"$f":"'12'!J26","v":0},{"$f":"'10'!J26","v":0}]
[24,{"$f":"'80'!J27","v":0},{"$f":"'40'!J27","v":0},{"$f":"'30'!J27","v":0},{"$f":"'20'!J27","v":0},{"$f":"'17'!J27","v":0},{"$f":"'15'!J27","v":0},{"$f":"'12'!J27","v":0},{"$f":"'10'!J27","v":0}]

{"sheet":"07 TI","index":17,"n_rows":25,"n_cols":9,"rows_kept":25}
["UT","80M","40M","30M","20M","17M","15M","12M","10M"]
[1,{"$f":"'80'!K4","v":0},{"$f":"'40'!K4","v":0},{"$f":"'30'!K4","v":0},{"$f":"'20'!K4","v":0},{"$f":"'17'!K4","v":0},{"$f":"'15'!K4","v":0},{"$f":"'12'!K4","v":0},{"$f":"'10'!K4","v":0}]
[2,{"$f":"'80'!K5","v":0},{"$f":"'40'!K5","v":0},{"$f":"'30'!K5","v":0},{"$f":"'20'!K5","v":0},{"$f":"'17'!K5","v":0},{"$f":"'15'!K5","v":0},{"$f":"'12'!K5","v":0},{"$f":"'10'!K5","v":0}]
[3,{"$f":"'80'!K6","v":0},{"$f":"'40'!K6","v":0},{"$f":"'30'!K6","v":0},{"$f":"'20'!K6","v":0},{"$f":"'17'!K6","v":0},{"$f":"'15'!K6","v":0},{"$f":"'12'!K6","v":0},{"$f":"'10'!K6","v":0}]
[4,{"$f":"'80'!K7","v":0},{"$f":"'40'!K7","v":0},{"$f":"'30'!K7","v":0},{"$f":"'20'!K7","v":0},{"$f":"'17'!K7","v":0},{"$f":"'15'!K7","v":0},{"$f":"'12'!K7","v":0},{"$f":"'10'!K7","v":0}]
[5,{"$f":"'80'!K8","v":0},{"$f":"'40'!K8","v":0},{"$f":"'30'!K8","v":0},{"$f":"'20'!K8","v":0},{"$f":"'17'!K8","v":0},{"$f":"'15'!K8","v":0},{"$f":"'12'!K8","v":0},{"$f":"'10'!K8","v":0}]
[6,{"$f":"'80'!K9","v":0},{"$f":"'40'!K9","v":0},{"$f":"'30'!K9","v":0},{"$f":"'20'!K9","v":0},{"$f":"'17'!K9","v":0},{"$f":"'15'!K9","v":0},{"$f":"'12'!K9","v":0},{"$f":"'10'!K9","v":0}]
[7,{"$f":"'80'!K10","v":0},{"$f":"'40'!K10","v":0},{"$f":"'30'!K10","v":0},{"$f":"'20'!K10","v":0},{"$f":"'17'!K10","v":0},{"$f":"'15'!K10","v":0},{"$f":"'12'!K10","v":0},{"$f":"'10'!K10","v":0}]
[8,{"$f":"'80'!K11","v":0},{"$f":"'40'!K11","v":0},{"$f":"'30'!K11","v":0},{"$f":"'20'!K11","v":0},{"$f":"'17'!K11","v":0},{"$f":"'15'!K11","v":0},{"$f":"'12'!K11","v":0},{"$f":"'10'!K11","v":0}]
[9,{"$f":"'80'!K12","v":0},{"$f":"'40'!K12","v":0},{"$f":"'30'!K12","v":0},{"$f":"'20'!K12","v":0},{"$f":"'17'!K12","v":0},{"$f":"'15'!K12","v":0},{"$f":"'12'!K12","v":0},{"$f":"'10'!K12","v":0}]
[10,{"$f":"'80'!K13","v":0},{"$f":"'40'!K13","v":0},{"$f":"'30'!K13","v":0},{"$f":"'20'!K13","v":0},{"$f":"'17'!K13","v":0},{"$f":"'15'!K13","v":0},{"$f":"'12'!K13","v":0},{"$f":"'10'!K13","v":0}]
[11,{"$f":"'80'!K14","v":0},{"$f":"'40'!K14","v":0},{"$f":"'30'!K14","v":0},{"$f":"'20'!K14","v":0},{"$f":"'17'!K14","v":0},{"$f":"'15'!K14","v":0},{"$f":"'12'!K14","v":0},{"$f":"'10'!K14","v":0}]
[12,{"$f":"'80'!K15","v":0},{"$f":"'40'!K15","v":0},{"$f":"'30'!K15","v":0},{"$f":"'20'!K15","v":0},{"$f":"'17'!K15","v":0},{"$f":"'15'!K15","v":0},{"$f":"'12'!K15","v":0},{"$f":"'10'!K15","v":0}]
[13,{"$f":"'80'!K16","v":0},{"$f":"'40'!K16","v":0},{"$f":"'30'!K16","v":0},{"$f":"'20'!K16","v":0},{"$f":"'17'!K16","v":0},{"$f":"'15'!K16","v":0},{"$f":"'12'!K16","v":0},{"$f":"'10'!K16","v":0}]
[14,{"$f":"'80'!K17","v":0},{"$f":"'40'!K17","v":0},{"$f":"'30'!K17","v":0},{"$f":"'20'!K17","v":0},{"$f":"'17'!K17","v":0},{"$f":"'15'!K17","v":0},{"$f":"'12'!K17","v":0},{"$f":"'10'!K17","v":0}]
[15,{"$f":"'80'!K18","v":0},{"$f":"'40'!K18","v":0},{"$f":"'30'!K18","v":0},{"$f":"'20'!K18","v":0},{"$f":"'17'!K18","v":0},{"$f":"'15'!K18","v":0},{"$f":"'12'!K18","v":0},{"$f":"'10'!K18","v":0}]
[16,{"$f":"'80'!K19","v":0},{"$f":"'40'!K19","v":0},{"$f":"'30'!K19","v":0},{"$f":"'20'!K19","v":0},{"$f":"'17'!K19","v":0},{"$f":"'15'!K19","v":0},{"$f":"'12'!K19","v":0},{"$f":"'10'!K19","v":0}]
[17,{"$f":"'80'!K20","v":0},{"$f":"'40'!K20","v":0},{"$f":"'30'!K20","v":0},{"$f":"'20'!K20","v":0},{"$f":"'17'!K20","v":0},{"$f":"'15'!K20","v":0},{"$f":"'12'!K20","v":0},{"$f":"'10'!K20","v":0}]
[18,{"$f":"'80'!K21","v":0},{"$f":"'40'!K21","v":0},{"$f":"'30'!K21","v":0},{"$f":"'20'!K21","v":0},{"$f":"'17'!K21","v":0},{"$f":"'15'!K21","v":0},{"$f":"'12'!K21","v":0},{"$f":"'10'!K21","v":0}]
[19,{"$f":"'80'!K22","v":0},{"$f":"'40'!K22","v":0},{"$f":"'30'!K22","v":0},{"$f":"'20'!K22","v":0},{"$f":"'17'!K22","v":0},{"$f":"'15'!K22","v":0},{"$f":"'12'!K22","v":0},{"$f":"'10'!K22","v":0}]
[20,{"$f":"'80'!K23","v":0},{"$f":"'40'!K23","v":0},{"$f":"'30'!K23","v":0},{"$f":"'20'!K23","v":0},{"$f":"'17'!K23","v":0},{"$f":"'15'!K23","v":0},{"$f":"'12'!K23","v":0},{"$f":"'10'!K23","v":0}]
[21,{"$f":"'80'!K24","v":0},{"$f":"'40'!K24","v":0},{"$f":"'30'!K24","v":0},{"$f":"'20'!K24","v":0},{"$f":"'17'!K24","v":0},{"$f":"'15'!K24","v":0},{"$f":"'12'!K24","v":0},{"$f":"'10'!K24","v":0}]
[22,{"$f":"'80'!K25","v":0},{"$f":"'40'!K25","v":0},{"$f":"'30'!K25","v":0},{"$f":"'20'!K25","v":0},{"$f":"'17'!K25","v":0},{"$f":"'15'!K25","v":0},{"$f":"'12'!K25","v":0},{"$f":"'10'!K25","v":0}]
[23,{"$f":"'80'!K26","v":0},{"$f":"'40'!K26","v":0},{"$f":"'30'!K26","v":0},{"$f":"'20'!K26","v":0},{"$f":"'17'!K26","v":0},{"$f":"'15'!K26","v":0},{"$f":"'12'!K26","v":0},{"$f":"'10'!K26","v":0}]
[24,{"$f":"'80'!K27","v":0},{"$f":"'40'!K27","v":0},{"$f":"'30'!K27","v":0},{"$f":"'20'!K27","v":0},{"$f":"'17'!K27","v":0},{"$f":"'15'!K27","v":0},{"$f":"'12'!K27","v":0},{"$f":"'10'!K27","v":0}]

{"sheet":"08 KP4","index":18,"n_rows":25,"n_cols":9,"rows_kept":25}
["UT","80M","40M","30M","20M","17M","15M","12M","10M"]
[1,{"$f":"'80'!L4","v":0},{"$f":"'40'!L4","v":0},{"$f":"'30'!L4","v":0},{"$f":"'20'!L4","v":0},{"$f":"'17'!L4","v":0},{"$f":"'15'!L4","v":0},{"$f":"'12'!L4","v":0},{"$f":"'10'!L4","v":0}]
[2,{"$f":"'80'!L5","v":0},{"$f":"'40'!L5","v":0},{"$f":"'30'!L5","v":0},{"$f":"'20'!L5","v":0},{"$f":"'17'!L5","v":0},{"$f":"'15'!L5","v":0},{"$f":"'12'!L5","v":0},{"$f":"'10'!L5","v":0}]
[3,{"$f":"'80'!L6","v":0},{"$f":"'40'!L6","v":0},{"$f":"'30'!L6","v":0},{"$f":"'20'!L6","v":0},{"$f":"'17'!L6","v":0},{"$f":"'15'!L6","v":0},{"$f":"'12'!L6","v":0},{"$f":"'10'!L6","v":0}]
[4,{"$f":"'80'!L7","v":0},{"$f":"'40'!L7","v":0},{"$f":"'30'!L7","v":0},{"$f":"'20'!L7","v":0},{"$f":"'17'!L7","v":0},{"$f":"'15'!L7","v":0},{"$f":"'12'!L7","v":0},{"$f":"'10'!L7","v":0}]
[5,{"$f":"'80'!L8","v":0},{"$f":"'40'!L8","v":0},{"$f":"'30'!L8","v":0},{"$f":"'20'!L8","v":0},{"$f":"'17'!L8","v":0},{"$f":"'15'!L8","v":0},{"$f":"'12'!L8","v":0},{"$f":"'10'!L8","v":0}]
[6,{"$f":"'80'!L9","v":0},{"$f":"'40'!L9","v":0},{"$f":"'30'!L9","v":0},{"$f":"'20'!L9","v":0},{"$f":"'17'!L9","v":0},{"$f":"'15'!L9","v":0},{"$f":"'12'!L9","v":0},{"$f":"'10'!L9","v":0}]
[7,{"$f":"'80'!L10","v":0},{"$f":"'40'!L10","v":0},{"$f":"'30'!L10","v":0},{"$f":"'20'!L10","v":0},{"$f":"'17'!L10","v":0},{"$f":"'15'!L10","v":0},{"$f":"'12'!L10","v":0},{"$f":"'10'!L10","v":0}]
[8,{"$f":"'80'!L11","v":0},{"$f":"'40'!L11","v":0},{"$f":"'30'!L11","v":0},{"$f":"'20'!L11","v":0},{"$f":"'17'!L11","v":0},{"$f":"'15'!L11","v":0},{"$f":"'12'!L11","v":0},{"$f":"'10'!L11","v":0}]
[9,{"$f":"'80'!L12","v":0},{"$f":"'40'!L12","v":0},{"$f":"'30'!L12","v":0},{"$f":"'20'!L12","v":0},{"$f":"'17'!L12","v":0},{"$f":"'15'!L12","v":0},{"$f":"'12'!L12","v":0},{"$f":"'10'!L12","v":0}]
[10,{"$f":"'80'!L13","v":0},{"$f":"'40'!L13","v":0},{"$f":"'30'!L13","v":0},{"$f":"'20'!L13","v":0},{"$f":"'17'!L13","v":0},{"$f":"'15'!L13","v":0},{"$f":"'12'!L13","v":0},{"$f":"'10'!L13","v":0}]
[11,{"$f":"'80'!L14","v":0},{"$f":"'40'!L14","v":0},{"$f":"'30'!L14","v":0},{"$f":"'20'!L14","v":0},{"$f":"'17'!L14","v":0},{"$f":"'15'!L14","v":0},{"$f":"'12'!L14","v":0},{"$f":"'10'!L14","v":0}]
[12,{"$f":"'80'!L15","v":0},{"$f":"'40'!L15","v":0},{"$f":"'30'!L15","v":0},{"$f":"'20'!L15","v":0},{"$f":"'17'!L15","v":0},{"$f":"'15'!L15","v":0},{"$f":"'12'!L15","v":0},{"$f":"'10'!L15","v":0}]
[13,{"$f":"'80'!L16","v":0},{"$f":"'40'!L16","v":0},{"$f":"'30'!L16","v":0},{"$f":"'20'!L16","v":0},{"$f":"'17'!L16","v":0},{"$f":"'15'!L16","v":0},{"$f":"'12'!L16","v":0},{"$f":"'10'!L16","v":0}]
[14,{"$f":"'80'!L17","v":0},{"$f":"'40'!L17","v":0},{"$f":"'30'!L17","v":0},{"$f":"'20'!L17","v":0},{"$f":"'17'!L17","v":0},{"$f":"'15'!L17","v":0},{"$f":"'12'!L17","v":0},{"$f":"'10'!L17","v":0}]
[15,{"$f":"'80'!L18","v":0},{"$f":"'40'!L18","v":0},{"$f":"'30'!L18","v":0},{"$f":"'20'!L18","v":0},{"$f":"'17'!L18","v":0},{"$f":"'15'!L18","v":0},{"$f":"'12'!L18","v":0},{"$f":"'10'!L18","v":0}]
[16,{"$f":"'80'!L19","v":0},{"$f":"'40'!L19","v":0},{"$f":"'30'!L19","v":0},{"$f":"'20'!L19","v":0},{"$f":"'17'!L19","v":0},{"$f":"'15'!L19","v":0},{"$f":"'12'!L19","v":0},{"$f":"'10'!L19","v":0}]
[17,{"$f":"'80'!L20","v":0},{"$f":"'40'!L20","v":0},{"$f":"'30'!L20","v":0},{"$f":"'20'!L20","v":0},{"$f":"'17'!L20","v":0},{"$f":"'15'!L20","v":0},{"$f":"'12'!L20","v":0},{"$f":"'10'!L20","v":0}]
[18,{"$f":"'80'!L21","v":0},{"$f":"'40'!L21","v":0},{"$f":"'30'!L21","v":0},{"$f":"'20'!L21","v":0},{"$f":"'17'!L21","v":0},{"$f":"'15'!L21","v":0},{"$f":"'12'!L21","v":0},{"$f":"'10'!L21","v":0}]
[19,{"$f":"'80'!L22","v":0},{"$f":"'40'!L22","v":0},{"$f":"'30'!L22","v":0},{"$f":"'20'!L22","v":0},{"$f":"'17'!L22","v":0},{"$f":"'15'!L22","v":0},{"$f":"'12'!L22","v":0},{"$f":"'10'!L22","v":0}]
[20,{"$f":"'80'!L23","v":0},{"$f":"'40'!L23","v":0},{"$f":"'30'!L23","v":0},{"$f":"'20'!L23","v":0},{"$f":"'17'!L23","v":0},{"$f":"'15'!L23","v":0},{"$f":"'12'!L23","v":0},{"$f":"'10'!L23","v":0}]
[21,{"$f":"'80'!L24","v":0},{"$f":"'40'!L24","v":0},{"$f":"'30'!L24","v":0},{"$f":"'20'!L24","v":0},{"$f":"'17'!L24","v":0},{"$f":"'15'!L24","v":0},{"$f":"'12'!L24","v":0},{"$f":"'10'!L24","v":0}]
[22,{"$f":"'80'!L25","v":0},{"$f":"'40'!L25","v":0},{"$f":"'30'!L25","v":0},{"$f":"'20'!L25","v":0},{"$f":"'17'!L25","v":0},{"$f":"'15'!L25","v":0},{"$f":"'12'!L25","v":0},{"$f":"'10'!L25","v":0}]
[23,{"$f":"'80'!L26","v":0},{"$f":"'40'!L26","v":0},{"$f":"'30'!L26","v":0},{"$f":"'20'!L26","v":0},{"$f":"'17'!L26","v":0},{"$f":"'15'!L26","v":0},{"$f":"'12'!L26","v":0},{"$f":"'10'!L26","v":0}]
[24,{"$f":"'80'!L27","v":0},{"$f":"'40'!L27","v":0},{"$f":"'30'!L27","v":0},{"$f":"'20'!L27","v":0},{"$f":"'17'!L27","v":0},{"$f":"'15'!L27","v":0},{"$f":"'12'!L27","v":0},{"$f":"'10'!L27","v":0}]

{"sheet":"09 8R","index":19,"n_rows":25,"n_cols":9,"rows_kept":25}
["UT","80M","40M","30M","20M","17M","15M","12M","10M"]
[1,{"$f":"'80'!M4","v":0},{"$f":"'40'!M4","v":0},{"$f":"'30'!M4","v":0},{"$f":"'20'!M4","v":0},{"$f":"'17'!M4","v":0},{"$f":"'15'!M4","v":0},{"$f":"'12'!M4","v":0},{"$f":"'10'!M4","v":0}]
[2,{"$f":"'80'!M5","v":0},{"$f":"'40'!M5","v":0},{"$f":"'30'!M5","v":0},{"$f":"'20'!M5","v":0},{"$f":"'17'!M5","v":0},{"$f":"'15'!M5","v":0},{"$f":"'12'!M5","v":0},{"$f":"'10'!M5","v":0}]
[3,{"$f":"'80'!M6","v":0},{"$f":"'40'!M6","v":0},{"$f":"'30'!M6","v":0},{"$f":"'20'!M6","v":0},{"$f":"'17'!M6","v":0},{"$f":"'15'!M6","v":0},{"$f":"'12'!M6","v":0},{"$f":"'10'!M6","v":0}]
[4,{"$f":"'80'!M7","v":0},{"$f":"'40'!M7","v":0},{"$f":"'30'!M7","v":0},{"$f":"'20'!M7","v":0},{"$f":"'17'!M7","v":0},{"$f":"'15'!M7","v":0},{"$f":"'12'!M7","v":0},{"$f":"'10'!M7","v":0}]
[5,{"$f":"'80'!M8","v":0},{"$f":"'40'!M8","v":0},{"$f":"'30'!M8","v":0},{"$f":"'20'!M8","v":0},{"$f":"'17'!M8","v":0},{"$f":"'15'!M8","v":0},{"$f":"'12'!M8","v":0},{"$f":"'10'!M8","v":0}]
[6,{"$f":"'80'!M9","v":0},{"$f":"'40'!M9","v":0},{"$f":"'30'!M9","v":0},{"$f":"'20'!M9","v":0},{"$f":"'17'!M9","v":0},{"$f":"'15'!M9","v":0},{"$f":"'12'!M9","v":0},{"$f":"'10'!M9","v":0}]
[7,{"$f":"'80'!M10","v":0},{"$f":"'40'!M10","v":0},{"$f":"'30'!M10","v":0},{"$f":"'20'!M10","v":0},{"$f":"'17'!M10","v":0},{"$f":"'15'!M10","v":0},{"$f":"'12'!M10","v":0},{"$f":"'10'!M10","v":0}]
[8,{"$f":"'80'!M11","v":0},{"$f":"'40'!M11","v":0},{"$f":"'30'!M11","v":0},{"$f":"'20'!M11","v":0},{"$f":"'17'!M11","v":0},{"$f":"'15'!M11","v":0},{"$f":"'12'!M11","v":0},{"$f":"'10'!M11","v":0}]
[9,{"$f":"'80'!M12","v":0},{"$f":"'40'!M12","v":0},{"$f":"'30'!M12","v":0},{"$f":"'20'!M12","v":0},{"$f":"'17'!M12","v":0},{"$f":"'15'!M12","v":0},{"$f":"'12'!M12","v":0},{"$f":"'10'!M12","v":0}]
[10,{"$f":"'80'!M13","v":0},{"$f":"'40'!M13","v":0},{"$f":"'30'!M13","v":0},{"$f":"'20'!M13","v":0},{"$f":"'17'!M13","v":0},{"$f":"'15'!M13","v":0},{"$f":"'12'!M13","v":0},{"$f":"'10'!M13","v":0}]
[11,{"$f":"'80'!M14","v":0},{"$f":"'40'!M14","v":0},{"$f":"'30'!M14","v":0},{"$f":"'20'!M14","v":0},{"$f":"'17'!M14","v":0},{"$f":"'15'!M14","v":0},{"$f":"'12'!M14","v":0},{"$f":"'10'!M14","v":0}]
[12,{"$f":"'80'!M15","v":0},{"$f":"'40'!M15","v":0},{"$f":"'30'!M15","v":0},{"$f":"'20'!M15","v":0},{"$f":"'17'!M15","v":0},{"$f":"'15'!M15","v":0},{"$f":"'12'!M15","v":0},{"$f":"'10'!M15","v":0}]
[13,{"$f":"'80'!M16","v":0},{"$f":"'40'!M16","v":0},{"$f":"'30'!M16","v":0},{"$f":"'20'!M16","v":0},{"$f":"'17'!M16","v":0},{"$f":"'15'!M16","v":0},{"$f":"'12'!M16","v":0},{"$f":"'10'!M16","v":0}]
[14,{"$f":"'80'!M17","v":0},{"$f":"'40'!M17","v":0},{"$f":"'30'!M17","v":0},{"$f":"'20'!M17","v":0},{"$f":"'17'!M17","v":0},{"$f":"'15'!M17","v":0},{"$f":"'12'!M17","v":0},{"$f":"'10'!M17","v":0}]
[15,{"$f":"'80'!M18","v":0},{"$f":"'40'!M18","v":0},{"$f":"'30'!M18","v":0},{"$f":"'20'!M18","v":0},{"$f":"'17'!M18","v":0},{"$f":"'15'!M18","v":0},{"$f":"'12'!M18","v":0},{"$f":"'10'!M18","v":0}]
[16,{"$f":"'80'!M19","v":0},{"$f":"'40'!M19","v":0},{"$f":"'30'!M19","v":0},{"$f":"'20'!M19","v":0},{"$f":"'17'!M19","v":0},{"$f":"'15'!M19","v":0},{"$f":"'12'!M19","v":0},{"$f":"'10'!M19","v":0}]
[17,{"$f":"'80'!M20","v":0},{"$f":"'40'!M20","v":0},{"$f":"'30'!M20","v":0},{"$f":"'20'!M20","v":0},{"$f":"'17'!M20","v":0},{"$f":"'15'!M20","v":0},{"$f":"'12'!M20","v":0},{"$f":"'10'!M20","v":0}]
[18,{"$f":"'80'!M21","v":0},{"$f":"'40'!M21","v":0},{"$f":"'30'!M21","v":0},{"$f":"'20'!M21","v":0},{"$f":"'17'!M21","v":0},{"$f":"'15'!M21","v":0},{"$f":"'12'!M21","v":0},{"$f":"'10'!M21","v":0}]
[19,{"$f":"'80'!M22","v":0},{"$f":"'40'!M22","v":0},{"$f":"'30'!M22","v":0},{"$f":"'20'!M22","v":0},{"$f":"'17'!M22","v":0},{"$f":"'15'!M22","v":0},{"$f":"'12'!M22","v":0},{"$f":"'10'!M22","v":0}]
[20,{"$f":"'80'!M23","v":0},{"$f":"'40'!M23","v":0},{"$f":"'30'!M23","v":0},{"$f":"'20'!M23","v":0},{"$f":"'17'!M23","v":0},{"$f":"'15'!M23","v":0},{"$f":"'12'!M23","v":0},{"$f":"'10'!M23","v":0}]
[21,{"$f":"'80'!M24","v":0},{"$f":"'40'!M24","v":0},{"$f":"'30'!M24","v":0},{"$f":"'20'!M24","v":0},{"$f":"'17'!M24","v":0},{"$f":"'15'!M24","v":0},{"$f":"'12'!M24","v":0},{"$f":"'10'!M24","v":0}]
[22,{"$f":"'80'!M25","v":0},{"$f":"'40'!M25","v":0},{"$f":"'30'!M25","v":0},{"$f":"'20'!M25","v":0},{"$f":"'17'!M25","v":0},{"$f":"'15'!M25","v":0},{"$f":"'12'!M25","v":0},{"$f":"'10'!M25","v":0}]
[23,{"$f":"'80'!M26","v":0},{"$f":"'40'!M26","v":0},{"$f":"'30'!M26","v":0},{"$f":"'20'!M26","v":0},{"$f":"'17'!M26","v":0},{"$f":"'15'!M26","v":0},{"$f":"'12'!M26","v":0},{"$f":"'10'!M26","v":0}]
[24,{"$f":"'80'!M27","v":0},{"$f":"'40'!M27","v":0},{"$f":"'30'!M27","v":0},{"$f":"'20'!M27","v":0},{"$f":"'17'!M27","v":0},{"$f":"'15'!M27","v":0},{"$f":"'12'!M27","v":0},{"$f":"'10'!M27","v":0}]

{"sheet":"10 OA","index":20,"n_rows":25,"n_cols":9,"rows_kept":25}
["UT","80M","40M","30M","20M","17M","15M","12M","10M"]
[1,{"$f":"'80'!N4","v":0},{"$f":"'40'!N4","v":0},{"$f":"'30'!N4","v":0},{"$f":"'20'!N4","v":0},{"$f":"'17'!N4","v":0},{"$f":"'15'!N4","v":0},{"$f":"'12'!N4","v":0},{"$f":"'10'!N4","v":0}]
[2,{"$f":"'80'!N5","v":0},{"$f":"'40'!N5","v":0},{"$f":"'30'!N5","v":0},{"$f":"'20'!N5","v":0},{"$f":"'17'!N5","v":0},{"$f":"'15'!N5","v":0},{"$f":"'12'!N5","v":0},{"$f":"'10'!N5","v":0}]
[3,{"$f":"'80'!N6","v":0},{"$f":"'40'!N6","v":0},{"$f":"'30'!N6","v":0},{"$f":"'20'!N6","v":0},{"$f":"'17'!N6","v":0},{"$f":"'15'!N6","v":0},{"$f":"'12'!N6","v":0},{"$f":"'10'!N6","v":0}]
[4,{"$f":"'80'!N7","v":0},{"$f":"'40'!N7","v":0},{"$f":"'30'!N7","v":0},{"$f":"'20'!N7","v":0},{"$f":"'17'!N7","v":0},{"$f":"'15'!N7","v":0},{"$f":"'12'!N7","v":0},{"$f":"'10'!N7","v":0}]
[5,{"$f":"'80'!N8","v":0},{"$f":"'40'!N8","v":0},{"$f":"'30'!N8","v":0},{"$f":"'20'!N8","v":0},{"$f":"'17'!N8","v":0},{"$f":"'15'!N8","v":0},{"$f":"'12'!N8","v":0},{"$f":"'10'!N8","v":0}]
[6,{"$f":"'80'!N9","v":0},{"$f":"'40'!N9","v":0},{"$f":"'30'!N9","v":0},{"$f":"'20'!N9","v":0},{"$f":"'17'!N9","v":0},{"$f":"'15'!N9","v":0},{"$f":"'12'!N9","v":0},{"$f":"'10'!N9","v":0}]
[7,{"$f":"'80'!N10","v":0},{"$f":"'40'!N10","v":0},{"$f":"'30'!N10","v":0},{"$f":"'20'!N10","v":0},{"$f":"'17'!N10","v":0},{"$f":"'15'!N10","v":0},{"$f":"'12'!N10","v":0},{"$f":"'10'!N10","v":0}]
[8,{"$f":"'80'!N11","v":0},{"$f":"'40'!N11","v":0},{"$f":"'30'!N11","v":0},{"$f":"'20'!N11","v":0},{"$f":"'17'!N11","v":0},{"$f":"'15'!N11","v":0},{"$f":"'12'!N11","v":0},{"$f":"'10'!N11","v":0}]
[9,{"$f":"'80'!N12","v":0},{"$f":"'40'!N12","v":0},{"$f":"'30'!N12","v":0},{"$f":"'20'!N12","v":0},{"$f":"'17'!N12","v":0},{"$f":"'15'!N12","v":0},{"$f":"'12'!N12","v":0},{"$f":"'10'!N12","v":0}]
[10,{"$f":"'80'!N13","v":0},{"$f":"'40'!N13","v":0},{"$f":"'30'!N13","v":0},{"$f":"'20'!N13","v":0},{"$f":"'17'!N13","v":0},{"$f":"'15'!N13","v":0},{"$f":"'12'!N13","v":0},{"$f":"'10'!N13","v":0}]
[11,{"$f":"'80'!N14","v":0},{"$f":"'40'!N14","v":0},{"$f":"'30'!N14","v":0},{"$f":"'20'!N14","v":0},{"$f":"'17'!N14","v":0},{"$f":"'15'!N14","v":0},{"$f":"'12'!N14","v":0},{"$f":"'10'!N14","v":0}]
[12,{"$f":"'80'!N15","v":0},{"$f":"'40'!N15","v":0},{"$f":"'30'!N15","v":0},{"$f":"'20'!N15","v":0},{"$f":"'17'!N15","v":0},{"$f":"'15'!N15","v":0},{"$f":"'12'!N15","v":0},{"$f":"'10'!N15","v":0}]
[13,{"$f":"'80'!N16","v":0},{"$f":"'40'!N16","v":0},{"$f":"'30'!N16","v":0},{"$f":"'20'!N16","v":0},{"$f":"'17'!N16","v":0},{"$f":"'15'!N16","v":0},{"$f":"'12'!N16","v":0},{"$f":"'10'!N16","v":0}]
[14,{"$f":"'80'!N17","v":0},{"$f":"'40'!N17","v":0},{"$f":"'30'!N17","v":0},{"$f":"'20'!N17","v":0},{"$f":"'17'!N17","v":0},{"$f":"'15'!N17","v":0},{"$f":"'12'!N17","v":0},{"$f":"'10'!N17","v":0}]
[15,{"$f":"'80'!N18","v":0},{"$f":"'40'!N18","v":0},{"$f":"'30'!N18","v":0},{"$f":"'20'!N18","v":0},{"$f":"'17'!N18","v":0},{"$f":"'15'!N18","v":0},{"$f":"'12'!N18","v":0},{"$f":"'10'!N18","v":0}]
[16,{"$f":"'80'!N19","v":0},{"$f":"'40'!N19","v":0},{"$f":"'30'!N19","v":0},{"$f":"'20'!N19","v":0},{"$f":"'17'!N19","v":0},{"$f":"'15'!N19","v":0},{"$f":"'12'!N19","v":0},{"$f":"'10'!N19","v":0}]
[17,{"$f":"'80'!N20","v":0},{"$f":"'40'!N20","v":0},{"$f":"'30'!N20","v":0},{"$f":"'20'!N20","v":0},{"$f":"'17'!N20","v":0},{"$f":"'15'!N20","v":0},{"$f":"'12'!N20","v":0},{"$f":"'10'!N20","v":0}]
[18,{"$f":"'80'!N21","v":0},{"$f":"'40'!N21","v":0},{"$f":"'30'!N21","v":0},{"$f":"'20'!N21","v":0},{"$f":"'17'!N21","v":0},{"$f":"'15'!N21","v":0},{"$f":"'12'!N21","v":0},{"$f":"'10'!N21","v":0}]
[19,{"$f":"'80'!N22","v":0},{"$f":"'40'!N22","v":0},{"$f":"'30'!N22","v":0},{"$f":"'20'!N22","v":0},{"$f":"'17'!N22","v":0},{"$f":"'15'!N22","v":0},{"$f":"'12'!N22","v":0},{"$f":"'10'!N22","v":0}]
[20,{"$f":"'80'!N23","v":0},{"$f":"'40'!N23","v":0},{"$f":"'30'!N23","v":0},{"$f":"'20'!N23","v":0},{"$f":"'17'!N23","v":0},{"$f":"'15'!N23","v":0},{"$f":"'12'!N23","v":0},{"$f":"'10'!N23","v":0}]
[21,{"$f":"'80'!N24","v":0},{"$f":"'40'!N24","v":0},{"$f":"'30'!N24","v":0},{"$f":"'20'!N24","v":0},{"$f":"'17'!N24","v":0},{"$f":"'15'!N24","v":0},{"$f":"'12'!N24","v":0},{"$f":"'10'!N24","v":0}]
[22,{"$f":"'80'!N25","v":0},{"$f":"'40'!N25","v":0},{"$f":"'30'!N25","v":0},{"$f":"'20'!N25","v":0},{"$f":"'17'!N25","v":0},{"$f":"'15'!N25","v":0},{"$f":"'12'!N25","v":0},{"$f":"'10'!N25","v":0}]
[23,{"$f":"'80'!N26","v":0},{"$f":"'40'!N26","v":0},{"$f":"'30'!N26","v":0},{"$f":"'20'!N26","v":0},{"$f":"'17'!N26","v":0},{"$f":"'15'!N26","v":0},{"$f":"'12'!N26","v":0},{"$f":"'10'!N26","v":0}]
[24,{"$f":"'80'!N27","v":0},{"$f":"'40'!N27","v":0},{"$f":"'30'!N27","v":0},{"$f":"'20'!N27","v":0},{"$f":"'17'!N27","v":0},{"$f":"'15'!N27","v":0},{"$f":"'12'!N27","v":0},{"$f":"'10'!N27","v":0}]

{"sheet":"11 PY2","index":21,"n_rows":25,"n_cols":9,"rows_kept":25}
["UT","80M","40M","30M","20M","17M","15M","12M","10M"]
[1,{"$f":"'80'!O4","v":0},{"$f":"'40'!O4","v":0},{"$f":"'30'!O4","v":0},{"$f":"'20'!O4","v":0},{"$f":"'17'!O4","v":0},{"$f":"'15'!O4","v":0},{"$f":"'12'!O4","v":0},{"$f":"'10'!O4","v":0}]
[2,{"$f":"'80'!O5","v":0},{"$f":"'40'!O5","v":0},{"$f":"'30'!O5","v":0},{"$f":"'20'!O5","v":0},{"$f":"'17'!O5","v":0},{"$f":"'15'!O5","v":0},{"$f":"'12'!O5","v":0},{"$f":"'10'!O5","v":0}]
[3,{"$f":"'80'!O6","v":0},{"$f":"'40'!O6","v":0},{"$f":"'30'!O6","v":0},{"$f":"'20'!O6","v":0},{"$f":"'17'!O6","v":0},{"$f":"'15'!O6","v":0},{"$f":"'12'!O6","v":0},{"$f":"'10'!O6","v":0}]
[4,{"$f":"'80'!O7","v":0},{"$f":"'40'!O7","v":0},{"$f":"'30'!O7","v":0},{"$f":"'20'!O7","v":0},{"$f":"'17'!O7","v":0},{"$f":"'15'!O7","v":0},{"$f":"'12'!O7","v":0},{"$f":"'10'!O7","v":0}]
[5,{"$f":"'80'!O8","v":0},{"$f":"'40'!O8","v":0},{"$f":"'30'!O8","v":0},{"$f":"'20'!O8","v":0},{"$f":"'17'!O8","v":0},{"$f":"'15'!O8","v":0},{"$f":"'12'!O8","v":0},{"$f":"'10'!O8","v":0}]
[6,{"$f":"'80'!O9","v":0},{"$f":"'40'!O9","v":0},{"$f":"'30'!O9","v":0},{"$f":"'20'!O9","v":0},{"$f":"'17'!O9","v":0},{"$f":"'15'!O9","v":0},{"$f":"'12'!O9","v":0},{"$f":"'10'!O9","v":0}]
[7,{"$f":"'80'!O10","v":0},{"$f":"'40'!O10","v":0},{"$f":"'30'!O10","v":0},{"$f":"'20'!O10","v":0},{"$f":"'17'!O10","v":0},{"$f":"'15'!O10","v":0},{"$f":"'12'!O10","v":0},{"$f":"'10'!O10","v":0}]
[8,{"$f":"'80'!O11","v":0},{"$f":"'40'!O11","v":0},{"$f":"'30'!O11","v":0},{"$f":"'20'!O11","v":0},{"$f":"'17'!O11","v":0},{"$f":"'15'!O11","v":0},{"$f":"'12'!O11","v":0},{"$f":"'10'!O11","v":0}]
[9,{"$f":"'80'!O12","v":0},{"$f":"'40'!O12","v":0},{"$f":"'30'!O12","v":0},{"$f":"'20'!O12","v":0},{"$f":"'17'!O12","v":0},{"$f":"'15'!O12","v":0},{"$f":"'12'!O12","v":0},{"$f":"'10'!O12","v":0}]
[10,{"$f":"'80'!O13","v":0},{"$f":"'40'!O13","v":0},{"$f":"'30'!O13","v":0},{"$f":"'20'!O13","v":0},{"$f":"'17'!O13","v":0},{"$f":"'15'!O13","v":0},{"$f":"'12'!O13","v":0},{"$f":"'10'!O13","v":0}]
[11,{"$f":"'80'!O14","v":0},{"$f":"'40'!O14","v":0},{"$f":"'30'!O14","v":0},{"$f":"'20'!O14","v":0},{"$f":"'17'!O14","v":0},{"$f":"'15'!O14","v":0},{"$f":"'12'!O14","v":0},{"$f":"'10'!O14","v":0}]
[12,{"$f":"'80'!O15","v":0},{"$f":"'40'!O15","v":0},{"$f":"'30'!O15","v":0},{"$f":"'20'!O15","v":0},{"$f":"'17'!O15","v":0},{"$f":"'15'!O15","v":0},{"$f":"'12'!O15","v":0},{"$f":"'10'!O15","v":0}]
[13,{"$f":"'80'!O16","v":0},{"$f":"'40'!O16","v":0},{"$f":"'30'!O16","v":0},{"$f":"'20'!O16","v":0},{"$f":"'17'!O16","v":0},{"$f":"'15'!O16","v":0},{"$f":"'12'!O16","v":0},{"$f":"'10'!O16","v":0}]
[14,{"$f":"'80'!O17","v":0},{"$f":"'40'!O17","v":0},{"$f":"'30'!O17","v":0},{"$f":"'20'!O17","v":0},{"$f":"'17'!O17","v":0},{"$f":"'15'!O17","v":0},{"$f":"'12'!O17","v":0},{"$f":"'10'!O17","v":0}]
[15,{"$f":"'80'!O18","v":0},{"$f":"'40'!O18","v":0},{"$f":"'30'!O18","v":0},{"$f":"'20'!O18","v":0},{"$f":"'17'!O18","v":0},{"$f":"'15'!O18","v":0},{"$f":"'12'!O18","v":0},{"$f":"'10'!O18","v":0}]
[16,{"$f":"'80'!O19","v":0},{"$f":"'40'!O19","v":0},{"$f":"'30'!O19","v":0},{"$f":"'20'!O19","v":0},{"$f":"'17'!O19","v":0},{"$f":"'15'!O19","v":0},{"$f":"'12'!O19","v":0},{"$f":"'10'!O19","v":0}]
[17,{"$f":"'80'!O20","v":0},{"$f":"'40'!O20","v":0},{"$f":"'30'!O20","v":0},{"$f":"'20'!O20","v":0},{"$f":"'17'!O20","v":0},{"$f":"'15'!O20","v":0},{"$f":"'12'!O20","v":0},{"$f":"'10'!O20","v":0}]
[18,{"$f":"'80'!O21","v":0},{"$f":"'40'!O21","v":0},{"$f":"'30'!O21","v":0},{"$f":"'20'!O21","v":0},{"$f":"'17'!O21","v":0},{"$f":"'15'!O21","v":0},{"$f":"'12'!O21","v":0},{"$f":"'10'!O21","v":0}]
[19,{"$f":"'80'!O22","v":0},{"$f":"'40'!O22","v":0},{"$f":"'30'!O22","v":0},{"$f":"'20'!O22","v":0},{"$f":"'17'!O22","v":0},{"$f":"'15'!O22","v":0},{"$f":"'12'!O22","v":0},{"$f":"'10'!O22","v":0}]
[20,{"$f":"'80'!O23","v":0},{"$f":"'40'!O23","v":0},{"$f":"'30'!O23","v":0},{"$f":"'20'!O23","v":0},{"$f":"'17'!O23","v":0},{"$f":"'15'!O23","v":0},{"$f":"'12'!O23","v":0},{"$f":"'10'!O23","v":0}]
[21,{"$f":"'80'!O24","v":0},{"$f":"'40'!O24","v":0},{"$f":"'30'!O24","v":0},{"$f":"'20'!O24","v":0},{"$f":"'17'!O24","v":0},{"$f":"'15'!O24","v":0},{"$f":"'12'!O24","v":0},{"$f":"'10'!O24","v":0}]
[22,{"$f":"'80'!O25","v":0},{"$f":"'40'!O25","v":0},{"$f":"'30'!O25","v":0},{"$f":"'20'!O25","v":0},{"$f":"'17'!O25","v":0},{"$f":"'15'!O25","v":0},{"$f":"'12'!O25","v":0},{"$f":"'10'!O25","v":0}]
[23,{"$f":"'80'!O26","v":0},{"$f":"'40'!O26","v":0},{"$f":"'30'!O26","v":0},{"$f":"'20'!O26","v":0},{"$f":"'17'!O26","v":0},{"$f":"'15'!O26","v":0},{"$f":"'12'!O26","v":0},{"$f":"'10'!O26","v":0}]
[24,{"$f":"'80'!O27","v":0},{"$f":"'40'!O27","v":0},{"$f":"'30'!O27","v":0},{"$f":"'20'!O27","v":0},{"$f":"'17'!O27","v":0},{"$f":"'15'!O27","v":0},{"$f":"'12'!O27","v":0},{"$f":"'10'!O27","v":0}]

{"sheet":"11 PY7","index":22,"n_rows":25,"n_cols":9,"rows_kept":25}
["UT","80M","40M","30M","20M","17M","15M","12M","10M"]
[1,{"$f":"'80'!P4","v":0},{"$f":"'40'!P4","v":0},{"$f":"'30'!P4","v":0},{"$f":"'20'!P4","v":0},{"$f":"'17'!P4","v":0},{"$f":"'15'!P4","v":0},{"$f":"'12'!P4","v":0},{"$f":"'10'!P4","v":0}]
[2,{"$f":"'80'!P5","v":0},{"$f":"'40'!P5","v":0},{"$f":"'30'!P5","v":0},{"$f":"'20'!P5","v":0},{"$f":"'17'!P5","v":0},{"$f":"'15'!P5","v":0},{"$f":"'12'!P5","v":0},{"$f":"'10'!P5","v":0}]
[3,{"$f":"'80'!P6","v":0},{"$f":"'40'!P6","v":0},{"$f":"'30'!P6","v":0},{"$f":"'20'!P6","v":0},{"$f":"'17'!P6","v":0},{"$f":"'15'!P6","v":0},{"$f":"'12'!P6","v":0},{"$f":"'10'!P6","v":0}]
[4,{"$f":"'80'!P7","v":0},{"$f":"'40'!P7","v":0},{"$f":"'30'!P7","v":0},{"$f":"'20'!P7","v":0},{"$f":"'17'!P7","v":0},{"$f":"'15'!P7","v":0},{"$f":"'12'!P7","v":0},{"$f":"'10'!P7","v":0}]
[5,{"$f":"'80'!P8","v":0},{"$f":"'40'!P8","v":0},{"$f":"'30'!P8","v":0},{"$f":"'20'!P8","v":0},{"$f":"'17'!P8","v":0},{"$f":"'15'!P8","v":0},{"$f":"'12'!P8","v":0},{"$f":"'10'!P8","v":0}]
[6,{"$f":"'80'!P9","v":0},{"$f":"'40'!P9","v":0},{"$f":"'30'!P9","v":0},{"$f":"'20'!P9","v":0},{"$f":"'17'!P9","v":0},{"$f":"'15'!P9","v":0},{"$f":"'12'!P9","v":0},{"$f":"'10'!P9","v":0}]
[7,{"$f":"'80'!P10","v":0},{"$f":"'40'!P10","v":0},{"$f":"'30'!P10","v":0},{"$f":"'20'!P10","v":0},{"$f":"'17'!P10","v":0},{"$f":"'15'!P10","v":0},{"$f":"'12'!P10","v":0},{"$f":"'10'!P10","v":0}]
[8,{"$f":"'80'!P11","v":0},{"$f":"'40'!P11","v":0},{"$f":"'30'!P11","v":0},{"$f":"'20'!P11","v":0},{"$f":"'17'!P11","v":0},{"$f":"'15'!P11","v":0},{"$f":"'12'!P11","v":0},{"$f":"'10'!P11","v":0}]
[9,{"$f":"'80'!P12","v":0},{"$f":"'40'!P12","v":0},{"$f":"'30'!P12","v":0},{"$f":"'20'!P12","v":0},{"$f":"'17'!P12","v":0},{"$f":"'15'!P12","v":0},{"$f":"'12'!P12","v":0},{"$f":"'10'!P12","v":0}]
[10,{"$f":"'80'!P13","v":0},{"$f":"'40'!P13","v":0},{"$f":"'30'!P13","v":0},{"$f":"'20'!P13","v":0},{"$f":"'17'!P13","v":0},{"$f":"'15'!P13","v":0},{"$f":"'12'!P13","v":0},{"$f":"'10'!P13","v":0}]
[11,{"$f":"'80'!P14","v":0},{"$f":"'40'!P14","v":0},{"$f":"'30'!P14","v":0},{"$f":"'20'!P14","v":0},{"$f":"'17'!P14","v":0},{"$f":"'15'!P14","v":0},{"$f":"'12'!P14","v":0},{"$f":"'10'!P14","v":0}]
[12,{"$f":"'80'!P15","v":0},{"$f":"'40'!P15","v":0},{"$f":"'30'!P15","v":0},{"$f":"'20'!P15","v":0},{"$f":"'17'!P15","v":0},{"$f":"'15'!P15","v":0},{"$f":"'12'!P15","v":0},{"$f":"'10'!P15","v":0}]
[13,{"$f":"'80'!P16","v":0},{"$f":"'40'!P16","v":0},{"$f":"'30'!P16","v":0},{"$f":"'20'!P16","v":0},{"$f":"'17'!P16","v":0},{"$f":"'15'!P16","v":0},{"$f":"'12'!P16","v":0},{"$f":"'10'!P16","v":0}]
[14,{"$f":"'80'!P17","v":0},{"$f":"'40'!P17","v":0},{"$f":"'30'!P17","v":0},{"$f":"'20'!P17","v":0},{"$f":"'17'!P17","v":0},{"$f":"'15'!P17","v":0},{"$f":"'12'!P17","v":0},{"$f":"'10'!P17","v":0}]
[15,{"$f":"'80'!P18","v":0},{"$f":"'40'!P18","v":0},{"$f":"'30'!P18","v":0},{"$f":"'20'!P18","v":0},{"$f":"'17'!P18","v":0},{"$f":"'15'!P18","v":0},{"$f":"'12'!P18","v":0},{"$f":"'10'!P18","v":0}]
[16,{"$f":"'80'!P19","v":0},{"$f":"'40'!P19","v":0},{"$f":"'30'!P19","v":0},{"$f":"'20'!P19","v":0},{"$f":"'17'!P19","v":0},{"$f":"'15'!P19","v":0},{"$f":"'12'!P19","v":0},{"$f":"'10'!P19","v":0}]
[17,{"$f":"'80'!P20","v":0},{"$f":"'40'!P20","v":0},{"$f":"'30'!P20","v":0},{"$f":"'20'!P20","v":0},{"$f":"'17'!P20","v":0},{"$f":"'15'!P20","v":0},{"$f":"'12'!P20","v":0},{"$f":"'10'!P20","v":0}]
[18,{"$f":"'80'!P21","v":0},{"$f":"'40'!P21","v":0},{"$f":"'30'!P21","v":0},{"$f":"'20'!P21","v":0},{"$f":"'17'!P21","v":0},{"$f":"'15'!P21","v":0},{"$f":"'12'!P21","v":0},{"$f":"'10'!P21","v":0}]
[19,{"$f":"'80'!P22","v":0},{"$f":"'40'!P22","v":0},{"$f":"'30'!P22","v":0},{"$f":"'20'!P22","v":0},{"$f":"'17'!P22","v":0},{"$f":"'15'!P22","v":0},{"$f":"'12'!P22","v":0},{"$f":"'10'!P22","v":0}]
[20,{"$f":"'80'!P23","v":0},{"$f":"'40'!P23","v":0},{"$f":"'30'!P23","v":0},{"$f":"'20'!P23","v":0},{"$f":"'17'!P23","v":0},{"$f":"'15'!P23","v":0},{"$f":"'12'!P23","v":0},{"$f":"'10'!P23","v":0}]
[21,{"$f":"'80'!P24","v":0},{"$f":"'40'!P24","v":0},{"$f":"'30'!P24","v":0},{"$f":"'20'!P24","v":0},{"$f":"'17'!P24","v":0},{"$f":"'15'!P24","v":0},{"$f":"'12'!P24","v":0},{"$f":"'10'!P24","v":0}]
[22,{"$f":"'80'!P25","v":0},{"$f":"'40'!P25","v":0},{"$f":"'30'!P25","v":0},{"$f":"'20'!P25","v":0},{"$f":"'17'!P25","v":0},{"$f":"'15'!P25","v":0},{"$f":"'12'!P25","v":0},{"$f":"'10'!P25","v":0}]
[23,{"$f":"'80'!P26","v":0},{"$f":"'40'!P26","v":0},{"$f":"'30'!P26","v":0},{"$f":"'20'!P26","v":0},{"$f":"'17'!P26","v":0},{"$f":"'15'!P26","v":0},{"$f":"'12'!P26","v":0},{"$f":"'10'!P26","v":0}]
[24,{"$f":"'80'!P27","v":0},{"$f":"'40'!P27","v":0},{"$f":"'30'!P27","v":0},{"$f":"'20'!P27","v":0},{"$f":"'17'!P27","v":0},{"$f":"'15'!P27","v":0},{"$f":"'12'!P27","v":0},{"$f":"'10'!P27","v":0}]

{"sheet":"12 CE","index":23,"n_rows":25,"n_cols":9,"rows_kept":25}
["UT","80M","40M","30M","20M","17M","15M","12M","10M"]
[1,{"$f":"'80'!Q4","v":0},{"$f":"'40'!Q4","v":0},{"$f":"'30'!Q4","v":0},{"$f":"'20'!Q4","v":0},{"$f":"'17'!Q4","v":0},{"$f":"'15'!Q4","v":0},{"$f":"'12'!Q4","v":0},{"$f":"'10'!Q4","v":0}]
[2,{"$f":"'80'!Q5","v":0},{"$f":"'40'!Q5","v":0},{"$f":"'30'!Q5","v":0},{"$f":"'20'!Q5","v":0},{"$f":"'17'!Q5","v":0},{"$f":"'15'!Q5","v":0},{"$f":"'12'!Q5","v":0},{"$f":"'10'!Q5","v":0}]
[3,{"$f":"'80'!Q6","v":0},{"$f":"'40'!Q6","v":0},{"$f":"'30'!Q6","v":0},{"$f":"'20'!Q6","v":0},{"$f":"'17'!Q6","v":0},{"$f":"'15'!Q6","v":0},{"$f":"'12'!Q6","v":0},{"$f":"'10'!Q6","v":0}]
[4,{"$f":"'80'!Q7","v":0},{"$f":"'40'!Q7","v":0},{"$f":"'30'!Q7","v":0},{"$f":"'20'!Q7","v":0},{"$f":"'17'!Q7","v":0},{"$f":"'15'!Q7","v":0},{"$f":"'12'!Q7","v":0},{"$f":"'10'!Q7","v":0}]
[5,{"$f":"'80'!Q8","v":0},{"$f":"'40'!Q8","v":0},{"$f":"'30'!Q8","v":0},{"$f":"'20'!Q8","v":0},{"$f":"'17'!Q8","v":0},{"$f":"'15'!Q8","v":0},{"$f":"'12'!Q8","v":0},{"$f":"'10'!Q8","v":0}]
[6,{"$f":"'80'!Q9","v":0},{"$f":"'40'!Q9","v":0},{"$f":"'30'!Q9","v":0},{"$f":"'20'!Q9","v":0},{"$f":"'17'!Q9","v":0},{"$f":"'15'!Q9","v":0},{"$f":"'12'!Q9","v":0},{"$f":"'10'!Q9","v":0}]
[7,{"$f":"'80'!Q10","v":0},{"$f":"'40'!Q10","v":0},{"$f":"'30'!Q10","v":0},{"$f":"'20'!Q10","v":0},{"$f":"'17'!Q10","v":0},{"$f":"'15'!Q10","v":0},{"$f":"'12'!Q10","v":0},{"$f":"'10'!Q10","v":0}]
[8,{"$f":"'80'!Q11","v":0},{"$f":"'40'!Q11","v":0},{"$f":"'30'!Q11","v":0},{"$f":"'20'!Q11","v":0},{"$f":"'17'!Q11","v":0},{"$f":"'15'!Q11","v":0},{"$f":"'12'!Q11","v":0},{"$f":"'10'!Q11","v":0}]
[9,{"$f":"'80'!Q12","v":0},{"$f":"'40'!Q12","v":0},{"$f":"'30'!Q12","v":0},{"$f":"'20'!Q12","v":0},{"$f":"'17'!Q12","v":0},{"$f":"'15'!Q12","v":0},{"$f":"'12'!Q12","v":0},{"$f":"'10'!Q12","v":0}]
[10,{"$f":"'80'!Q13","v":0},{"$f":"'40'!Q13","v":0},{"$f":"'30'!Q13","v":0},{"$f":"'20'!Q13","v":0},{"$f":"'17'!Q13","v":0},{"$f":"'15'!Q13","v":0},{"$f":"'12'!Q13","v":0},{"$f":"'10'!Q13","v":0}]
[11,{"$f":"'80'!Q14","v":0},{"$f":"'40'!Q14","v":0},{"$f":"'30'!Q14","v":0},{"$f":"'20'!Q14","v":0},{"$f":"'17'!Q14","v":0},{"$f":"'15'!Q14","v":0},{"$f":"'12'!Q14","v":0},{"$f":"'10'!Q14","v":0}]
[12,{"$f":"'80'!Q15","v":0},{"$f":"'40'!Q15","v":0},{"$f":"'30'!Q15","v":0},{"$f":"'20'!Q15","v":0},{"$f":"'17'!Q15","v":0},{"$f":"'15'!Q15","v":0},{"$f":"'12'!Q15","v":0},{"$f":"'10'!Q15","v":0}]
[13,{"$f":"'80'!Q16","v":0},{"$f":"'40'!Q16","v":0},{"$f":"'30'!Q16","v":0},{"$f":"'20'!Q16","v":0},{"$f":"'17'!Q16","v":0},{"$f":"'15'!Q16","v":0},{"$f":"'12'!Q16","v":0},{"$f":"'10'!Q16","v":0}]
[14,{"$f":"'80'!Q17","v":0},{"$f":"'40'!Q17","v":0},{"$f":"'30'!Q17","v":0},{"$f":"'20'!Q17","v":0},{"$f":"'17'!Q17","v":0},{"$f":"'15'!Q17","v":0},{"$f":"'12'!Q17","v":0},{"$f":"'10'!Q17","v":0}]
[15,{"$f":"'80'!Q18","v":0},{"$f":"'40'!Q18","v":0},{"$f":"'30'!Q18","v":0},{"$f":"'20'!Q18","v":0},{"$f":"'17'!Q18","v":0},{"$f":"'15'!Q18","v":0},{"$f":"'12'!Q18","v":0},{"$f":"'10'!Q18","v":0}]
[16,{"$f":"'80'!Q19","v":0},{"$f":"'40'!Q19","v":0},{"$f":"'30'!Q19","v":0},{"$f":"'20'!Q19","v":0},{"$f":"'17'!Q19","v":0},{"$f":"'15'!Q19","v":0},{"$f":"'12'!Q19","v":0},{"$f":"'10'!Q19","v":0}]
[17,{"$f":"'80'!Q20","v":0},{"$f":"'40'!Q20","v":0},{"$f":"'30'!Q20","v":0},{"$f":"'20'!Q20","v":0},{"$f":"'17'!Q20","v":0},{"$f":"'15'!Q20","v":0},{"$f":"'12'!Q20","v":0},{"$f":"'10'!Q20","v":0}]
[18,{"$f":"'80'!Q21","v":0},{"$f":"'40'!Q21","v":0},{"$f":"'30'!Q21","v":0},{"$f":"'20'!Q21","v":0},{"$f":"'17'!Q21","v":0},{"$f":"'15'!Q21","v":0},{"$f":"'12'!Q21","v":0},{"$f":"'10'!Q21","v":0}]
[19,{"$f":"'80'!Q22","v":0},{"$f":"'40'!Q22","v":0},{"$f":"'30'!Q22","v":0},{"$f":"'20'!Q22","v":0},{"$f":"'17'!Q22","v":0},{"$f":"'15'!Q22","v":0},{"$f":"'12'!Q22","v":0},{"$f":"'10'!Q22","v":0}]
[20,{"$f":"'80'!Q23","v":0},{"$f":"'40'!Q23","v":0},{"$f":"'30'!Q23","v":0},{"$f":"'20'!Q23","v":0},{"$f":"'17'!Q23","v":0},{"$f":"'15'!Q23","v":0},{"$f":"'12'!Q23","v":0},{"$f":"'10'!Q23","v":0}]
[21,{"$f":"'80'!Q24","v":0},{"$f":"'40'!Q24","v":0},{"$f":"'30'!Q24","v":0},{"$f":"'20'!Q24","v":0},{"$f":"'17'!Q24","v":0},{"$f":"'15'!Q24","v":0},{"$f":"'12'!Q24","v":0},{"$f":"'10'!Q24","v":0}]
[22,{"$f":"'80'!Q25","v":0},{"$f":"'40'!Q25","v":0},{"$f":"'30'!Q25","v":0},{"$f":"'20'!Q25","v":0},{"$f":"'17'!Q25","v":0},{"$f":"'15'!Q25","v":0},{"$f":"'12'!Q25","v":0},{"$f":"'10'!Q25","v":0}]
[23,{"$f":"'80'!Q26","v":0},{"$f":"'40'!Q26","v":0},{"$f":"'30'!Q26","v":0},{"$f":"'20'!Q26","v":0},{"$f":"'17'!Q26","v":0},{"$f":"'15'!Q26","v":0},{"$f":"'12'!Q26","v":0},{"$f":"'10'!Q26","v":0}]
[24,{"$f":"'80'!Q27","v":0},{"$f":"'40'!Q27","v":0},{"$f":"'30'!Q27","v":0},{"$f":"'20'!Q27","v":0},{"$f":"'17'!Q27","v":0},{"$f":"'15'!Q27","v":0},{"$f":"'12'!Q27","v":0},{"$f":"'10'!Q27","v":0}]

{"sheet":"13 LU","index":24,"n_rows":25,"n_cols":9,"rows_kept":25}
["UT","80M","40M","30M","20M","17M","15M","12M","10M"]
[1,{"$f":"'80'!R4","v":0},{"$f":"'40'!R4","v":0},{"$f":"'30'!R4","v":0},{"$f":"'20'!R4","v":0},{"$f":"'17'!R4","v":0},{"$f":"'15'!R4","v":0},{"$f":"'12'!R4","v":0},{"$f":"'10'!R4","v":0}]
[2,{"$f":"'80'!R5","v":0},{"$f":"'40'!R5","v":0},{"$f":"'30'!R5","v":0},{"$f":"'20'!R5","v":0},{"$f":"'17'!R5","v":0},{"$f":"'15'!R5","v":0},{"$f":"'12'!R5","v":0},{"$f":"'10'!R5","v":0}]
[3,{"$f":"'80'!R6","v":0},{"$f":"'40'!R6","v":0},{"$f":"'30'!R6","v":0},{"$f":"'20'!R6","v":0},{"$f":"'17'!R6","v":0},{"$f":"'15'!R6","v":0},{"$f":"'12'!R6","v":0},{"$f":"'10'!R6","v":0}]
[4,{"$f":"'80'!R7","v":0},{"$f":"'40'!R7","v":0},{"$f":"'30'!R7","v":0},{"$f":"'20'!R7","v":0},{"$f":"'17'!R7","v":0},{"$f":"'15'!R7","v":0},{"$f":"'12'!R7","v":0},{"$f":"'10'!R7","v":0}]
[5,{"$f":"'80'!R8","v":0},{"$f":"'40'!R8","v":0},{"$f":"'30'!R8","v":0},{"$f":"'20'!R8","v":0},{"$f":"'17'!R8","v":0},{"$f":"'15'!R8","v":0},{"$f":"'12'!R8","v":0},{"$f":"'10'!R8","v":0}]
[6,{"$f":"'80'!R9","v":0},{"$f":"'40'!R9","v":0},{"$f":"'30'!R9","v":0},{"$f":"'20'!R9","v":0},{"$f":"'17'!R9","v":0},{"$f":"'15'!R9","v":0},{"$f":"'12'!R9","v":0},{"$f":"'10'!R9","v":0}]
[7,{"$f":"'80'!R10","v":0},{"$f":"'40'!R10","v":0},{"$f":"'30'!R10","v":0},{"$f":"'20'!R10","v":0},{"$f":"'17'!R10","v":0},{"$f":"'15'!R10","v":0},{"$f":"'12'!R10","v":0},{"$f":"'10'!R10","v":0}]
[8,{"$f":"'80'!R11","v":0},{"$f":"'40'!R11","v":0},{"$f":"'30'!R11","v":0},{"$f":"'20'!R11","v":0},{"$f":"'17'!R11","v":0},{"$f":"'15'!R11","v":0},{"$f":"'12'!R11","v":0},{"$f":"'10'!R11","v":0}]
[9,{"$f":"'80'!R12","v":0},{"$f":"'40'!R12","v":0},{"$f":"'30'!R12","v":0},{"$f":"'20'!R12","v":0},{"$f":"'17'!R12","v":0},{"$f":"'15'!R12","v":0},{"$f":"'12'!R12","v":0},{"$f":"'10'!R12","v":0}]
[10,{"$f":"'80'!R13","v":0},{"$f":"'40'!R13","v":0},{"$f":"'30'!R13","v":0},{"$f":"'20'!R13","v":0},{"$f":"'17'!R13","v":0},{"$f":"'15'!R13","v":0},{"$f":"'12'!R13","v":0},{"$f":"'10'!R13","v":0}]
[11,{"$f":"'80'!R14","v":0},{"$f":"'40'!R14","v":0},{"$f":"'30'!R14","v":0},{"$f":"'20'!R14","v":0},{"$f":"'17'!R14","v":0},{"$f":"'15'!R14","v":0},{"$f":"'12'!R14","v":0},{"$f":"'10'!R14","v":0}]
[12,{"$f":"'80'!R15","v":0},{"$f":"'40'!R15","v":0},{"$f":"'30'!R15","v":0},{"$f":"'20'!R15","v":0},{"$f":"'17'!R15","v":0},{"$f":"'15'!R15","v":0},{"$f":"'12'!R15","v":0},{"$f":"'10'!R15","v":0}]
[13,{"$f":"'80'!R16","v":0},{"$f":"'40'!R16","v":0},{"$f":"'30'!R16","v":0},{"$f":"'20'!R16","v":0},{"$f":"'17'!R16","v":0},{"$f":"'15'!R16","v":0},{"$f":"'12'!R16","v":0},{"$f":"'10'!R16","v":0}]
[14,{"$f":"'80'!R17","v":0},{"$f":"'40'!R17","v":0},{"$f":"'30'!R17","v":0},{"$f":"'20'!R17","v":0},{"$f":"'17'!R17","v":0},{"$f":"'15'!R17","v":0},{"$f":"'12'!R17","v":0},{"$f":"'10'!R17","v":0}]
[15,{"$f":"'80'!R18","v":0},{"$f":"'40'!R18","v":0},{"$f":"'30'!R18","v":0},{"$f":"'20'!R18","v":0},{"$f":"'17'!R18","v":0},{"$f":"'15'!R18","v":0},{"$f":"'12'!R18","v":0},{"$f":"'10'!R18","v":0}]
[16,{"$f":"'80'!R19","v":0},{"$f":"'40'!R19","v":0},{"$f":"'30'!R19","v":0},{"$f":"'20'!R19","v":0},{"$f":"'17'!R19","v":0},{"$f":"'15'!R19","v":0},{"$f":"'12'!R19","v":0},{"$f":"'10'!R19","v":0}]
[17,{"$f":"'80'!R20","v":0},{"$f":"'40'!R20","v":0},{"$f":"'30'!R20","v":0},{"$f":"'20'!R20","v":0},{"$f":"'17'!R20","v":0},{"$f":"'15'!R20","v":0},{"$f":"'12'!R20","v":0},{"$f":"'10'!R20","v":0}]
[18,{"$f":"'80'!R21","v":0},{"$f":"'40'!R21","v":0},{"$f":"'30'!R21","v":0},{"$f":"'20'!R21","v":0},{"$f":"'17'!R21","v":0},{"$f":"'15'!R21","v":0},{"$f":"'12'!R21","v":0},{"$f":"'10'!R21","v":0}]
[19,{"$f":"'80'!R22","v":0},{"$f":"'40'!R22","v":0},{"$f":"'30'!R22","v":0},{"$f":"'20'!R22","v":0},{"$f":"'17'!R22","v":0},{"$f":"'15'!R22","v":0},{"$f":"'12'!R22","v":0},{"$f":"'10'!R22","v":0}]
[20,{"$f":"'80'!R23","v":0},{"$f":"'40'!R23","v":0},{"$f":"'30'!R23","v":0},{"$f":"'20'!R23","v":0},{"$f":"'17'!R23","v":0},{"$f":"'15'!R23","v":0},{"$f":"'12'!R23","v":0},{"$f":"'10'!R23","v":0}]
[21,{"$f":"'80'!R24","v":0},{"$f":"'40'!R24","v":0},{"$f":"'30'!R24","v":0},{"$f":"'20'!R24","v":0},{"$f":"'17'!R24","v":0},{"$f":"'15'!R24","v":0},{"$f":"'12'!R24","v":0},{"$f":"'10'!R24","v":0}]
[22,{"$f":"'80'!R25","v":0},{"$f":"'40'!R25","v":0},{"$f":"'30'!R25","v":0},{"$f":"'20'!R25","v":0},{"$f":"'17'!R25","v":0},{"$f":"'15'!R25","v":0},{"$f":"'12'!R25","v":0},{"$f":"'10'!R25","v":0}]
[23,{"$f":"'80'!R26","v":0},{"$f":"'40'!R26","v":0},{"$f":"'30'!R26","v":0},{"$f":"'20'!R26","v":0},{"$f":"'17'!R26","v":0},{"$f":"'15'!R26","v":0},{"$f":"'12'!R26","v":0},{"$f":"'10'!R26","v":0}]
[24,{"$f":"'80'!R27","v":0},{"$f":"'40'!R27","v":0},{"$f":"'30'!R27","v":0},{"$f":"'20'!R27","v":0},{"$f":"'17'!R27","v":0},{"$f":"'15'!R27","v":0},{"$f":"'12'!R27","v":0},{"$f":"'10'!R27","v":0}]

{"sheet":"14 EA","index":25,"n_rows":25,"n_cols":9,"rows_kept":25}
["UT","80M","40M","30M","20M","17M","15M","12M","10M"]
[1,{"$f":"'80'!S4","v":0},{"$f":"'40'!S4","v":0},{"$f":"'30'!S4","v":0},{"$f":"'20'!S4","v":0},{"$f":"'17'!S4","v":0},{"$f":"'15'!S4","v":0},{"$f":"'12'!S4","v":0},{"$f":"'10'!S4","v":0}]
[2,{"$f":"'80'!S5","v":0},{"$f":"'40'!S5","v":0},{"$f":"'30'!S5","v":0},{"$f":"'20'!S5","v":0},{"$f":"'17'!S5","v":0},{"$f":"'15'!S5","v":0},{"$f":"'12'!S5","v":0},{"$f":"'10'!S5","v":0}]
[3,{"$f":"'80'!S6","v":0},{"$f":"'40'!S6","v":0},{"$f":"'30'!S6","v":0},{"$f":"'20'!S6","v":0},{"$f":"'17'!S6","v":0},{"$f":"'15'!S6","v":0},{"$f":"'12'!S6","v":0},{"$f":"'10'!S6","v":0}]
[4,{"$f":"'80'!S7","v":0},{"$f":"'40'!S7","v":0},{"$f":"'30'!S7","v":0},{"$f":"'20'!S7","v":0},{"$f":"'17'!S7","v":0},{"$f":"'15'!S7","v":0},{"$f":"'12'!S7","v":0},{"$f":"'10'!S7","v":0}]
[5,{"$f":"'80'!S8","v":0},{"$f":"'40'!S8","v":0},{"$f":"'30'!S8","v":0},{"$f":"'20'!S8","v":0},{"$f":"'17'!S8","v":0},{"$f":"'15'!S8","v":0},{"$f":"'12'!S8","v":0},{"$f":"'10'!S8","v":0}]
[6,{"$f":"'80'!S9","v":0},{"$f":"'40'!S9","v":0},{"$f":"'30'!S9","v":0},{"$f":"'20'!S9","v":0},{"$f":"'17'!S9","v":0},{"$f":"'15'!S9","v":0},{"$f":"'12'!S9","v":0},{"$f":"'10'!S9","v":0}]
[7,{"$f":"'80'!S10","v":0},{"$f":"'40'!S10","v":0},{"$f":"'30'!S10","v":0},{"$f":"'20'!S10","v":0},{"$f":"'17'!S10","v":0},{"$f":"'15'!S10","v":0},{"$f":"'12'!S10","v":0},{"$f":"'10'!S10","v":0}]
[8,{"$f":"'80'!S11","v":0},{"$f":"'40'!S11","v":0},{"$f":"'30'!S11","v":0},{"$f":"'20'!S11","v":0},{"$f":"'17'!S11","v":0},{"$f":"'15'!S11","v":0},{"$f":"'12'!S11","v":0},{"$f":"'10'!S11","v":0}]
[9,{"$f":"'80'!S12","v":0},{"$f":"'40'!S12","v":0},{"$f":"'30'!S12","v":0},{"$f":"'20'!S12","v":0},{"$f":"'17'!S12","v":0},{"$f":"'15'!S12","v":0},{"$f":"'12'!S12","v":0},{"$f":"'10'!S12","v":0}]
[10,{"$f":"'80'!S13","v":0},{"$f":"'40'!S13","v":0},{"$f":"'30'!S13","v":0},{"$f":"'20'!S13","v":0},{"$f":"'17'!S13","v":0},{"$f":"'15'!S13","v":0},{"$f":"'12'!S13","v":0},{"$f":"'10'!S13","v":0}]
[11,{"$f":"'80'!S14","v":0},{"$f":"'40'!S14","v":0},{"$f":"'30'!S14","v":0},{"$f":"'20'!S14","v":0},{"$f":"'17'!S14","v":0},{"$f":"'15'!S14","v":0},{"$f":"'12'!S14","v":0},{"$f":"'10'!S14","v":0}]
[12,{"$f":"'80'!S15","v":0},{"$f":"'40'!S15","v":0},{"$f":"'30'!S15","v":0},{"$f":"'20'!S15","v":0},{"$f":"'17'!S15","v":0},{"$f":"'15'!S15","v":0},{"$f":"'12'!S15","v":0},{"$f":"'10'!S15","v":0}]
[13,{"$f":"'80'!S16","v":0},{"$f":"'40'!S16","v":0},{"$f":"'30'!S16","v":0},{"$f":"'20'!S16","v":0},{"$f":"'17'!S16","v":0},{"$f":"'15'!S16","v":0},{"$f":"'12'!S16","v":0},{"$f":"'10'!S16","v":0}]
[14,{"$f":"'80'!S17","v":0},{"$f":"'40'!S17","v":0},{"$f":"'30'!S17","v":0},{"$f":"'20'!S17","v":0},{"$f":"'17'!S17","v":0},{"$f":"'15'!S17","v":0},{"$f":"'12'!S17","v":0},{"$f":"'10'!S17","v":0}]
[15,{"$f":"'80'!S18","v":0},{"$f":"'40'!S18","v":0},{"$f":"'30'!S18","v":0},{"$f":"'20'!S18","v":0},{"$f":"'17'!S18","v":0},{"$f":"'15'!S18","v":0},{"$f":"'12'!S18","v":0},{"$f":"'10'!S18","v":0}]
[16,{"$f":"'80'!S19","v":0},{"$f":"'40'!S19","v":0},{"$f":"'30'!S19","v":0},{"$f":"'20'!S19","v":0},{"$f":"'17'!S19","v":0},{"$f":"'15'!S19","v":0},{"$f":"'12'!S19","v":0},{"$f":"'10'!S19","v":0}]
[17,{"$f":"'80'!S20","v":0},{"$f":"'40'!S20","v":0},{"$f":"'30'!S20","v":0},{"$f":"'20'!S20","v":0},{"$f":"'17'!S20","v":0},{"$f":"'15'!S20","v":0},{"$f":"'12'!S20","v":0},{"$f":"'10'!S20","v":0}]
[18,{"$f":"'80'!S21","v":0},{"$f":"'40'!S21","v":0},{"$f":"'30'!S21","v":0},{"$f":"'20'!S21","v":0},{"$f":"'17'!S21","v":0},{"$f":"'15'!S21","v":0},{"$f":"'12'!S21","v":0},{"$f":"'10'!S21","v":0}]
[19,{"$f":"'80'!S22","v":0},{"$f":"'40'!S22","v":0},{"$f":"'30'!S22","v":0},{"$f":"'20'!S22","v":0},{"$f":"'17'!S22","v":0},{"$f":"'15'!S22","v":0},{"$f":"'12'!S22","v":0},{"$f":"'10'!S22","v":0}]
[20,{"$f":"'80'!S23","v":0},{"$f":"'40'!S23","v":0},{"$f":"'30'!S23","v":0},{"$f":"'20'!S23","v":0},{"$f":"'17'!S23","v":0},{"$f":"'15'!S23","v":0},{"$f":"'12'!S23","v":0},{"$f":"'10'!S23","v":0}]
[21,{"$f":"'80'!S24","v":0},{"$f":"'40'!S24","v":0},{"$f":"'30'!S24","v":0},{"$f":"'20'!S24","v":0},{"$f":"'17'!S24","v":0},{"$f":"'15'!S24","v":0},{"$f":"'12'!S24","v":0},{"$f":"'10'!S24","v":0}]
[22,{"$f":"'80'!S25","v":0},{"$f":"'40'!S25","v":0},{"$f":"'30'!S25","v":0},{"$f":"'20'!S25","v":0},{"$f":"'17'!S25","v":0},{"$f":"'15'!S25","v":0},{"$f":"'12'!S25","v":0},{"$f":"'10'!S25","v":0}]
[23,{"$f":"'80'!S26","v":0},{"$f":"'40'!S26","v":0},{"$f":"'30'!S26","v":0},{"$f":"'20'!S26","v":0},{"$f":"'17'!S26","v":0},{"$f":"'15'!S26","v":0},{"$f":"'12'!S26","v":0},{"$f":"'10'!S26","v":0}]
[24,{"$f":"'80'!S27","v":0},{"$f":"'40'!S27","v":0},{"$f":"'30'!S27","v":0},{"$f":"'20'!S27","v":0},{"$f":"'17'!S27","v":0},{"$f":"'15'!S27","v":0},{"$f":"'12'!S27","v":0},{"$f":"'10'!S27","v":0}]

{"sheet":"14 G","index":26,"n_rows":25,"n_cols":9,"rows_kept":25}
["UT","80M","40M","30M","20M","17M","15M","12M","10M"]
[1,{"$f":"'80'!T4","v":0},{"$f":"'40'!T4","v":0},{"$f":"'30'!T4","v":0},{"$f":"'20'!T4","v":0},{"$f":"'17'!T4","v":0},{"$f":"'15'!T4","v":0},{"$f":"'12'!T4","v":0},{"$f":"'10'!T4","v":0}]
[2,{"$f":"'80'!T5","v":0},{"$f":"'40'!T5","v":0},{"$f":"'30'!T5","v":0},{"$f":"'20'!T5","v":0},{"$f":"'17'!T5","v":0},{"$f":"'15'!T5","v":0},{"$f":"'12'!T5","v":0},{"$f":"'10'!T5","v":0}]
[3,{"$f":"'80'!T6","v":0},{"$f":"'40'!T6","v":0},{"$f":"'30'!T6","v":0},{"$f":"'20'!T6","v":0},{"$f":"'17'!T6","v":0},{"$f":"'15'!T6","v":0},{"$f":"'12'!T6","v":0},{"$f":"'10'!T6","v":0}]
[4,{"$f":"'80'!T7","v":0},{"$f":"'40'!T7","v":0},{"$f":"'30'!T7","v":0},{"$f":"'20'!T7","v":0},{"$f":"'17'!T7","v":0},{"$f":"'15'!T7","v":0},{"$f":"'12'!T7","v":0},{"$f":"'10'!T7","v":0}]
[5,{"$f":"'80'!T8","v":0},{"$f":"'40'!T8","v":0},{"$f":"'30'!T8","v":0},{"$f":"'20'!T8","v":0},{"$f":"'17'!T8","v":0},{"$f":"'15'!T8","v":0},{"$f":"'12'!T8","v":0},{"$f":"'10'!T8","v":0}]
[6,{"$f":"'80'!T9","v":0},{"$f":"'40'!T9","v":0},{"$f":"'30'!T9","v":0},{"$f":"'20'!T9","v":0},{"$f":"'17'!T9","v":0},{"$f":"'15'!T9","v":0},{"$f":"'12'!T9","v":0},{"$f":"'10'!T9","v":0}]
[7,{"$f":"'80'!T10","v":0},{"$f":"'40'!T10","v":0},{"$f":"'30'!T10","v":0},{"$f":"'20'!T10","v":0},{"$f":"'17'!T10","v":0},{"$f":"'15'!T10","v":0},{"$f":"'12'!T10","v":0},{"$f":"'10'!T10","v":0}]
[8,{"$f":"'80'!T11","v":0},{"$f":"'40'!T11","v":0},{"$f":"'30'!T11","v":0},{"$f":"'20'!T11","v":0},{"$f":"'17'!T11","v":0},{"$f":"'15'!T11","v":0},{"$f":"'12'!T11","v":0},{"$f":"'10'!T11","v":0}]
[9,{"$f":"'80'!T12","v":0},{"$f":"'40'!T12","v":0},{"$f":"'30'!T12","v":0},{"$f":"'20'!T12","v":0},{"$f":"'17'!T12","v":0},{"$f":"'15'!T12","v":0},{"$f":"'12'!T12","v":0},{"$f":"'10'!T12","v":0}]
[10,{"$f":"'80'!T13","v":0},{"$f":"'40'!T13","v":0},{"$f":"'30'!T13","v":0},{"$f":"'20'!T13","v":0},{"$f":"'17'!T13","v":0},{"$f":"'15'!T13","v":0},{"$f":"'12'!T13","v":0},{"$f":"'10'!T13","v":0}]
[11,{"$f":"'80'!T14","v":0},{"$f":"'40'!T14","v":0},{"$f":"'30'!T14","v":0},{"$f":"'20'!T14","v":0},{"$f":"'17'!T14","v":0},{"$f":"'15'!T14","v":0},{"$f":"'12'!T14","v":0},{"$f":"'10'!T14","v":0}]
[12,{"$f":"'80'!T15","v":0},{"$f":"'40'!T15","v":0},{"$f":"'30'!T15","v":0},{"$f":"'20'!T15","v":0},{"$f":"'17'!T15","v":0},{"$f":"'15'!T15","v":0},{"$f":"'12'!T15","v":0},{"$f":"'10'!T15","v":0}]
[13,{"$f":"'80'!T16","v":0},{"$f":"'40'!T16","v":0},{"$f":"'30'!T16","v":0},{"$f":"'20'!T16","v":0},{"$f":"'17'!T16","v":0},{"$f":"'15'!T16","v":0},{"$f":"'12'!T16","v":0},{"$f":"'10'!T16","v":0}]
[14,{"$f":"'80'!T17","v":0},{"$f":"'40'!T17","v":0},{"$f":"'30'!T17","v":0},{"$f":"'20'!T17","v":0},{"$f":"'17'!T17","v":0},{"$f":"'15'!T17","v":0},{"$f":"'12'!T17","v":0},{"$f":"'10'!T17","v":0}]
[15,{"$f":"'80'!T18","v":0},{"$f":"'40'!T18","v":0},{"$f":"'30'!T18","v":0},{"$f":"'20'!T18","v":0},{"$f":"'17'!T18","v":0},{"$f":"'15'!T18","v":0},{"$f":"'12'!T18","v":0},{"$f":"'10'!T18","v":0}]
[16,{"$f":"'80'!T19","v":0},{"$f":"'40'!T19","v":0},{"$f":"'30'!T19","v":0},{"$f":"'20'!T19","v":0},{"$f":"'17'!T19","v":0},{"$f":"'15'!T19","v":0},{"$f":"'12'!T19","v":0},{"$f":"'10'!T19","v":0}]
[17,{"$f":"'80'!T20","v":0},{"$f":"'40'!T20","v":0},{"$f":"'30'!T20","v":0},{"$f":"'20'!T20","v":0},{"$f":"'17'!T20","v":0},{"$f":"'15'!T20","v":0},{"$f":"'12'!T20","v":0},{"$f":"'10'!T20","v":0}]
[18,{"$f":"'80'!T21","v":0},{"$f":"'40'!T21","v":0},{"$f":"'30'!T21","v":0},{"$f":"'20'!T21","v":0},{"$f":"'17'!T21","v":0},{"$f":"'15'!T21","v":0},{"$f":"'12'!T21","v":0},{"$f":"'10'!T21","v":0}]
[19,{"$f":"'80'!T22","v":0},{"$f":"'40'!T22","v":0},{"$f":"'30'!T22","v":0},{"$f":"'20'!T22","v":0},{"$f":"'17'!T22","v":0},{"$f":"'15'!T22","v":0},{"$f":"'12'!T22","v":0},{"$f":"'10'!T22","v":0}]
[20,{"$f":"'80'!T23","v":0},{"$f":"'40'!T23","v":0},{"$f":"'30'!T23","v":0},{"$f":"'20'!T23","v":0},{"$f":"'17'!T23","v":0},{"$f":"'15'!T23","v":0},{"$f":"'12'!T23","v":0},{"$f":"'10'!T23","v":0}]
[21,{"$f":"'80'!T24","v":0},{"$f":"'40'!T24","v":0},{"$f":"'30'!T24","v":0},{"$f":"'20'!T24","v":0},{"$f":"'17'!T24","v":0},{"$f":"'15'!T24","v":0},{"$f":"'12'!T24","v":0},{"$f":"'10'!T24","v":0}]
[22,{"$f":"'80'!T25","v":0},{"$f":"'40'!T25","v":0},{"$f":"'30'!T25","v":0},{"$f":"'20'!T25","v":0},{"$f":"'17'!T25","v":0},{"$f":"'15'!T25","v":0},{"$f":"'12'!T25","v":0},{"$f":"'10'!T25","v":0}]
[23,{"$f":"'80'!T26","v":0},{"$f":"'40'!T26","v":0},{"$f":"'30'!T26","v":0},{"$f":"'20'!T26","v":0},{"$f":"'17'!T26","v":0},{"$f":"'15'!T26","v":0},{"$f":"'12'!T26","v":0},{"$f":"'10'!T26","v":0}]
[24,{"$f":"'80'!T27","v":0},{"$f":"'40'!T27","v":0},{"$f":"'30'!T27","v":0},{"$f":"'20'!T27","v":0},{"$f":"'17'!T27","v":0},{"$f":"'15'!T27","v":0},{"$f":"'12'!T27","v":0},{"$f":"'10'!T27","v":0}]

{"sheet":"14 LA","index":27,"n_rows":25,"n_cols":9,"rows_kept":25}
["UT","80M","40M","30M","20M","17M","15M","12M","10M"]
[1,{"$f":"'80'!U4","v":0},{"$f":"'40'!U4","v":0},{"$f":"'30'!U4","v":0},{"$f":"'20'!U4","v":0},{"$f":"'17'!U4","v":0},{"$f":"'15'!U4","v":0},{"$f":"'12'!U4","v":0},{"$f":"'10'!U4","v":0}]
[2,{"$f":"'80'!U5","v":0},{"$f":"'40'!U5","v":0},{"$f":"'30'!U5","v":0},{"$f":"'20'!U5","v":0},{"$f":"'17'!U5","v":0},{"$f":"'15'!U5","v":0},{"$f":"'12'!U5","v":0},{"$f":"'10'!U5","v":0}]
[3,{"$f":"'80'!U6","v":0},{"$f":"'40'!U6","v":0},{"$f":"'30'!U6","v":0},{"$f":"'20'!U6","v":0},{"$f":"'17'!U6","v":0},{"$f":"'15'!U6","v":0},{"$f":"'12'!U6","v":0},{"$f":"'10'!U6","v":0}]
[4,{"$f":"'80'!U7","v":0},{"$f":"'40'!U7","v":0},{"$f":"'30'!U7","v":0},{"$f":"'20'!U7","v":0},{"$f":"'17'!U7","v":0},{"$f":"'15'!U7","v":0},{"$f":"'12'!U7","v":0},{"$f":"'10'!U7","v":0}]
[5,{"$f":"'80'!U8","v":0},{"$f":"'40'!U8","v":0},{"$f":"'30'!U8","v":0},{"$f":"'20'!U8","v":0},{"$f":"'17'!U8","v":0},{"$f":"'15'!U8","v":0},{"$f":"'12'!U8","v":0},{"$f":"'10'!U8","v":0}]
[6,{"$f":"'80'!U9","v":0},{"$f":"'40'!U9","v":0},{"$f":"'30'!U9","v":0},{"$f":"'20'!U9","v":0},{"$f":"'17'!U9","v":0},{"$f":"'15'!U9","v":0},{"$f":"'12'!U9","v":0},{"$f":"'10'!U9","v":0}]
[7,{"$f":"'80'!U10","v":0},{"$f":"'40'!U10","v":0},{"$f":"'30'!U10","v":0},{"$f":"'20'!U10","v":0},{"$f":"'17'!U10","v":0},{"$f":"'15'!U10","v":0},{"$f":"'12'!U10","v":0},{"$f":"'10'!U10","v":0}]
[8,{"$f":"'80'!U11","v":0},{"$f":"'40'!U11","v":0},{"$f":"'30'!U11","v":0},{"$f":"'20'!U11","v":0},{"$f":"'17'!U11","v":0},{"$f":"'15'!U11","v":0},{"$f":"'12'!U11","v":0},{"$f":"'10'!U11","v":0}]
[9,{"$f":"'80'!U12","v":0},{"$f":"'40'!U12","v":0},{"$f":"'30'!U12","v":0},{"$f":"'20'!U12","v":0},{"$f":"'17'!U12","v":0},{"$f":"'15'!U12","v":0},{"$f":"'12'!U12","v":0},{"$f":"'10'!U12","v":0}]
[10,{"$f":"'80'!U13","v":0},{"$f":"'40'!U13","v":0},{"$f":"'30'!U13","v":0},{"$f":"'20'!U13","v":0},{"$f":"'17'!U13","v":0},{"$f":"'15'!U13","v":0},{"$f":"'12'!U13","v":0},{"$f":"'10'!U13","v":0}]
[11,{"$f":"'80'!U14","v":0},{"$f":"'40'!U14","v":0},{"$f":"'30'!U14","v":0},{"$f":"'20'!U14","v":0},{"$f":"'17'!U14","v":0},{"$f":"'15'!U14","v":0},{"$f":"'12'!U14","v":0},{"$f":"'10'!U14","v":0}]
[12,{"$f":"'80'!U15","v":0},{"$f":"'40'!U15","v":0},{"$f":"'30'!U15","v":0},{"$f":"'20'!U15","v":0},{"$f":"'17'!U15","v":0},{"$f":"'15'!U15","v":0},{"$f":"'12'!U15","v":0},{"$f":"'10'!U15","v":0}]
[13,{"$f":"'80'!U16","v":0},{"$f":"'40'!U16","v":0},{"$f":"'30'!U16","v":0},{"$f":"'20'!U16","v":0},{"$f":"'17'!U16","v":0},{"$f":"'15'!U16","v":0},{"$f":"'12'!U16","v":0},{"$f":"'10'!U16","v":0}]
[14,{"$f":"'80'!U17","v":0},{"$f":"'40'!U17","v":0},{"$f":"'30'!U17","v":0},{"$f":"'20'!U17","v":0},{"$f":"'17'!U17","v":0},{"$f":"'15'!U17","v":0},{"$f":"'12'!U17","v":0},{"$f":"'10'!U17","v":0}]
[15,{"$f":"'80'!U18","v":0},{"$f":"'40'!U18","v":0},{"$f":"'30'!U18","v":0},{"$f":"'20'!U18","v":0},{"$f":"'17'!U18","v":0},{"$f":"'15'!U18","v":0},{"$f":"'12'!U18","v":0},{"$f":"'10'!U18","v":0}]
[16,{"$f":"'80'!U19","v":0},{"$f":"'40'!U19","v":0},{"$f":"'30'!U19","v":0},{"$f":"'20'!U19","v":0},{"$f":"'17'!U19","v":0},{"$f":"'15'!U19","v":0},{"$f":"'12'!U19","v":0},{"$f":"'10'!U19","v":0}]
[17,{"$f":"'80'!U20","v":0},{"$f":"'40'!U20","v":0},{"$f":"'30'!U20","v":0},{"$f":"'20'!U20","v":0},{"$f":"'17'!U20","v":0},{"$f":"'15'!U20","v":0},{"$f":"'12'!U20","v":0},{"$f":"'10'!U20","v":0}]
[18,{"$f":"'80'!U21","v":0},{"$f":"'40'!U21","v":0},{"$f":"'30'!U21","v":0},{"$f":"'20'!U21","v":0},{"$f":"'17'!U21","v":0},{"$f":"'15'!U21","v":0},{"$f":"'12'!U21","v":0},{"$f":"'10'!U21","v":0}]
[19,{"$f":"'80'!U22","v":0},{"$f":"'40'!U22","v":0},{"$f":"'30'!U22","v":0},{"$f":"'20'!U22","v":0},{"$f":"'17'!U22","v":0},{"$f":"'15'!U22","v":0},{"$f":"'12'!U22","v":0},{"$f":"'10'!U22","v":0}]
[20,{"$f":"'80'!U23","v":0},{"$f":"'40'!U23","v":0},{"$f":"'30'!U23","v":0},{"$f":"'20'!U23","v":0},{"$f":"'17'!U23","v":0},{"$f":"'15'!U23","v":0},{"$f":"'12'!U23","v":0},{"$f":"'10'!U23","v":0}]
[21,{"$f":"'80'!U24","v":0},{"$f":"'40'!U24","v":0},{"$f":"'30'!U24","v":0},{"$f":"'20'!U24","v":0},{"$f":"'17'!U24","v":0},{"$f":"'15'!U24","v":0},{"$f":"'12'!U24","v":0},{"$f":"'10'!U24","v":0}]
[22,{"$f":"'80'!U25","v":0},{"$f":"'40'!U25","v":0},{"$f":"'30'!U25","v":0},{"$f":"'20'!U25","v":0},{"$f":"'17'!U25","v":0},{"$f":"'15'!U25","v":0},{"$f":"'12'!U25","v":0},{"$f":"'10'!U25","v":0}]
[23,{"$f":"'80'!U26","v":0},{"$f":"'40'!U26","v":0},{"$f":"'30'!U26","v":0},{"$f":"'20'!U26","v":0},{"$f":"'17'!U26","v":0},{"$f":"'15'!U26","v":0},{"$f":"'12'!U26","v":0},{"$f":"'10'!U26","v":0}]
[24,{"$f":"'80'!U27","v":0},{"$f":"'40'!U27","v":0},{"$f":"'30'!U27","v":0},{"$f":"'20'!U27","v":0},{"$f":"'17'!U27","v":0},{"$f":"'15'!U27","v":0},{"$f":"'12'!U27","v":0},{"$f":"'10'!U27","v":0}]

{"sheet":"15 I","index":28,"n_rows":25,"n_cols":9,"rows_kept":25}
["UT","80M","40M","30M","20M","17M","15M","12M","10M"]
[1,{"$f":"'80'!V4","v":0},{"$f":"'40'!V4","v":0},{"$f":"'30'!V4","v":0},{"$f":"'20'!V4","v":0},{"$f":"'17'!V4","v":0},{"$f":"'15'!V4","v":0},{"$f":"'12'!V4","v":0},{"$f":"'10'!V4","v":0}]
[2,{"$f":"'80'!V5","v":0},{"$f":"'40'!V5","v":0},{"$f":"'30'!V5","v":0},{"$f":"'20'!V5","v":0},{"$f":"'17'!V5","v":0},{"$f":"'15'!V5","v":0},{"$f":"'12'!V5","v":0},{"$f":"'10'!V5","v":0}]
[3,{"$f":"'80'!V6","v":0},{"$f":"'40'!V6","v":0},{"$f":"'30'!V6","v":0},{"$f":"'20'!V6","v":0},{"$f":"'17'!V6","v":0},{"$f":"'15'!V6","v":0},{"$f":"'12'!V6","v":0},{"$f":"'10'!V6","v":0}]
[4,{"$f":"'80'!V7","v":0},{"$f":"'40'!V7","v":0},{"$f":"'30'!V7","v":0},{"$f":"'20'!V7","v":0},{"$f":"'17'!V7","v":0},{"$f":"'15'!V7","v":0},{"$f":"'12'!V7","v":0},{"$f":"'10'!V7","v":0}]
[5,{"$f":"'80'!V8","v":0},{"$f":"'40'!V8","v":0},{"$f":"'30'!V8","v":0},{"$f":"'20'!V8","v":0},{"$f":"'17'!V8","v":0},{"$f":"'15'!V8","v":0},{"$f":"'12'!V8","v":0},{"$f":"'10'!V8","v":0}]
[6,{"$f":"'80'!V9","v":0},{"$f":"'40'!V9","v":0},{"$f":"'30'!V9","v":0},{"$f":"'20'!V9","v":0},{"$f":"'17'!V9","v":0},{"$f":"'15'!V9","v":0},{"$f":"'12'!V9","v":0},{"$f":"'10'!V9","v":0}]
[7,{"$f":"'80'!V10","v":0},{"$f":"'40'!V10","v":0},{"$f":"'30'!V10","v":0},{"$f":"'20'!V10","v":0},{"$f":"'17'!V10","v":0},{"$f":"'15'!V10","v":0},{"$f":"'12'!V10","v":0},{"$f":"'10'!V10","v":0}]
[8,{"$f":"'80'!V11","v":0},{"$f":"'40'!V11","v":0},{"$f":"'30'!V11","v":0},{"$f":"'20'!V11","v":0},{"$f":"'17'!V11","v":0},{"$f":"'15'!V11","v":0},{"$f":"'12'!V11","v":0},{"$f":"'10'!V11","v":0}]
[9,{"$f":"'80'!V12","v":0},{"$f":"'40'!V12","v":0},{"$f":"'30'!V12","v":0},{"$f":"'20'!V12","v":0},{"$f":"'17'!V12","v":0},{"$f":"'15'!V12","v":0},{"$f":"'12'!V12","v":0},{"$f":"'10'!V12","v":0}]
[10,{"$f":"'80'!V13","v":0},{"$f":"'40'!V13","v":0},{"$f":"'30'!V13","v":0},{"$f":"'20'!V13","v":0},{"$f":"'17'!V13","v":0},{"$f":"'15'!V13","v":0},{"$f":"'12'!V13","v":0},{"$f":"'10'!V13","v":0}]
[11,{"$f":"'80'!V14","v":0},{"$f":"'40'!V14","v":0},{"$f":"'30'!V14","v":0},{"$f":"'20'!V14","v":0},{"$f":"'17'!V14","v":0},{"$f":"'15'!V14","v":0},{"$f":"'12'!V14","v":0},{"$f":"'10'!V14","v":0}]
[12,{"$f":"'80'!V15","v":0},{"$f":"'40'!V15","v":0},{"$f":"'30'!V15","v":0},{"$f":"'20'!V15","v":0},{"$f":"'17'!V15","v":0},{"$f":"'15'!V15","v":0},{"$f":"'12'!V15","v":0},{"$f":"'10'!V15","v":0}]
[13,{"$f":"'80'!V16","v":0},{"$f":"'40'!V16","v":0},{"$f":"'30'!V16","v":0},{"$f":"'20'!V16","v":0},{"$f":"'17'!V16","v":0},{"$f":"'15'!V16","v":0},{"$f":"'12'!V16","v":0},{"$f":"'10'!V16","v":0}]
[14,{"$f":"'80'!V17","v":0},{"$f":"'40'!V17","v":0},{"$f":"'30'!V17","v":0},{"$f":"'20'!V17","v":0},{"$f":"'17'!V17","v":0},{"$f":"'15'!V17","v":0},{"$f":"'12'!V17","v":0},{"$f":"'10'!V17","v":0}]
[15,{"$f":"'80'!V18","v":0},{"$f":"'40'!V18","v":0},{"$f":"'30'!V18","v":0},{"$f":"'20'!V18","v":0},{"$f":"'17'!V18","v":0},{"$f":"'15'!V18","v":0},{"$f":"'12'!V18","v":0},{"$f":"'10'!V18","v":0}]
[16,{"$f":"'80'!V19","v":0},{"$f":"'40'!V19","v":0},{"$f":"'30'!V19","v":0},{"$f":"'20'!V19","v":0},{"$f":"'17'!V19","v":0},{"$f":"'15'!V19","v":0},{"$f":"'12'!V19","v":0},{"$f":"'10'!V19","v":0}]
[17,{"$f":"'80'!V20","v":0},{"$f":"'40'!V20","v":0},{"$f":"'30'!V20","v":0},{"$f":"'20'!V20","v":0},{"$f":"'17'!V20","v":0},{"$f":"'15'!V20","v":0},{"$f":"'12'!V20","v":0},{"$f":"'10'!V20","v":0}]
[18,{"$f":"'80'!V21","v":0},{"$f":"'40'!V21","v":0},{"$f":"'30'!V21","v":0},{"$f":"'20'!V21","v":0},{"$f":"'17'!V21","v":0},{"$f":"'15'!V21","v":0},{"$f":"'12'!V21","v":0},{"$f":"'10'!V21","v":0}]
[19,{"$f":"'80'!V22","v":0},{"$f":"'40'!V22","v":0},{"$f":"'30'!V22","v":0},{"$f":"'20'!V22","v":0},{"$f":"'17'!V22","v":0},{"$f":"'15'!V22","v":0},{"$f":"'12'!V22","v":0},{"$f":"'10'!V22","v":0}]
[20,{"$f":"'80'!V23","v":0},{"$f":"'40'!V23","v":0},{"$f":"'30'!V23","v":0},{"$f":"'20'!V23","v":0},{"$f":"'17'!V23","v":0},{"$f":"'15'!V23","v":0},{"$f":"'12'!V23","v":0},{"$f":"'10'!V23","v":0}]
[21,{"$f":"'80'!V24","v":0},{"$f":"'40'!V24","v":0},{"$f":"'30'!V24","v":0},{"$f":"'20'!V24","v":0},{"$f":"'17'!V24","v":0},{"$f":"'15'!V24","v":0},{"$f":"'12'!V24","v":0},{"$f":"'10'!V24","v":0}]
[22,{"$f":"'80'!V25","v":0},{"$f":"'40'!V25","v":0},{"$f":"'30'!V25","v":0},{"$f":"'20'!V25","v":0},{"$f":"'17'!V25","v":0},{"$f":"'15'!V25","v":0},{"$f":"'12'!V25","v":0},{"$f":"'10'!V25","v":0}]
[23,{"$f":"'80'!V26","v":0},{"$f":"'40'!V26","v":0},{"$f":"'30'!V26","v":0},{"$f":"'20'!V26","v":0},{"$f":"'17'!V26","v":0},{"$f":"'15'!V26","v":0},{"$f":"'12'!V26","v":0},{"$f":"'10'!V26","v":0}]
[24,{"$f":"'80'!V27","v":0},{"$f":"'40'!V27","v":0},{"$f":"'30'!V27","v":0},{"$f":"'20'!V27","v":0},{"$f":"'17'!V27","v":0},{"$f":"'15'!V27","v":0},{"$f":"'12'!V27","v":0},{"$f":"'10'!V27","v":0}]

{"sheet":"15 OH","index":29,"n_rows":25,"n_cols":9,"rows_kept":25}
["UT","80M","40M","30M","20M","17M","15M","12M","10M"]
[1,{"$f":"'80'!W4","v":0},{"$f":"'40'!W4","v":0},{"$f":"'30'!W4","v":0},{"$f":"'20'!W4","v":0},{"$f":"'17'!W4","v":0},{"$f":"'15'!W4","v":0},{"$f":"'12'!W4","v":0},{"$f":"'10'!W4","v":0}]
[2,{"$f":"'80'!W5","v":0},{"$f":"'40'!W5","v":0},{"$f":"'30'!W5","v":0},{"$f":"'20'!W5","v":0},{"$f":"'17'!W5","v":0},{"$f":"'15'!W5","v":0},{"$f":"'12'!W5","v":0},{"$f":"'10'!W5","v":0}]
[3,{"$f":"'80'!W6","v":0},{"$f":"'40'!W6","v":0},{"$f":"'30'!W6","v":0},{"$f":"'20'!W6","v":0},{"$f":"'17'!W6","v":0},{"$f":"'15'!W6","v":0},{"$f":"'12'!W6","v":0},{"$f":"'10'!W6","v":0}]
[4,{"$f":"'80'!W7","v":0},{"$f":"'40'!W7","v":0},{"$f":"'30'!W7","v":0},{"$f":"'20'!W7","v":0},{"$f":"'17'!W7","v":0},{"$f":"'15'!W7","v":0},{"$f":"'12'!W7","v":0},{"$f":"'10'!W7","v":0}]
[5,{"$f":"'80'!W8","v":0},{"$f":"'40'!W8","v":0},{"$f":"'30'!W8","v":0},{"$f":"'20'!W8","v":0},{"$f":"'17'!W8","v":0},{"$f":"'15'!W8","v":0},{"$f":"'12'!W8","v":0},{"$f":"'10'!W8","v":0}]
[6,{"$f":"'80'!W9","v":0},{"$f":"'40'!W9","v":0},{"$f":"'30'!W9","v":0},{"$f":"'20'!W9","v":0},{"$f":"'17'!W9","v":0},{"$f":"'15'!W9","v":0},{"$f":"'12'!W9","v":0},{"$f":"'10'!W9","v":0}]
[7,{"$f":"'80'!W10","v":0},{"$f":"'40'!W10","v":0},{"$f":"'30'!W10","v":0},{"$f":"'20'!W10","v":0},{"$f":"'17'!W10","v":0},{"$f":"'15'!W10","v":0},{"$f":"'12'!W10","v":0},{"$f":"'10'!W10","v":0}]
[8,{"$f":"'80'!W11","v":0},{"$f":"'40'!W11","v":0},{"$f":"'30'!W11","v":0},{"$f":"'20'!W11","v":0},{"$f":"'17'!W11","v":0},{"$f":"'15'!W11","v":0},{"$f":"'12'!W11","v":0},{"$f":"'10'!W11","v":0}]
[9,{"$f":"'80'!W12","v":0},{"$f":"'40'!W12","v":0},{"$f":"'30'!W12","v":0},{"$f":"'20'!W12","v":0},{"$f":"'17'!W12","v":0},{"$f":"'15'!W12","v":0},{"$f":"'12'!W12","v":0},{"$f":"'10'!W12","v":0}]
[10,{"$f":"'80'!W13","v":0},{"$f":"'40'!W13","v":0},{"$f":"'30'!W13","v":0},{"$f":"'20'!W13","v":0},{"$f":"'17'!W13","v":0},{"$f":"'15'!W13","v":0},{"$f":"'12'!W13","v":0},{"$f":"'10'!W13","v":0}]
[11,{"$f":"'80'!W14","v":0},{"$f":"'40'!W14","v":0},{"$f":"'30'!W14","v":0},{"$f":"'20'!W14","v":0},{"$f":"'17'!W14","v":0},{"$f":"'15'!W14","v":0},{"$f":"'12'!W14","v":0},{"$f":"'10'!W14","v":0}]
[12,{"$f":"'80'!W15","v":0},{"$f":"'40'!W15","v":0},{"$f":"'30'!W15","v":0},{"$f":"'20'!W15","v":0},{"$f":"'17'!W15","v":0},{"$f":"'15'!W15","v":0},{"$f":"'12'!W15","v":0},{"$f":"'10'!W15","v":0}]
[13,{"$f":"'80'!W16","v":0},{"$f":"'40'!W16","v":0},{"$f":"'30'!W16","v":0},{"$f":"'20'!W16","v":0},{"$f":"'17'!W16","v":0},{"$f":"'15'!W16","v":0},{"$f":"'12'!W16","v":0},{"$f":"'10'!W16","v":0}]
[14,{"$f":"'80'!W17","v":0},{"$f":"'40'!W17","v":0},{"$f":"'30'!W17","v":0},{"$f":"'20'!W17","v":0},{"$f":"'17'!W17","v":0},{"$f":"'15'!W17","v":0},{"$f":"'12'!W17","v":0},{"$f":"'10'!W17","v":0}]
[15,{"$f":"'80'!W18","v":0},{"$f":"'40'!W18","v":0},{"$f":"'30'!W18","v":0},{"$f":"'20'!W18","v":0},{"$f":"'17'!W18","v":0},{"$f":"'15'!W18","v":0},{"$f":"'12'!W18","v":0},{"$f":"'10'!W18","v":0}]
[16,{"$f":"'80'!W19","v":0},{"$f":"'40'!W19","v":0},{"$f":"'30'!W19","v":0},{"$f":"'20'!W19","v":0},{"$f":"'17'!W19","v":0},{"$f":"'15'!W19","v":0},{"$f":"'12'!W19","v":0},{"$f":"'10'!W19","v":0}]
[17,{"$f":"'80'!W20","v":0},{"$f":"'40'!W20","v":0},{"$f":"'30'!W20","v":0},{"$f":"'20'!W20","v":0},{"$f":"'17'!W20","v":0},{"$f":"'15'!W20","v":0},{"$f":"'12'!W20","v":0},{"$f":"'10'!W20","v":0}]
[18,{"$f":"'80'!W21","v":0},{"$f":"'40'!W21","v":0},{"$f":"'30'!W21","v":0},{"$f":"'20'!W21","v":0},{"$f":"'17'!W21","v":0},{"$f":"'15'!W21","v":0},{"$f":"'12'!W21","v":0},{"$f":"'10'!W21","v":0}]
[19,{"$f":"'80'!W22","v":0},{"$f":"'40'!W22","v":0},{"$f":"'30'!W22","v":0},{"$f":"'20'!W22","v":0},{"$f":"'17'!W22","v":0},{"$f":"'15'!W22","v":0},{"$f":"'12'!W22","v":0},{"$f":"'10'!W22","v":0}]
[20,{"$f":"'80'!W23","v":0},{"$f":"'40'!W23","v":0},{"$f":"'30'!W23","v":0},{"$f":"'20'!W23","v":0},{"$f":"'17'!W23","v":0},{"$f":"'15'!W23","v":0},{"$f":"'12'!W23","v":0},{"$f":"'10'!W23","v":0}]
[21,{"$f":"'80'!W24","v":0},{"$f":"'40'!W24","v":0},{"$f":"'30'!W24","v":0},{"$f":"'20'!W24","v":0},{"$f":"'17'!W24","v":0},{"$f":"'15'!W24","v":0},{"$f":"'12'!W24","v":0},{"$f":"'10'!W24","v":0}]
[22,{"$f":"'80'!W25","v":0},{"$f":"'40'!W25","v":0},{"$f":"'30'!W25","v":0},{"$f":"'20'!W25","v":0},{"$f":"'17'!W25","v":0},{"$f":"'15'!W25","v":0},{"$f":"'12'!W25","v":0},{"$f":"'10'!W25","v":0}]
[23,{"$f":"'80'!W26","v":0},{"$f":"'40'!W26","v":0},{"$f":"'30'!W26","v":0},{"$f":"'20'!W26","v":0},{"$f":"'17'!W26","v":0},{"$f":"'15'!W26","v":0},{"$f":"'12'!W26","v":0},{"$f":"'10'!W26","v":0}]
[24,{"$f":"'80'!W27","v":0},{"$f":"'40'!W27","v":0},{"$f":"'30'!W27","v":0},{"$f":"'20'!W27","v":0},{"$f":"'17'!W27","v":0},{"$f":"'15'!W27","v":0},{"$f":"'12'!W27","v":0},{"$f":"'10'!W27","v":0}]

{"sheet":"15 OM","index":30,"n_rows":25,"n_cols":9,"rows_kept":25}
["UT","80M","40M","30M","20M","17M","15M","12M","10M"]
[1,{"$f":"'80'!X4","v":0},{"$f":"'40'!X4","v":0},{"$f":"'30'!X4","v":0},{"$f":"'20'!X4","v":0},{"$f":"'17'!X4","v":0},{"$f":"'15'!X4","v":0},{"$f":"'12'!X4","v":0},{"$f":"'10'!X4","v":0}]
[2,{"$f":"'80'!X5","v":0},{"$f":"'40'!X5","v":0},{"$f":"'30'!X5","v":0},{"$f":"'20'!X5","v":0},{"$f":"'17'!X5","v":0},{"$f":"'15'!X5","v":0},{"$f":"'12'!X5","v":0},{"$f":"'10'!X5","v":0}]
[3,{"$f":"'80'!X6","v":0},{"$f":"'40'!X6","v":0},{"$f":"'30'!X6","v":0},{"$f":"'20'!X6","v":0},{"$f":"'17'!X6","v":0},{"$f":"'15'!X6","v":0},{"$f":"'12'!X6","v":0},{"$f":"'10'!X6","v":0}]
[4,{"$f":"'80'!X7","v":0},{"$f":"'40'!X7","v":0},{"$f":"'30'!X7","v":0},{"$f":"'20'!X7","v":0},{"$f":"'17'!X7","v":0},{"$f":"'15'!X7","v":0},{"$f":"'12'!X7","v":0},{"$f":"'10'!X7","v":0}]
[5,{"$f":"'80'!X8","v":0},{"$f":"'40'!X8","v":0},{"$f":"'30'!X8","v":0},{"$f":"'20'!X8","v":0},{"$f":"'17'!X8","v":0},{"$f":"'15'!X8","v":0},{"$f":"'12'!X8","v":0},{"$f":"'10'!X8","v":0}]
[6,{"$f":"'80'!X9","v":0},{"$f":"'40'!X9","v":0},{"$f":"'30'!X9","v":0},{"$f":"'20'!X9","v":0},{"$f":"'17'!X9","v":0},{"$f":"'15'!X9","v":0},{"$f":"'12'!X9","v":0},{"$f":"'10'!X9","v":0}]
[7,{"$f":"'80'!X10","v":0},{"$f":"'40'!X10","v":0},{"$f":"'30'!X10","v":0},{"$f":"'20'!X10","v":0},{"$f":"'17'!X10","v":0},{"$f":"'15'!X10","v":0},{"$f":"'12'!X10","v":0},{"$f":"'10'!X10","v":0}]
[8,{"$f":"'80'!X11","v":0},{"$f":"'40'!X11","v":0},{"$f":"'30'!X11","v":0},{"$f":"'20'!X11","v":0},{"$f":"'17'!X11","v":0},{"$f":"'15'!X11","v":0},{"$f":"'12'!X11","v":0},{"$f":"'10'!X11","v":0}]
[9,{"$f":"'80'!X12","v":0},{"$f":"'40'!X12","v":0},{"$f":"'30'!X12","v":0},{"$f":"'20'!X12","v":0},{"$f":"'17'!X12","v":0},{"$f":"'15'!X12","v":0},{"$f":"'12'!X12","v":0},{"$f":"'10'!X12","v":0}]
[10,{"$f":"'80'!X13","v":0},{"$f":"'40'!X13","v":0},{"$f":"'30'!X13","v":0},{"$f":"'20'!X13","v":0},{"$f":"'17'!X13","v":0},{"$f":"'15'!X13","v":0},{"$f":"'12'!X13","v":0},{"$f":"'10'!X13","v":0}]
[11,{"$f":"'80'!X14","v":0},{"$f":"'40'!X14","v":0},{"$f":"'30'!X14","v":0},{"$f":"'20'!X14","v":0},{"$f":"'17'!X14","v":0},{"$f":"'15'!X14","v":0},{"$f":"'12'!X14","v":0},{"$f":"'10'!X14","v":0}]
[12,{"$f":"'80'!X15","v":0},{"$f":"'40'!X15","v":0},{"$f":"'30'!X15","v":0},{"$f":"'20'!X15","v":0},{"$f":"'17'!X15","v":0},{"$f":"'15'!X15","v":0},{"$f":"'12'!X15","v":0},{"$f":"'10'!X15","v":0}]
[13,{"$f":"'80'!X16","v":0},{"$f":"'40'!X16","v":0},{"$f":"'30'!X16","v":0},{"$f":"'20'!X16","v":0},{"$f":"'17'!X16","v":0},{"$f":"'15'!X16","v":0},{"$f":"'12'!X16","v":0},{"$f":"'10'!X16","v":0}]
[14,{"$f":"'80'!X17","v":0},{"$f":"'40'!X17","v":0},{"$f":"'30'!X17","v":0},{"$f":"'20'!X17","v":0},{"$f":"'17'!X17","v":0},{"$f":"'15'!X17","v":0},{"$f":"'12'!X17","v":0},{"$f":"'10'!X17","v":0}]
[15,{"$f":"'80'!X18","v":0},{"$f":"'40'!X18","v":0},{"$f":"'30'!X18","v":0},{"$f":"'20'!X18","v":0},{"$f":"'17'!X18","v":0},{"$f":"'15'!X18","v":0},{"$f":"'12'!X18","v":0},{"$f":"'10'!X18","v":0}]
[16,{"$f":"'80'!X19","v":0},{"$f":"'40'!X19","v":0},{"$f":"'30'!X19","v":0},{"$f":"'20'!X19","v":0},{"$f":"'17'!X19","v":0},{"$f":"'15'!X19","v":0},{"$f":"'12'!X19","v":0},{"$f":"'10'!X19","v":0}]
[17,{"$f":"'80'!X20","v":0},{"$f":"'40'!X20","v":0},{"$f":"'30'!X20","v":0},{"$f":"'20'!X20","v":0},{"$f":"'17'!X20","v":0},{"$f":"'15'!X20","v":0},{"$f":"'12'!X20","v":0},{"$f":"'10'!X20","v":0}]
[18,{"$f":"'80'!X21","v":0},{"$f":"'40'!X21","v":0},{"$f":"'30'!X21","v":0},{"$f":"'20'!X21","v":0},{"$f":"'17'!X21","v":0},{"$f":"'15'!X21","v":0},{"$f":"'12'!X21","v":0},{"$f":"'10'!X21","v":0}]
[19,{"$f":"'80'!X22","v":0},{"$f":"'40'!X22","v":0},{"$f":"'30'!X22","v":0},{"$f":"'20'!X22","v":0},{"$f":"'17'!X22","v":0},{"$f":"'15'!X22","v":0},{"$f":"'12'!X22","v":0},{"$f":"'10'!X22","v":0}]
[20,{"$f":"'80'!X23","v":0},{"$f":"'40'!X23","v":0},{"$f":"'30'!X23","v":0},{"$f":"'20'!X23","v":0},{"$f":"'17'!X23","v":0},{"$f":"'15'!X23","v":0},{"$f":"'12'!X23","v":0},{"$f":"'10'!X23","v":0}]
[21,{"$f":"'80'!X24","v":0},{"$f":"'40'!X24","v":0},{"$f":"'30'!X24","v":0},{"$f":"'20'!X24","v":0},{"$f":"'17'!X24","v":0},{"$f":"'15'!X24","v":0},{"$f":"'12'!X24","v":0},{"$f":"'10'!X24","v":0}]
[22,{"$f":"'80'!X25","v":0},{"$f":"'40'!X25","v":0},{"$f":"'30'!X25","v":0},{"$f":"'20'!X25","v":0},{"$f":"'17'!X25","v":0},{"$f":"'15'!X25","v":0},{"$f":"'12'!X25","v":0},{"$f":"'10'!X25","v":0}]
[23,{"$f":"'80'!X26","v":0},{"$f":"'40'!X26","v":0},{"$f":"'30'!X26","v":0},{"$f":"'20'!X26","v":0},{"$f":"'17'!X26","v":0},{"$f":"'15'!X26","v":0},{"$f":"'12'!X26","v":0},{"$f":"'10'!X26","v":0}]
[24,{"$f":"'80'!X27","v":0},{"$f":"'40'!X27","v":0},{"$f":"'30'!X27","v":0},{"$f":"'20'!X27","v":0},{"$f":"'17'!X27","v":0},{"$f":"'15'!X27","v":0},{"$f":"'12'!X27","v":0},{"$f":"'10'!X27","v":0}]

{"sheet":"16 UA3","index":31,"n_rows":25,"n_cols":9,"rows_kept":25}
["UT","80M","40M","30M","20M","17M","15M","12M","10M"]
[1,{"$f":"'80'!Y4","v":0},{"$f":"'40'!Y4","v":0},{"$f":"'30'!Y4","v":0},{"$f":"'20'!Y4","v":0},{"$f":"'17'!Y4","v":0},{"$f":"'15'!Y4","v":0},{"$f":"'12'!Y4","v":0},{"$f":"'10'!Y4","v":0}]
[2,{"$f":"'80'!Y5","v":0},{"$f":"'40'!Y5","v":0},{"$f":"'30'!Y5","v":0},{"$f":"'20'!Y5","v":0},{"$f":"'17'!Y5","v":0},{"$f":"'15'!Y5","v":0},{"$f":"'12'!Y5","v":0},{"$f":"'10'!Y5","v":0}]
[3,{"$f":"'80'!Y6","v":0},{"$f":"'40'!Y6","v":0},{"$f":"'30'!Y6","v":0},{"$f":"'20'!Y6","v":0},{"$f":"'17'!Y6","v":0},{"$f":"'15'!Y6","v":0},{"$f":"'12'!Y6","v":0},{"$f":"'10'!Y6","v":0}]
[4,{"$f":"'80'!Y7","v":0},{"$f":"'40'!Y7","v":0},{"$f":"'30'!Y7","v":0},{"$f":"'20'!Y7","v":0},{"$f":"'17'!Y7","v":0},{"$f":"'15'!Y7","v":0},{"$f":"'12'!Y7","v":0},{"$f":"'10'!Y7","v":0}]
[5,{"$f":"'80'!Y8","v":0},{"$f":"'40'!Y8","v":0},{"$f":"'30'!Y8","v":0},{"$f":"'20'!Y8","v":0},{"$f":"'17'!Y8","v":0},{"$f":"'15'!Y8","v":0},{"$f":"'12'!Y8","v":0},{"$f":"'10'!Y8","v":0}]
[6,{"$f":"'80'!Y9","v":0},{"$f":"'40'!Y9","v":0},{"$f":"'30'!Y9","v":0},{"$f":"'20'!Y9","v":0},{"$f":"'17'!Y9","v":0},{"$f":"'15'!Y9","v":0},{"$f":"'12'!Y9","v":0},{"$f":"'10'!Y9","v":0}]
[7,{"$f":"'80'!Y10","v":0},{"$f":"'40'!Y10","v":0},{"$f":"'30'!Y10","v":0},{"$f":"'20'!Y10","v":0},{"$f":"'17'!Y10","v":0},{"$f":"'15'!Y10","v":0},{"$f":"'12'!Y10","v":0},{"$f":"'10'!Y10","v":0}]
[8,{"$f":"'80'!Y11","v":0},{"$f":"'40'!Y11","v":0},{"$f":"'30'!Y11","v":0},{"$f":"'20'!Y11","v":0},{"$f":"'17'!Y11","v":0},{"$f":"'15'!Y11","v":0},{"$f":"'12'!Y11","v":0},{"$f":"'10'!Y11","v":0}]
[9,{"$f":"'80'!Y12","v":0},{"$f":"'40'!Y12","v":0},{"$f":"'30'!Y12","v":0},{"$f":"'20'!Y12","v":0},{"$f":"'17'!Y12","v":0},{"$f":"'15'!Y12","v":0},{"$f":"'12'!Y12","v":0},{"$f":"'10'!Y12","v":0}]
[10,{"$f":"'80'!Y13","v":0},{"$f":"'40'!Y13","v":0},{"$f":"'30'!Y13","v":0},{"$f":"'20'!Y13","v":0},{"$f":"'17'!Y13","v":0},{"$f":"'15'!Y13","v":0},{"$f":"'12'!Y13","v":0},{"$f":"'10'!Y13","v":0}]
[11,{"$f":"'80'!Y14","v":0},{"$f":"'40'!Y14","v":0},{"$f":"'30'!Y14","v":0},{"$f":"'20'!Y14","v":0},{"$f":"'17'!Y14","v":0},{"$f":"'15'!Y14","v":0},{"$f":"'12'!Y14","v":0},{"$f":"'10'!Y14","v":0}]
[12,{"$f":"'80'!Y15","v":0},{"$f":"'40'!Y15","v":0},{"$f":"'30'!Y15","v":0},{"$f":"'20'!Y15","v":0},{"$f":"'17'!Y15","v":0},{"$f":"'15'!Y15","v":0},{"$f":"'12'!Y15","v":0},{"$f":"'10'!Y15","v":0}]
[13,{"$f":"'80'!Y16","v":0},{"$f":"'40'!Y16","v":0},{"$f":"'30'!Y16","v":0},{"$f":"'20'!Y16","v":0},{"$f":"'17'!Y16","v":0},{"$f":"'15'!Y16","v":0},{"$f":"'12'!Y16","v":0},{"$f":"'10'!Y16","v":0}]
[14,{"$f":"'80'!Y17","v":0},{"$f":"'40'!Y17","v":0},{"$f":"'30'!Y17","v":0},{"$f":"'20'!Y17","v":0},{"$f":"'17'!Y17","v":0},{"$f":"'15'!Y17","v":0},{"$f":"'12'!Y17","v":0},{"$f":"'10'!Y17","v":0}]
[15,{"$f":"'80'!Y18","v":0},{"$f":"'40'!Y18","v":0},{"$f":"'30'!Y18","v":0},{"$f":"'20'!Y18","v":0},{"$f":"'17'!Y18","v":0},{"$f":"'15'!Y18","v":0},{"$f":"'12'!Y18","v":0},{"$f":"'10'!Y18","v":0}]
[16,{"$f":"'80'!Y19","v":0},{"$f":"'40'!Y19","v":0},{"$f":"'30'!Y19","v":0},{"$f":"'20'!Y19","v":0},{"$f":"'17'!Y19","v":0},{"$f":"'15'!Y19","v":0},{"$f":"'12'!Y19","v":0},{"$f":"'10'!Y19","v":0}]
[17,{"$f":"'80'!Y20","v":0},{"$f":"'40'!Y20","v":0},{"$f":"'30'!Y20","v":0},{"$f":"'20'!Y20","v":0},{"$f":"'17'!Y20","v":0},{"$f":"'15'!Y20","v":0},{"$f":"'12'!Y20","v":0},{"$f":"'10'!Y20","v":0}]
[18,{"$f":"'80'!Y21","v":0},{"$f":"'40'!Y21","v":0},{"$f":"'30'!Y21","v":0},{"$f":"'20'!Y21","v":0},{"$f":"'17'!Y21","v":0},{"$f":"'15'!Y21","v":0},{"$f":"'12'!Y21","v":0},{"$f":"'10'!Y21","v":0}]
[19,{"$f":"'80'!Y22","v":0},{"$f":"'40'!Y22","v":0},{"$f":"'30'!Y22","v":0},{"$f":"'20'!Y22","v":0},{"$f":"'17'!Y22","v":0},{"$f":"'15'!Y22","v":0},{"$f":"'12'!Y22","v":0},{"$f":"'10'!Y22","v":0}]
[20,{"$f":"'80'!Y23","v":0},{"$f":"'40'!Y23","v":0},{"$f":"'30'!Y23","v":0},{"$f":"'20'!Y23","v":0},{"$f":"'17'!Y23","v":0},{"$f":"'15'!Y23","v":0},{"$f":"'12'!Y23","v":0},{"$f":"'10'!Y23","v":0}]
[21,{"$f":"'80'!Y24","v":0},{"$f":"'40'!Y24","v":0},{"$f":"'30'!Y24","v":0},{"$f":"'20'!Y24","v":0},{"$f":"'17'!Y24","v":0},{"$f":"'15'!Y24","v":0},{"$f":"'12'!Y24","v":0},{"$f":"'10'!Y24","v":0}]
[22,{"$f":"'80'!Y25","v":0},{"$f":"'40'!Y25","v":0},{"$f":"'30'!Y25","v":0},{"$f":"'20'!Y25","v":0},{"$f":"'17'!Y25","v":0},{"$f":"'15'!Y25","v":0},{"$f":"'12'!Y25","v":0},{"$f":"'10'!Y25","v":0}]
[23,{"$f":"'80'!Y26","v":0},{"$f":"'40'!Y26","v":0},{"$f":"'30'!Y26","v":0},{"$f":"'20'!Y26","v":0},{"$f":"'17'!Y26","v":0},{"$f":"'15'!Y26","v":0},{"$f":"'12'!Y26","v":0},{"$f":"'10'!Y26","v":0}]
[24,{"$f":"'80'!Y27","v":0},{"$f":"'40'!Y27","v":0},{"$f":"'30'!Y27","v":0},{"$f":"'20'!Y27","v":0},{"$f":"'17'!Y27","v":0},{"$f":"'15'!Y27","v":0},{"$f":"'12'!Y27","v":0},{"$f":"'10'!Y27","v":0}]

{"sheet":"17 UN","index":32,"n_rows":25,"n_cols":9,"rows_kept":25}
["UT","80M","40M","30M","20M","17M","15M","12M","10M"]
[1,{"$f":"'80'!Z4","v":0},{"$f":"'40'!Z4","v":0},{"$f":"'30'!Z4","v":0},{"$f":"'20'!Z4","v":0},{"$f":"'17'!Z4","v":0},{"$f":"'15'!Z4","v":0},{"$f":"'12'!Z4","v":0},{"$f":"'10'!Z4","v":0}]
[2,{"$f":"'80'!Z5","v":0},{"$f":"'40'!Z5","v":0},{"$f":"'30'!Z5","v":0},{"$f":"'20'!Z5","v":0},{"$f":"'17'!Z5","v":0},{"$f":"'15'!Z5","v":0},{"$f":"'12'!Z5","v":0},{"$f":"'10'!Z5","v":0}]
[3,{"$f":"'80'!Z6","v":0},{"$f":"'40'!Z6","v":0},{"$f":"'30'!Z6","v":0},{"$f":"'20'!Z6","v":0},{"$f":"'17'!Z6","v":0},{"$f":"'15'!Z6","v":0},{"$f":"'12'!Z6","v":0},{"$f":"'10'!Z6","v":0}]
[4,{"$f":"'80'!Z7","v":0},{"$f":"'40'!Z7","v":0},{"$f":"'30'!Z7","v":0},{"$f":"'20'!Z7","v":0},{"$f":"'17'!Z7","v":0},{"$f":"'15'!Z7","v":0},{"$f":"'12'!Z7","v":0},{"$f":"'10'!Z7","v":0}]
[5,{"$f":"'80'!Z8","v":0},{"$f":"'40'!Z8","v":0},{"$f":"'30'!Z8","v":0},{"$f":"'20'!Z8","v":0},{"$f":"'17'!Z8","v":0},{"$f":"'15'!Z8","v":0},{"$f":"'12'!Z8","v":0},{"$f":"'10'!Z8","v":0}]
[6,{"$f":"'80'!Z9","v":0},{"$f":"'40'!Z9","v":0},{"$f":"'30'!Z9","v":0},{"$f":"'20'!Z9","v":0},{"$f":"'17'!Z9","v":0},{"$f":"'15'!Z9","v":0},{"$f":"'12'!Z9","v":0},{"$f":"'10'!Z9","v":0}]
[7,{"$f":"'80'!Z10","v":0},{"$f":"'40'!Z10","v":0},{"$f":"'30'!Z10","v":0},{"$f":"'20'!Z10","v":0},{"$f":"'17'!Z10","v":0},{"$f":"'15'!Z10","v":0},{"$f":"'12'!Z10","v":0},{"$f":"'10'!Z10","v":0}]
[8,{"$f":"'80'!Z11","v":0},{"$f":"'40'!Z11","v":0},{"$f":"'30'!Z11","v":0},{"$f":"'20'!Z11","v":0},{"$f":"'17'!Z11","v":0},{"$f":"'15'!Z11","v":0},{"$f":"'12'!Z11","v":0},{"$f":"'10'!Z11","v":0}]
[9,{"$f":"'80'!Z12","v":0},{"$f":"'40'!Z12","v":0},{"$f":"'30'!Z12","v":0},{"$f":"'20'!Z12","v":0},{"$f":"'17'!Z12","v":0},{"$f":"'15'!Z12","v":0},{"$f":"'12'!Z12","v":0},{"$f":"'10'!Z12","v":0}]
[10,{"$f":"'80'!Z13","v":0},{"$f":"'40'!Z13","v":0},{"$f":"'30'!Z13","v":0},{"$f":"'20'!Z13","v":0},{"$f":"'17'!Z13","v":0},{"$f":"'15'!Z13","v":0},{"$f":"'12'!Z13","v":0},{"$f":"'10'!Z13","v":0}]
[11,{"$f":"'80'!Z14","v":0},{"$f":"'40'!Z14","v":0},{"$f":"'30'!Z14","v":0},{"$f":"'20'!Z14","v":0},{"$f":"'17'!Z14","v":0},{"$f":"'15'!Z14","v":0},{"$f":"'12'!Z14","v":0},{"$f":"'10'!Z14","v":0}]
[12,{"$f":"'80'!Z15","v":0},{"$f":"'40'!Z15","v":0},{"$f":"'30'!Z15","v":0},{"$f":"'20'!Z15","v":0},{"$f":"'17'!Z15","v":0},{"$f":"'15'!Z15","v":0},{"$f":"'12'!Z15","v":0},{"$f":"'10'!Z15","v":0}]
[13,{"$f":"'80'!Z16","v":0},{"$f":"'40'!Z16","v":0},{"$f":"'30'!Z16","v":0},{"$f":"'20'!Z16","v":0},{"$f":"'17'!Z16","v":0},{"$f":"'15'!Z16","v":0},{"$f":"'12'!Z16","v":0},{"$f":"'10'!Z16","v":0}]
[14,{"$f":"'80'!Z17","v":0},{"$f":"'40'!Z17","v":0},{"$f":"'30'!Z17","v":0},{"$f":"'20'!Z17","v":0},{"$f":"'17'!Z17","v":0},{"$f":"'15'!Z17","v":0},{"$f":"'12'!Z17","v":0},{"$f":"'10'!Z17","v":0}]
[15,{"$f":"'80'!Z18","v":0},{"$f":"'40'!Z18","v":0},{"$f":"'30'!Z18","v":0},{"$f":"'20'!Z18","v":0},{"$f":"'17'!Z18","v":0},{"$f":"'15'!Z18","v":0},{"$f":"'12'!Z18","v":0},{"$f":"'10'!Z18","v":0}]
[16,{"$f":"'80'!Z19","v":0},{"$f":"'40'!Z19","v":0},{"$f":"'30'!Z19","v":0},{"$f":"'20'!Z19","v":0},{"$f":"'17'!Z19","v":0},{"$f":"'15'!Z19","v":0},{"$f":"'12'!Z19","v":0},{"$f":"'10'!Z19","v":0}]
[17,{"$f":"'80'!Z20","v":0},{"$f":"'40'!Z20","v":0},{"$f":"'30'!Z20","v":0},{"$f":"'20'!Z20","v":0},{"$f":"'17'!Z20","v":0},{"$f":"'15'!Z20","v":0},{"$f":"'12'!Z20","v":0},{"$f":"'10'!Z20","v":0}]
[18,{"$f":"'80'!Z21","v":0},{"$f":"'40'!Z21","v":0},{"$f":"'30'!Z21","v":0},{"$f":"'20'!Z21","v":0},{"$f":"'17'!Z21","v":0},{"$f":"'15'!Z21","v":0},{"$f":"'12'!Z21","v":0},{"$f":"'10'!Z21","v":0}]
[19,{"$f":"'80'!Z22","v":0},{"$f":"'40'!Z22","v":0},{"$f":"'30'!Z22","v":0},{"$f":"'20'!Z22","v":0},{"$f":"'17'!Z22","v":0},{"$f":"'15'!Z22","v":0},{"$f":"'12'!Z22","v":0},{"$f":"'10'!Z22","v":0}]
[20,{"$f":"'80'!Z23","v":0},{"$f":"'40'!Z23","v":0},{"$f":"'30'!Z23","v":0},{"$f":"'20'!Z23","v":0},{"$f":"'17'!Z23","v":0},{"$f":"'15'!Z23","v":0},{"$f":"'12'!Z23","v":0},{"$f":"'10'!Z23","v":0}]
[21,{"$f":"'80'!Z24","v":0},{"$f":"'40'!Z24","v":0},{"$f":"'30'!Z24","v":0},{"$f":"'20'!Z24","v":0},{"$f":"'17'!Z24","v":0},{"$f":"'15'!Z24","v":0},{"$f":"'12'!Z24","v":0},{"$f":"'10'!Z24","v":0}]
[22,{"$f":"'80'!Z25","v":0},{"$f":"'40'!Z25","v":0},{"$f":"'30'!Z25","v":0},{"$f":"'20'!Z25","v":0},{"$f":"'17'!Z25","v":0},{"$f":"'15'!Z25","v":0},{"$f":"'12'!Z25","v":0},{"$f":"'10'!Z25","v":0}]
[23,{"$f":"'80'!Z26","v":0},{"$f":"'40'!Z26","v":0},{"$f":"'30'!Z26","v":0},{"$f":"'20'!Z26","v":0},{"$f":"'17'!Z26","v":0},{"$f":"'15'!Z26","v":0},{"$f":"'12'!Z26","v":0},{"$f":"'10'!Z26","v":0}]
[24,{"$f":"'80'!Z27","v":0},{"$f":"'40'!Z27","v":0},{"$f":"'30'!Z27","v":0},{"$f":"'20'!Z27","v":0},{"$f":"'17'!Z27","v":0},{"$f":"'15'!Z27","v":0},{"$f":"'12'!Z27","v":0},{"$f":"'10'!Z27","v":0}]

{"sheet":"18 UA9","index":33,"n_rows":25,"n_cols":9,"rows_kept":25}
["UT","80M","40M","30M","20M","17M","15M","12M","10M"]
[1,{"$f":"'80'!AA4","v":0},{"$f":"'40'!AA4","v":0},{"$f":"'30'!AA4","v":0},{"$f":"'20'!AA4","v":0},{"$f":"'17'!AA4","v":0},{"$f":"'15'!AA4","v":0},{"$f":"'12'!AA4","v":0},{"$f":"'10'!AA4","v":0}]
[2,{"$f":"'80'!AA5","v":0},{"$f":"'40'!AA5","v":0},{"$f":"'30'!AA5","v":0},{"$f":"'20'!AA5","v":0},{"$f":"'17'!AA5","v":0},{"$f":"'15'!AA5","v":0},{"$f":"'12'!AA5","v":0},{"$f":"'10'!AA5","v":0}]
[3,{"$f":"'80'!AA6","v":0},{"$f":"'40'!AA6","v":0},{"$f":"'30'!AA6","v":0},{"$f":"'20'!AA6","v":0},{"$f":"'17'!AA6","v":0},{"$f":"'15'!AA6","v":0},{"$f":"'12'!AA6","v":0},{"$f":"'10'!AA6","v":0}]
[4,{"$f":"'80'!AA7","v":0},{"$f":"'40'!AA7","v":0},{"$f":"'30'!AA7","v":0},{"$f":"'20'!AA7","v":0},{"$f":"'17'!AA7","v":0},{"$f":"'15'!AA7","v":0},{"$f":"'12'!AA7","v":0},{"$f":"'10'!AA7","v":0}]
[5,{"$f":"'80'!AA8","v":0},{"$f":"'40'!AA8","v":0},{"$f":"'30'!AA8","v":0},{"$f":"'20'!AA8","v":0},{"$f":"'17'!AA8","v":0},{"$f":"'15'!AA8","v":0},{"$f":"'12'!AA8","v":0},{"$f":"'10'!AA8","v":0}]
[6,{"$f":"'80'!AA9","v":0},{"$f":"'40'!AA9","v":0},{"$f":"'30'!AA9","v":0},{"$f":"'20'!AA9","v":0},{"$f":"'17'!AA9","v":0},{"$f":"'15'!AA9","v":0},{"$f":"'12'!AA9","v":0},{"$f":"'10'!AA9","v":0}]
[7,{"$f":"'80'!AA10","v":0},{"$f":"'40'!AA10","v":0},{"$f":"'30'!AA10","v":0},{"$f":"'20'!AA10","v":0},{"$f":"'17'!AA10","v":0},{"$f":"'15'!AA10","v":0},{"$f":"'12'!AA10","v":0},{"$f":"'10'!AA10","v":0}]
[8,{"$f":"'80'!AA11","v":0},{"$f":"'40'!AA11","v":0},{"$f":"'30'!AA11","v":0},{"$f":"'20'!AA11","v":0},{"$f":"'17'!AA11","v":0},{"$f":"'15'!AA11","v":0},{"$f":"'12'!AA11","v":0},{"$f":"'10'!AA11","v":0}]
[9,{"$f":"'80'!AA12","v":0},{"$f":"'40'!AA12","v":0},{"$f":"'30'!AA12","v":0},{"$f":"'20'!AA12","v":0},{"$f":"'17'!AA12","v":0},{"$f":"'15'!AA12","v":0},{"$f":"'12'!AA12","v":0},{"$f":"'10'!AA12","v":0}]
[10,{"$f":"'80'!AA13","v":0},{"$f":"'40'!AA13","v":0},{"$f":"'30'!AA13","v":0},{"$f":"'20'!AA13","v":0},{"$f":"'17'!AA13","v":0},{"$f":"'15'!AA13","v":0},{"$f":"'12'!AA13","v":0},{"$f":"'10'!AA13","v":0}]
[11,{"$f":"'80'!AA14","v":0},{"$f":"'40'!AA14","v":0},{"$f":"'30'!AA14","v":0},{"$f":"'20'!AA14","v":0},{"$f":"'17'!AA14","v":0},{"$f":"'15'!AA14","v":0},{"$f":"'12'!AA14","v":0},{"$f":"'10'!AA14","v":0}]
[12,{"$f":"'80'!AA15","v":0},{"$f":"'40'!AA15","v":0},{"$f":"'30'!AA15","v":0},{"$f":"'20'!AA15","v":0},{"$f":"'17'!AA15","v":0},{"$f":"'15'!AA15","v":0},{"$f":"'12'!AA15","v":0},{"$f":"'10'!AA15","v":0}]
[13,{"$f":"'80'!AA16","v":0},{"$f":"'40'!AA16","v":0},{"$f":"'30'!AA16","v":0},{"$f":"'20'!AA16","v":0},{"$f":"'17'!AA16","v":0},{"$f":"'15'!AA16","v":0},{"$f":"'12'!AA16","v":0},{"$f":"'10'!AA16","v":0}]
[14,{"$f":"'80'!AA17","v":0},{"$f":"'40'!AA17","v":0},{"$f":"'30'!AA17","v":0},{"$f":"'20'!AA17","v":0},{"$f":"'17'!AA17","v":0},{"$f":"'15'!AA17","v":0},{"$f":"'12'!AA17","v":0},{"$f":"'10'!AA17","v":0}]
[15,{"$f":"'80'!AA18","v":0},{"$f":"'40'!AA18","v":0},{"$f":"'30'!AA18","v":0},{"$f":"'20'!AA18","v":0},{"$f":"'17'!AA18","v":0},{"$f":"'15'!AA18","v":0},{"$f":"'12'!AA18","v":0},{"$f":"'10'!AA18","v":0}]
[16,{"$f":"'80'!AA19","v":0},{"$f":"'40'!AA19","v":0},{"$f":"'30'!AA19","v":0},{"$f":"'20'!AA19","v":0},{"$f":"'17'!AA19","v":0},{"$f":"'15'!AA19","v":0},{"$f":"'12'!AA19","v":0},{"$f":"'10'!AA19","v":0}]
[17,{"$f":"'80'!AA20","v":0},{"$f":"'40'!AA20","v":0},{"$f":"'30'!AA20","v":0},{"$f":"'20'!AA20","v":0},{"$f":"'17'!AA20","v":0},{"$f":"'15'!AA20","v":0},{"$f":"'12'!AA20","v":0},{"$f":"'10'!AA20","v":0}]
[18,{"$f":"'80'!AA21","v":0},{"$f":"'40'!AA21","v":0},{"$f":"'30'!AA21","v":0},{"$f":"'20'!AA21","v":0},{"$f":"'17'!AA21","v":0},{"$f":"'15'!AA21","v":0},{"$f":"'12'!AA21","v":0},{"$f":"'10'!AA21","v":0}]
[19,{"$f":"'80'!AA22","v":0},{"$f":"'40'!AA22","v":0},{"$f":"'30'!AA22","v":0},{"$f":"'20'!AA22","v":0},{"$f":"'17'!AA22","v":0},{"$f":"'15'!AA22","v":0},{"$f":"'12'!AA22","v":0},{"$f":"'10'!AA22","v":0}]
[20,{"$f":"'80'!AA23","v":0},{"$f":"'40'!AA23","v":0},{"$f":"'30'!AA23","v":0},{"$f":"'20'!AA23","v":0},{"$f":"'17'!AA23","v":0},{"$f":"'15'!AA23","v":0},{"$f":"'12'!AA23","v":0},{"$f":"'10'!AA23","v":0}]
[21,{"$f":"'80'!AA24","v":0},{"$f":"'40'!AA24","v":0},{"$f":"'30'!AA24","v":0},{"$f":"'20'!AA24","v":0},{"$f":"'17'!AA24","v":0},{"$f":"'15'!AA24","v":0},{"$f":"'12'!AA24","v":0},{"$f":"'10'!AA24","v":0}]
[22,{"$f":"'80'!AA25","v":0},{"$f":"'40'!AA25","v":0},{"$f":"'30'!AA25","v":0},{"$f":"'20'!AA25","v":0},{"$f":"'17'!AA25","v":0},{"$f":"'15'!AA25","v":0},{"$f":"'12'!AA25","v":0},{"$f":"'10'!AA25","v":0}]
[23,{"$f":"'80'!AA26","v":0},{"$f":"'40'!AA26","v":0},{"$f":"'30'!AA26","v":0},{"$f":"'20'!AA26","v":0},{"$f":"'17'!AA26","v":0},{"$f":"'15'!AA26","v":0},{"$f":"'12'!AA26","v":0},{"$f":"'10'!AA26","v":0}]
[24,{"$f":"'80'!AA27","v":0},{"$f":"'40'!AA27","v":0},{"$f":"'30'!AA27","v":0},{"$f":"'20'!AA27","v":0},{"$f":"'17'!AA27","v":0},{"$f":"'15'!AA27","v":0},{"$f":"'12'!AA27","v":0},{"$f":"'10'!AA27","v":0}]

{"sheet":"19 UA0","index":34,"n_rows":25,"n_cols":9,"rows_kept":25}
["UT","80M","40M","30M","20M","17M","15M","12M","10M"]
[1,{"$f":"'80'!AB4","v":0},{"$f":"'40'!AB4","v":0},{"$f":"'30'!AB4","v":0},{"$f":"'20'!AB4","v":0},{"$f":"'17'!AB4","v":0},{"$f":"'15'!AB4","v":0},{"$f":"'12'!AB4","v":0},{"$f":"'10'!AB4","v":0}]
[2,{"$f":"'80'!AB5","v":0},{"$f":"'40'!AB5","v":0},{"$f":"'30'!AB5","v":0},{"$f":"'20'!AB5","v":0},{"$f":"'17'!AB5","v":0},{"$f":"'15'!AB5","v":0},{"$f":"'12'!AB5","v":0},{"$f":"'10'!AB5","v":0}]
[3,{"$f":"'80'!AB6","v":0},{"$f":"'40'!AB6","v":0},{"$f":"'30'!AB6","v":0},{"$f":"'20'!AB6","v":0},{"$f":"'17'!AB6","v":0},{"$f":"'15'!AB6","v":0},{"$f":"'12'!AB6","v":0},{"$f":"'10'!AB6","v":0}]
[4,{"$f":"'80'!AB7","v":0},{"$f":"'40'!AB7","v":0},{"$f":"'30'!AB7","v":0},{"$f":"'20'!AB7","v":0},{"$f":"'17'!AB7","v":0},{"$f":"'15'!AB7","v":0},{"$f":"'12'!AB7","v":0},{"$f":"'10'!AB7","v":0}]
[5,{"$f":"'80'!AB8","v":0},{"$f":"'40'!AB8","v":0},{"$f":"'30'!AB8","v":0},{"$f":"'20'!AB8","v":0},{"$f":"'17'!AB8","v":0},{"$f":"'15'!AB8","v":0},{"$f":"'12'!AB8","v":0},{"$f":"'10'!AB8","v":0}]
[6,{"$f":"'80'!AB9","v":0},{"$f":"'40'!AB9","v":0},{"$f":"'30'!AB9","v":0},{"$f":"'20'!AB9","v":0},{"$f":"'17'!AB9","v":0},{"$f":"'15'!AB9","v":0},{"$f":"'12'!AB9","v":0},{"$f":"'10'!AB9","v":0}]
[7,{"$f":"'80'!AB10","v":0},{"$f":"'40'!AB10","v":0},{"$f":"'30'!AB10","v":0},{"$f":"'20'!AB10","v":0},{"$f":"'17'!AB10","v":0},{"$f":"'15'!AB10","v":0},{"$f":"'12'!AB10","v":0},{"$f":"'10'!AB10","v":0}]
[8,{"$f":"'80'!AB11","v":0},{"$f":"'40'!AB11","v":0},{"$f":"'30'!AB11","v":0},{"$f":"'20'!AB11","v":0},{"$f":"'17'!AB11","v":0},{"$f":"'15'!AB11","v":0},{"$f":"'12'!AB11","v":0},{"$f":"'10'!AB11","v":0}]
[9,{"$f":"'80'!AB12","v":0},{"$f":"'40'!AB12","v":0},{"$f":"'30'!AB12","v":0},{"$f":"'20'!AB12","v":0},{"$f":"'17'!AB12","v":0},{"$f":"'15'!AB12","v":0},{"$f":"'12'!AB12","v":0},{"$f":"'10'!AB12","v":0}]
[10,{"$f":"'80'!AB13","v":0},{"$f":"'40'!AB13","v":0},{"$f":"'30'!AB13","v":0},{"$f":"'20'!AB13","v":0},{"$f":"'17'!AB13","v":0},{"$f":"'15'!AB13","v":0},{"$f":"'12'!AB13","v":0},{"$f":"'10'!AB13","v":0}]
[11,{"$f":"'80'!AB14","v":0},{"$f":"'40'!AB14","v":0},{"$f":"'30'!AB14","v":0},{"$f":"'20'!AB14","v":0},{"$f":"'17'!AB14","v":0},{"$f":"'15'!AB14","v":0},{"$f":"'12'!AB14","v":0},{"$f":"'10'!AB14","v":0}]
[12,{"$f":"'80'!AB15","v":0},{"$f":"'40'!AB15","v":0},{"$f":"'30'!AB15","v":0},{"$f":"'20'!AB15","v":0},{"$f":"'17'!AB15","v":0},{"$f":"'15'!AB15","v":0},{"$f":"'12'!AB15","v":0},{"$f":"'10'!AB15","v":0}]
[13,{"$f":"'80'!AB16","v":0},{"$f":"'40'!AB16","v":0},{"$f":"'30'!AB16","v":0},{"$f":"'20'!AB16","v":0},{"$f":"'17'!AB16","v":0},{"$f":"'15'!AB16","v":0},{"$f":"'12'!AB16","v":0},{"$f":"'10'!AB16","v":0}]
[14,{"$f":"'80'!AB17","v":0},{"$f":"'40'!AB17","v":0},{"$f":"'30'!AB17","v":0},{"$f":"'20'!AB17","v":0},{"$f":"'17'!AB17","v":0},{"$f":"'15'!AB17","v":0},{"$f":"'12'!AB17","v":0},{"$f":"'10'!AB17","v":0}]
[15,{"$f":"'80'!AB18","v":0},{"$f":"'40'!AB18","v":0},{"$f":"'30'!AB18","v":0},{"$f":"'20'!AB18","v":0},{"$f":"'17'!AB18","v":0},{"$f":"'15'!AB18","v":0},{"$f":"'12'!AB18","v":0},{"$f":"'10'!AB18","v":0}]
[16,{"$f":"'80'!AB19","v":0},{"$f":"'40'!AB19","v":0},{"$f":"'30'!AB19","v":0},{"$f":"'20'!AB19","v":0},{"$f":"'17'!AB19","v":0},{"$f":"'15'!AB19","v":0},{"$f":"'12'!AB19","v":0},{"$f":"'10'!AB19","v":0}]
[17,{"$f":"'80'!AB20","v":0},{"$f":"'40'!AB20","v":0},{"$f":"'30'!AB20","v":0},{"$f":"'20'!AB20","v":0},{"$f":"'17'!AB20","v":0},{"$f":"'15'!AB20","v":0},{"$f":"'12'!AB20","v":0},{"$f":"'10'!AB20","v":0}]
[18,{"$f":"'80'!AB21","v":0},{"$f":"'40'!AB21","v":0},{"$f":"'30'!AB21","v":0},{"$f":"'20'!AB21","v":0},{"$f":"'17'!AB21","v":0},{"$f":"'15'!AB21","v":0},{"$f":"'12'!AB21","v":0},{"$f":"'10'!AB21","v":0}]
[19,{"$f":"'80'!AB22","v":0},{"$f":"'40'!AB22","v":0},{"$f":"'30'!AB22","v":0},{"$f":"'20'!AB22","v":0},{"$f":"'17'!AB22","v":0},{"$f":"'15'!AB22","v":0},{"$f":"'12'!AB22","v":0},{"$f":"'10'!AB22","v":0}]
[20,{"$f":"'80'!AB23","v":0},{"$f":"'40'!AB23","v":0},{"$f":"'30'!AB23","v":0},{"$f":"'20'!AB23","v":0},{"$f":"'17'!AB23","v":0},{"$f":"'15'!AB23","v":0},{"$f":"'12'!AB23","v":0},{"$f":"'10'!AB23","v":0}]
[21,{"$f":"'80'!AB24","v":0},{"$f":"'40'!AB24","v":0},{"$f":"'30'!AB24","v":0},{"$f":"'20'!AB24","v":0},{"$f":"'17'!AB24","v":0},{"$f":"'15'!AB24","v":0},{"$f":"'12'!AB24","v":0},{"$f":"'10'!AB24","v":0}]
[22,{"$f":"'80'!AB25","v":0},{"$f":"'40'!AB25","v":0},{"$f":"'30'!AB25","v":0},{"$f":"'20'!AB25","v":0},{"$f":"'17'!AB25","v":0},{"$f":"'15'!AB25","v":0},{"$f":"'12'!AB25","v":0},{"$f":"'10'!AB25","v":0}]
[23,{"$f":"'80'!AB26","v":0},{"$f":"'40'!AB26","v":0},{"$f":"'30'!AB26","v":0},{"$f":"'20'!AB26","v":0},{"$f":"'17'!AB26","v":0},{"$f":"'15'!AB26","v":0},{"$f":"'12'!AB26","v":0},{"$f":"'10'!AB26","v":0}]
[24,{"$f":"'80'!AB27","v":0},{"$f":"'40'!AB27","v":0},{"$f":"'30'!AB27","v":0},{"$f":"'20'!AB27","v":0},{"$f":"'17'!AB27","v":0},{"$f":"'15'!AB27","v":0},{"$f":"'12'!AB27","v":0},{"$f":"'10'!AB27","v":0}]

{"sheet":"20 4X","index":35,"n_rows":25,"n_cols":9,"rows_kept":25}
["UT","80M","40M","30M","20M","17M","15M","12M","10M"]
[1,{"$f":"'80'!AC4","v":0},{"$f":"'40'!AC4","v":0},{"$f":"'30'!AC4","v":0},{"$f":"'20'!AC4","v":0},{"$f":"'17'!AC4","v":0},{"$f":"'15'!AC4","v":0},{"$f":"'12'!AC4","v":0},{"$f":"'10'!AC4","v":0}]
[2,{"$f":"'80'!AC5","v":0},{"$f":"'40'!AC5","v":0},{"$f":"'30'!AC5","v":0},{"$f":"'20'!AC5","v":0},{"$f":"'17'!AC5","v":0},{"$f":"'15'!AC5","v":0},{"$f":"'12'!AC5","v":0},{"$f":"'10'!AC5","v":0}]
[3,{"$f":"'80'!AC6","v":0},{"$f":"'40'!AC6","v":0},{"$f":"'30'!AC6","v":0},{"$f":"'20'!AC6","v":0},{"$f":"'17'!AC6","v":0},{"$f":"'15'!AC6","v":0},{"$f":"'12'!AC6","v":0},{"$f":"'10'!AC6","v":0}]
[4,{"$f":"'80'!AC7","v":0},{"$f":"'40'!AC7","v":0},{"$f":"'30'!AC7","v":0},{"$f":"'20'!AC7","v":0},{"$f":"'17'!AC7","v":0},{"$f":"'15'!AC7","v":0},{"$f":"'12'!AC7","v":0},{"$f":"'10'!AC7","v":0}]
[5,{"$f":"'80'!AC8","v":0},{"$f":"'40'!AC8","v":0},{"$f":"'30'!AC8","v":0},{"$f":"'20'!AC8","v":0},{"$f":"'17'!AC8","v":0},{"$f":"'15'!AC8","v":0},{"$f":"'12'!AC8","v":0},{"$f":"'10'!AC8","v":0}]
[6,{"$f":"'80'!AC9","v":0},{"$f":"'40'!AC9","v":0},{"$f":"'30'!AC9","v":0},{"$f":"'20'!AC9","v":0},{"$f":"'17'!AC9","v":0},{"$f":"'15'!AC9","v":0},{"$f":"'12'!AC9","v":0},{"$f":"'10'!AC9","v":0}]
[7,{"$f":"'80'!AC10","v":0},{"$f":"'40'!AC10","v":0},{"$f":"'30'!AC10","v":0},{"$f":"'20'!AC10","v":0},{"$f":"'17'!AC10","v":0},{"$f":"'15'!AC10","v":0},{"$f":"'12'!AC10","v":0},{"$f":"'10'!AC10","v":0}]
[8,{"$f":"'80'!AC11","v":0},{"$f":"'40'!AC11","v":0},{"$f":"'30'!AC11","v":0},{"$f":"'20'!AC11","v":0},{"$f":"'17'!AC11","v":0},{"$f":"'15'!AC11","v":0},{"$f":"'12'!AC11","v":0},{"$f":"'10'!AC11","v":0}]
[9,{"$f":"'80'!AC12","v":0},{"$f":"'40'!AC12","v":0},{"$f":"'30'!AC12","v":0},{"$f":"'20'!AC12","v":0},{"$f":"'17'!AC12","v":0},{"$f":"'15'!AC12","v":0},{"$f":"'12'!AC12","v":0},{"$f":"'10'!AC12","v":0}]
[10,{"$f":"'80'!AC13","v":0},{"$f":"'40'!AC13","v":0},{"$f":"'30'!AC13","v":0},{"$f":"'20'!AC13","v":0},{"$f":"'17'!AC13","v":0},{"$f":"'15'!AC13","v":0},{"$f":"'12'!AC13","v":0},{"$f":"'10'!AC13","v":0}]
[11,{"$f":"'80'!AC14","v":0},{"$f":"'40'!AC14","v":0},{"$f":"'30'!AC14","v":0},{"$f":"'20'!AC14","v":0},{"$f":"'17'!AC14","v":0},{"$f":"'15'!AC14","v":0},{"$f":"'12'!AC14","v":0},{"$f":"'10'!AC14","v":0}]
[12,{"$f":"'80'!AC15","v":0},{"$f":"'40'!AC15","v":0},{"$f":"'30'!AC15","v":0},{"$f":"'20'!AC15","v":0},{"$f":"'17'!AC15","v":0},{"$f":"'15'!AC15","v":0},{"$f":"'12'!AC15","v":0},{"$f":"'10'!AC15","v":0}]
[13,{"$f":"'80'!AC16","v":0},{"$f":"'40'!AC16","v":0},{"$f":"'30'!AC16","v":0},{"$f":"'20'!AC16","v":0},{"$f":"'17'!AC16","v":0},{"$f":"'15'!AC16","v":0},{"$f":"'12'!AC16","v":0},{"$f":"'10'!AC16","v":0}]
[14,{"$f":"'80'!AC17","v":0},{"$f":"'40'!AC17","v":0},{"$f":"'30'!AC17","v":0},{"$f":"'20'!AC17","v":0},{"$f":"'17'!AC17","v":0},{"$f":"'15'!AC17","v":0},{"$f":"'12'!AC17","v":0},{"$f":"'10'!AC17","v":0}]
[15,{"$f":"'80'!AC18","v":0},{"$f":"'40'!AC18","v":0},{"$f":"'30'!AC18","v":0},{"$f":"'20'!AC18","v":0},{"$f":"'17'!AC18","v":0},{"$f":"'15'!AC18","v":0},{"$f":"'12'!AC18","v":0},{"$f":"'10'!AC18","v":0}]
[16,{"$f":"'80'!AC19","v":0},{"$f":"'40'!AC19","v":0},{"$f":"'30'!AC19","v":0},{"$f":"'20'!AC19","v":0},{"$f":"'17'!AC19","v":0},{"$f":"'15'!AC19","v":0},{"$f":"'12'!AC19","v":0},{"$f":"'10'!AC19","v":0}]
[17,{"$f":"'80'!AC20","v":0},{"$f":"'40'!AC20","v":0},{"$f":"'30'!AC20","v":0},{"$f":"'20'!AC20","v":0},{"$f":"'17'!AC20","v":0},{"$f":"'15'!AC20","v":0},{"$f":"'12'!AC20","v":0},{"$f":"'10'!AC20","v":0}]
[18,{"$f":"'80'!AC21","v":0},{"$f":"'40'!AC21","v":0},{"$f":"'30'!AC21","v":0},{"$f":"'20'!AC21","v":0},{"$f":"'17'!AC21","v":0},{"$f":"'15'!AC21","v":0},{"$f":"'12'!AC21","v":0},{"$f":"'10'!AC21","v":0}]
[19,{"$f":"'80'!AC22","v":0},{"$f":"'40'!AC22","v":0},{"$f":"'30'!AC22","v":0},{"$f":"'20'!AC22","v":0},{"$f":"'17'!AC22","v":0},{"$f":"'15'!AC22","v":0},{"$f":"'12'!AC22","v":0},{"$f":"'10'!AC22","v":0}]
[20,{"$f":"'80'!AC23","v":0},{"$f":"'40'!AC23","v":0},{"$f":"'30'!AC23","v":0},{"$f":"'20'!AC23","v":0},{"$f":"'17'!AC23","v":0},{"$f":"'15'!AC23","v":0},{"$f":"'12'!AC23","v":0},{"$f":"'10'!AC23","v":0}]
[21,{"$f":"'80'!AC24","v":0},{"$f":"'40'!AC24","v":0},{"$f":"'30'!AC24","v":0},{"$f":"'20'!AC24","v":0},{"$f":"'17'!AC24","v":0},{"$f":"'15'!AC24","v":0},{"$f":"'12'!AC24","v":0},{"$f":"'10'!AC24","v":0}]
[22,{"$f":"'80'!AC25","v":0},{"$f":"'40'!AC25","v":0},{"$f":"'30'!AC25","v":0},{"$f":"'20'!AC25","v":0},{"$f":"'17'!AC25","v":0},{"$f":"'15'!AC25","v":0},{"$f":"'12'!AC25","v":0},{"$f":"'10'!AC25","v":0}]
[23,{"$f":"'80'!AC26","v":0},{"$f":"'40'!AC26","v":0},{"$f":"'30'!AC26","v":0},{"$f":"'20'!AC26","v":0},{"$f":"'17'!AC26","v":0},{"$f":"'15'!AC26","v":0},{"$f":"'12'!AC26","v":0},{"$f":"'10'!AC26","v":0}]
[24,{"$f":"'80'!AC27","v":0},{"$f":"'40'!AC27","v":0},{"$f":"'30'!AC27","v":0},{"$f":"'20'!AC27","v":0},{"$f":"'17'!AC27","v":0},{"$f":"'15'!AC27","v":0},{"$f":"'12'!AC27","v":0},{"$f":"'10'!AC27","v":0}]

{"sheet":"20 LZ","index":36,"n_rows":25,"n_cols":9,"rows_kept":25}
["UT","80M","40M","30M","20M","17M","15M","12M","10M"]
[1,{"$f":"'80'!AD4","v":0},{"$f":"'40'!AD4","v":0},{"$f":"'30'!AD4","v":0},{"$f":"'20'!AD4","v":0},{"$f":"'17'!AD4","v":0},{"$f":"'15'!AD4","v":0},{"$f":"'12'!AD4","v":0},{"$f":"'10'!AD4","v":0}]
[2,{"$f":"'80'!AD5","v":0},{"$f":"'40'!AD5","v":0},{"$f":"'30'!AD5","v":0},{"$f":"'20'!AD5","v":0},{"$f":"'17'!AD5","v":0},{"$f":"'15'!AD5","v":0},{"$f":"'12'!AD5","v":0},{"$f":"'10'!AD5","v":0}]
[3,{"$f":"'80'!AD6","v":0},{"$f":"'40'!AD6","v":0},{"$f":"'30'!AD6","v":0},{"$f":"'20'!AD6","v":0},{"$f":"'17'!AD6","v":0},{"$f":"'15'!AD6","v":0},{"$f":"'12'!AD6","v":0},{"$f":"'10'!AD6","v":0}]
[4,{"$f":"'80'!AD7","v":0},{"$f":"'40'!AD7","v":0},{"$f":"'30'!AD7","v":0},{"$f":"'20'!AD7","v":0},{"$f":"'17'!AD7","v":0},{"$f":"'15'!AD7","v":0},{"$f":"'12'!AD7","v":0},{"$f":"'10'!AD7","v":0}]
[5,{"$f":"'80'!AD8","v":0},{"$f":"'40'!AD8","v":0},{"$f":"'30'!AD8","v":0},{"$f":"'20'!AD8","v":0},{"$f":"'17'!AD8","v":0},{"$f":"'15'!AD8","v":0},{"$f":"'12'!AD8","v":0},{"$f":"'10'!AD8","v":0}]
[6,{"$f":"'80'!AD9","v":0},{"$f":"'40'!AD9","v":0},{"$f":"'30'!AD9","v":0},{"$f":"'20'!AD9","v":0},{"$f":"'17'!AD9","v":0},{"$f":"'15'!AD9","v":0},{"$f":"'12'!AD9","v":0},{"$f":"'10'!AD9","v":0}]
[7,{"$f":"'80'!AD10","v":0},{"$f":"'40'!AD10","v":0},{"$f":"'30'!AD10","v":0},{"$f":"'20'!AD10","v":0},{"$f":"'17'!AD10","v":0},{"$f":"'15'!AD10","v":0},{"$f":"'12'!AD10","v":0},{"$f":"'10'!AD10","v":0}]
[8,{"$f":"'80'!AD11","v":0},{"$f":"'40'!AD11","v":0},{"$f":"'30'!AD11","v":0},{"$f":"'20'!AD11","v":0},{"$f":"'17'!AD11","v":0},{"$f":"'15'!AD11","v":0},{"$f":"'12'!AD11","v":0},{"$f":"'10'!AD11","v":0}]
[9,{"$f":"'80'!AD12","v":0},{"$f":"'40'!AD12","v":0},{"$f":"'30'!AD12","v":0},{"$f":"'20'!AD12","v":0},{"$f":"'17'!AD12","v":0},{"$f":"'15'!AD12","v":0},{"$f":"'12'!AD12","v":0},{"$f":"'10'!AD12","v":0}]
[10,{"$f":"'80'!AD13","v":0},{"$f":"'40'!AD13","v":0},{"$f":"'30'!AD13","v":0},{"$f":"'20'!AD13","v":0},{"$f":"'17'!AD13","v":0},{"$f":"'15'!AD13","v":0},{"$f":"'12'!AD13","v":0},{"$f":"'10'!AD13","v":0}]
[11,{"$f":"'80'!AD14","v":0},{"$f":"'40'!AD14","v":0},{"$f":"'30'!AD14","v":0},{"$f":"'20'!AD14","v":0},{"$f":"'17'!AD14","v":0},{"$f":"'15'!AD14","v":0},{"$f":"'12'!AD14","v":0},{"$f":"'10'!AD14","v":0}]
[12,{"$f":"'80'!AD15","v":0},{"$f":"'40'!AD15","v":0},{"$f":"'30'!AD15","v":0},{"$f":"'20'!AD15","v":0},{"$f":"'17'!AD15","v":0},{"$f":"'15'!AD15","v":0},{"$f":"'12'!AD15","v":0},{"$f":"'10'!AD15","v":0}]
[13,{"$f":"'80'!AD16","v":0},{"$f":"'40'!AD16","v":0},{"$f":"'30'!AD16","v":0},{"$f":"'20'!AD16","v":0},{"$f":"'17'!AD16","v":0},{"$f":"'15'!AD16","v":0},{"$f":"'12'!AD16","v":0},{"$f":"'10'!AD16","v":0}]
[14,{"$f":"'80'!AD17","v":0},{"$f":"'40'!AD17","v":0},{"$f":"'30'!AD17","v":0},{"$f":"'20'!AD17","v":0},{"$f":"'17'!AD17","v":0},{"$f":"'15'!AD17","v":0},{"$f":"'12'!AD17","v":0},{"$f":"'10'!AD17","v":0}]
[15,{"$f":"'80'!AD18","v":0},{"$f":"'40'!AD18","v":0},{"$f":"'30'!AD18","v":0},{"$f":"'20'!AD18","v":0},{"$f":"'17'!AD18","v":0},{"$f":"'15'!AD18","v":0},{"$f":"'12'!AD18","v":0},{"$f":"'10'!AD18","v":0}]
[16,{"$f":"'80'!AD19","v":0},{"$f":"'40'!AD19","v":0},{"$f":"'30'!AD19","v":0},{"$f":"'20'!AD19","v":0},{"$f":"'17'!AD19","v":0},{"$f":"'15'!AD19","v":0},{"$f":"'12'!AD19","v":0},{"$f":"'10'!AD19","v":0}]
[17,{"$f":"'80'!AD20","v":0},{"$f":"'40'!AD20","v":0},{"$f":"'30'!AD20","v":0},{"$f":"'20'!AD20","v":0},{"$f":"'17'!AD20","v":0},{"$f":"'15'!AD20","v":0},{"$f":"'12'!AD20","v":0},{"$f":"'10'!AD20","v":0}]
[18,{"$f":"'80'!AD21","v":0},{"$f":"'40'!AD21","v":0},{"$f":"'30'!AD21","v":0},{"$f":"'20'!AD21","v":0},{"$f":"'17'!AD21","v":0},{"$f":"'15'!AD21","v":0},{"$f":"'12'!AD21","v":0},{"$f":"'10'!AD21","v":0}]
[19,{"$f":"'80'!AD22","v":0},{"$f":"'40'!AD22","v":0},{"$f":"'30'!AD22","v":0},{"$f":"'20'!AD22","v":0},{"$f":"'17'!AD22","v":0},{"$f":"'15'!AD22","v":0},{"$f":"'12'!AD22","v":0},{"$f":"'10'!AD22","v":0}]
[20,{"$f":"'80'!AD23","v":0},{"$f":"'40'!AD23","v":0},{"$f":"'30'!AD23","v":0},{"$f":"'20'!AD23","v":0},{"$f":"'17'!AD23","v":0},{"$f":"'15'!AD23","v":0},{"$f":"'12'!AD23","v":0},{"$f":"'10'!AD23","v":0}]
[21,{"$f":"'80'!AD24","v":0},{"$f":"'40'!AD24","v":0},{"$f":"'30'!AD24","v":0},{"$f":"'20'!AD24","v":0},{"$f":"'17'!AD24","v":0},{"$f":"'15'!AD24","v":0},{"$f":"'12'!AD24","v":0},{"$f":"'10'!AD24","v":0}]
[22,{"$f":"'80'!AD25","v":0},{"$f":"'40'!AD25","v":0},{"$f":"'30'!AD25","v":0},{"$f":"'20'!AD25","v":0},{"$f":"'17'!AD25","v":0},{"$f":"'15'!AD25","v":0},{"$f":"'12'!AD25","v":0},{"$f":"'10'!AD25","v":0}]
[23,{"$f":"'80'!AD26","v":0},{"$f":"'40'!AD26","v":0},{"$f":"'30'!AD26","v":0},{"$f":"'20'!AD26","v":0},{"$f":"'17'!AD26","v":0},{"$f":"'15'!AD26","v":0},{"$f":"'12'!AD26","v":0},{"$f":"'10'!AD26","v":0}]
[24,{"$f":"'80'!AD27","v":0},{"$f":"'40'!AD27","v":0},{"$f":"'30'!AD27","v":0},{"$f":"'20'!AD27","v":0},{"$f":"'17'!AD27","v":0},{"$f":"'15'!AD27","v":0},{"$f":"'12'!AD27","v":0},{"$f":"'10'!AD27","v":0}]

{"sheet":"21 A7","index":37,"n_rows":25,"n_cols":9,"rows_kept":25}
["UT","80M","40M","30M","20M","17M","15M","12M","10M"]
[1,{"$f":"'80'!AE4","v":0},{"$f":"'40'!AE4","v":0},{"$f":"'30'!AE4","v":0},{"$f":"'20'!AE4","v":0},{"$f":"'17'!AE4","v":0},{"$f":"'15'!AE4","v":0},{"$f":"'12'!AE4","v":0},{"$f":"'10'!AE4","v":0}]
[2,{"$f":"'80'!AE5","v":0},{"$f":"'40'!AE5","v":0},{"$f":"'30'!AE5","v":0},{"$f":"'20'!AE5","v":0},{"$f":"'17'!AE5","v":0},{"$f":"'15'!AE5","v":0},{"$f":"'12'!AE5","v":0},{"$f":"'10'!AE5","v":0}]
[3,{"$f":"'80'!AE6","v":0},{"$f":"'40'!AE6","v":0},{"$f":"'30'!AE6","v":0},{"$f":"'20'!AE6","v":0},{"$f":"'17'!AE6","v":0},{"$f":"'15'!AE6","v":0},{"$f":"'12'!AE6","v":0},{"$f":"'10'!AE6","v":0}]
[4,{"$f":"'80'!AE7","v":0},{"$f":"'40'!AE7","v":0},{"$f":"'30'!AE7","v":0},{"$f":"'20'!AE7","v":0},{"$f":"'17'!AE7","v":0},{"$f":"'15'!AE7","v":0},{"$f":"'12'!AE7","v":0},{"$f":"'10'!AE7","v":0}]
[5,{"$f":"'80'!AE8","v":0},{"$f":"'40'!AE8","v":0},{"$f":"'30'!AE8","v":0},{"$f":"'20'!AE8","v":0},{"$f":"'17'!AE8","v":0},{"$f":"'15'!AE8","v":0},{"$f":"'12'!AE8","v":0},{"$f":"'10'!AE8","v":0}]
[6,{"$f":"'80'!AE9","v":0},{"$f":"'40'!AE9","v":0},{"$f":"'30'!AE9","v":0},{"$f":"'20'!AE9","v":0},{"$f":"'17'!AE9","v":0},{"$f":"'15'!AE9","v":0},{"$f":"'12'!AE9","v":0},{"$f":"'10'!AE9","v":0}]
[7,{"$f":"'80'!AE10","v":0},{"$f":"'40'!AE10","v":0},{"$f":"'30'!AE10","v":0},{"$f":"'20'!AE10","v":0},{"$f":"'17'!AE10","v":0},{"$f":"'15'!AE10","v":0},{"$f":"'12'!AE10","v":0},{"$f":"'10'!AE10","v":0}]
[8,{"$f":"'80'!AE11","v":0},{"$f":"'40'!AE11","v":0},{"$f":"'30'!AE11","v":0},{"$f":"'20'!AE11","v":0},{"$f":"'17'!AE11","v":0},{"$f":"'15'!AE11","v":0},{"$f":"'12'!AE11","v":0},{"$f":"'10'!AE11","v":0}]
[9,{"$f":"'80'!AE12","v":0},{"$f":"'40'!AE12","v":0},{"$f":"'30'!AE12","v":0},{"$f":"'20'!AE12","v":0},{"$f":"'17'!AE12","v":0},{"$f":"'15'!AE12","v":0},{"$f":"'12'!AE12","v":0},{"$f":"'10'!AE12","v":0}]
[10,{"$f":"'80'!AE13","v":0},{"$f":"'40'!AE13","v":0},{"$f":"'30'!AE13","v":0},{"$f":"'20'!AE13","v":0},{"$f":"'17'!AE13","v":0},{"$f":"'15'!AE13","v":0},{"$f":"'12'!AE13","v":0},{"$f":"'10'!AE13","v":0}]
[11,{"$f":"'80'!AE14","v":0},{"$f":"'40'!AE14","v":0},{"$f":"'30'!AE14","v":0},{"$f":"'20'!AE14","v":0},{"$f":"'17'!AE14","v":0},{"$f":"'15'!AE14","v":0},{"$f":"'12'!AE14","v":0},{"$f":"'10'!AE14","v":0}]
[12,{"$f":"'80'!AE15","v":0},{"$f":"'40'!AE15","v":0},{"$f":"'30'!AE15","v":0},{"$f":"'20'!AE15","v":0},{"$f":"'17'!AE15","v":0},{"$f":"'15'!AE15","v":0},{"$f":"'12'!AE15","v":0},{"$f":"'10'!AE15","v":0}]
[13,{"$f":"'80'!AE16","v":0},{"$f":"'40'!AE16","v":0},{"$f":"'30'!AE16","v":0},{"$f":"'20'!AE16","v":0},{"$f":"'17'!AE16","v":0},{"$f":"'15'!AE16","v":0},{"$f":"'12'!AE16","v":0},{"$f":"'10'!AE16","v":0}]
[14,{"$f":"'80'!AE17","v":0},{"$f":"'40'!AE17","v":0},{"$f":"'30'!AE17","v":0},{"$f":"'20'!AE17","v":0},{"$f":"'17'!AE17","v":0},{"$f":"'15'!AE17","v":0},{"$f":"'12'!AE17","v":0},{"$f":"'10'!AE17","v":0}]
[15,{"$f":"'80'!AE18","v":0},{"$f":"'40'!AE18","v":0},{"$f":"'30'!AE18","v":0},{"$f":"'20'!AE18","v":0},{"$f":"'17'!AE18","v":0},{"$f":"'15'!AE18","v":0},{"$f":"'12'!AE18","v":0},{"$f":"'10'!AE18","v":0}]
[16,{"$f":"'80'!AE19","v":0},{"$f":"'40'!AE19","v":0},{"$f":"'30'!AE19","v":0},{"$f":"'20'!AE19","v":0},{"$f":"'17'!AE19","v":0},{"$f":"'15'!AE19","v":0},{"$f":"'12'!AE19","v":0},{"$f":"'10'!AE19","v":0}]
[17,{"$f":"'80'!AE20","v":0},{"$f":"'40'!AE20","v":0},{"$f":"'30'!AE20","v":0},{"$f":"'20'!AE20","v":0},{"$f":"'17'!AE20","v":0},{"$f":"'15'!AE20","v":0},{"$f":"'12'!AE20","v":0},{"$f":"'10'!AE20","v":0}]
[18,{"$f":"'80'!AE21","v":0},{"$f":"'40'!AE21","v":0},{"$f":"'30'!AE21","v":0},{"$f":"'20'!AE21","v":0},{"$f":"'17'!AE21","v":0},{"$f":"'15'!AE21","v":0},{"$f":"'12'!AE21","v":0},{"$f":"'10'!AE21","v":0}]
[19,{"$f":"'80'!AE22","v":0},{"$f":"'40'!AE22","v":0},{"$f":"'30'!AE22","v":0},{"$f":"'20'!AE22","v":0},{"$f":"'17'!AE22","v":0},{"$f":"'15'!AE22","v":0},{"$f":"'12'!AE22","v":0},{"$f":"'10'!AE22","v":0}]
[20,{"$f":"'80'!AE23","v":0},{"$f":"'40'!AE23","v":0},{"$f":"'30'!AE23","v":0},{"$f":"'20'!AE23","v":0},{"$f":"'17'!AE23","v":0},{"$f":"'15'!AE23","v":0},{"$f":"'12'!AE23","v":0},{"$f":"'10'!AE23","v":0}]
[21,{"$f":"'80'!AE24","v":0},{"$f":"'40'!AE24","v":0},{"$f":"'30'!AE24","v":0},{"$f":"'20'!AE24","v":0},{"$f":"'17'!AE24","v":0},{"$f":"'15'!AE24","v":0},{"$f":"'12'!AE24","v":0},{"$f":"'10'!AE24","v":0}]
[22,{"$f":"'80'!AE25","v":0},{"$f":"'40'!AE25","v":0},{"$f":"'30'!AE25","v":0},{"$f":"'20'!AE25","v":0},{"$f":"'17'!AE25","v":0},{"$f":"'15'!AE25","v":0},{"$f":"'12'!AE25","v":0},{"$f":"'10'!AE25","v":0}]
[23,{"$f":"'80'!AE26","v":0},{"$f":"'40'!AE26","v":0},{"$f":"'30'!AE26","v":0},{"$f":"'20'!AE26","v":0},{"$f":"'17'!AE26","v":0},{"$f":"'15'!AE26","v":0},{"$f":"'12'!AE26","v":0},{"$f":"'10'!AE26","v":0}]
[24,{"$f":"'80'!AE27","v":0},{"$f":"'40'!AE27","v":0},{"$f":"'30'!AE27","v":0},{"$f":"'20'!AE27","v":0},{"$f":"'17'!AE27","v":0},{"$f":"'15'!AE27","v":0},{"$f":"'12'!AE27","v":0},{"$f":"'10'!AE27","v":0}]

{"sheet":"22 VU","index":38,"n_rows":25,"n_cols":9,"rows_kept":25}
["UT","80M","40M","30M","20M","17M","15M","12M","10M"]
[1,{"$f":"'80'!AF4","v":0},{"$f":"'40'!AF4","v":0},{"$f":"'30'!AF4","v":0},{"$f":"'20'!AF4","v":0},{"$f":"'17'!AF4","v":0},{"$f":"'15'!AF4","v":0},{"$f":"'12'!AF4","v":0},{"$f":"'10'!AF4","v":0}]
[2,{"$f":"'80'!AF5","v":0},{"$f":"'40'!AF5","v":0},{"$f":"'30'!AF5","v":0},{"$f":"'20'!AF5","v":0},{"$f":"'17'!AF5","v":0},{"$f":"'15'!AF5","v":0},{"$f":"'12'!AF5","v":0},{"$f":"'10'!AF5","v":0}]
[3,{"$f":"'80'!AF6","v":0},{"$f":"'40'!AF6","v":0},{"$f":"'30'!AF6","v":0},{"$f":"'20'!AF6","v":0},{"$f":"'17'!AF6","v":0},{"$f":"'15'!AF6","v":0},{"$f":"'12'!AF6","v":0},{"$f":"'10'!AF6","v":0}]
[4,{"$f":"'80'!AF7","v":0},{"$f":"'40'!AF7","v":0},{"$f":"'30'!AF7","v":0},{"$f":"'20'!AF7","v":0},{"$f":"'17'!AF7","v":0},{"$f":"'15'!AF7","v":0},{"$f":"'12'!AF7","v":0},{"$f":"'10'!AF7","v":0}]
[5,{"$f":"'80'!AF8","v":0},{"$f":"'40'!AF8","v":0},{"$f":"'30'!AF8","v":0},{"$f":"'20'!AF8","v":0},{"$f":"'17'!AF8","v":0},{"$f":"'15'!AF8","v":0},{"$f":"'12'!AF8","v":0},{"$f":"'10'!AF8","v":0}]
[6,{"$f":"'80'!AF9","v":0},{"$f":"'40'!AF9","v":0},{"$f":"'30'!AF9","v":0},{"$f":"'20'!AF9","v":0},{"$f":"'17'!AF9","v":0},{"$f":"'15'!AF9","v":0},{"$f":"'12'!AF9","v":0},{"$f":"'10'!AF9","v":0}]
[7,{"$f":"'80'!AF10","v":0},{"$f":"'40'!AF10","v":0},{"$f":"'30'!AF10","v":0},{"$f":"'20'!AF10","v":0},{"$f":"'17'!AF10","v":0},{"$f":"'15'!AF10","v":0},{"$f":"'12'!AF10","v":0},{"$f":"'10'!AF10","v":0}]
[8,{"$f":"'80'!AF11","v":0},{"$f":"'40'!AF11","v":0},{"$f":"'30'!AF11","v":0},{"$f":"'20'!AF11","v":0},{"$f":"'17'!AF11","v":0},{"$f":"'15'!AF11","v":0},{"$f":"'12'!AF11","v":0},{"$f":"'10'!AF11","v":0}]
[9,{"$f":"'80'!AF12","v":0},{"$f":"'40'!AF12","v":0},{"$f":"'30'!AF12","v":0},{"$f":"'20'!AF12","v":0},{"$f":"'17'!AF12","v":0},{"$f":"'15'!AF12","v":0},{"$f":"'12'!AF12","v":0},{"$f":"'10'!AF12","v":0}]
[10,{"$f":"'80'!AF13","v":0},{"$f":"'40'!AF13","v":0},{"$f":"'30'!AF13","v":0},{"$f":"'20'!AF13","v":0},{"$f":"'17'!AF13","v":0},{"$f":"'15'!AF13","v":0},{"$f":"'12'!AF13","v":0},{"$f":"'10'!AF13","v":0}]
[11,{"$f":"'80'!AF14","v":0},{"$f":"'40'!AF14","v":0},{"$f":"'30'!AF14","v":0},{"$f":"'20'!AF14","v":0},{"$f":"'17'!AF14","v":0},{"$f":"'15'!AF14","v":0},{"$f":"'12'!AF14","v":0},{"$f":"'10'!AF14","v":0}]
[12,{"$f":"'80'!AF15","v":0},{"$f":"'40'!AF15","v":0},{"$f":"'30'!AF15","v":0},{"$f":"'20'!AF15","v":0},{"$f":"'17'!AF15","v":0},{"$f":"'15'!AF15","v":0},{"$f":"'12'!AF15","v":0},{"$f":"'10'!AF15","v":0}]
[13,{"$f":"'80'!AF16","v":0},{"$f":"'40'!AF16","v":0},{"$f":"'30'!AF16","v":0},{"$f":"'20'!AF16","v":0},{"$f":"'17'!AF16","v":0},{"$f":"'15'!AF16","v":0},{"$f":"'12'!AF16","v":0},{"$f":"'10'!AF16","v":0}]
[14,{"$f":"'80'!AF17","v":0},{"$f":"'40'!AF17","v":0},{"$f":"'30'!AF17","v":0},{"$f":"'20'!AF17","v":0},{"$f":"'17'!AF17","v":0},{"$f":"'15'!AF17","v":0},{"$f":"'12'!AF17","v":0},{"$f":"'10'!AF17","v":0}]
[15,{"$f":"'80'!AF18","v":0},{"$f":"'40'!AF18","v":0},{"$f":"'30'!AF18","v":0},{"$f":"'20'!AF18","v":0},{"$f":"'17'!AF18","v":0},{"$f":"'15'!AF18","v":0},{"$f":"'12'!AF18","v":0},{"$f":"'10'!AF18","v":0}]
[16,{"$f":"'80'!AF19","v":0},{"$f":"'40'!AF19","v":0},{"$f":"'30'!AF19","v":0},{"$f":"'20'!AF19","v":0},{"$f":"'17'!AF19","v":0},{"$f":"'15'!AF19","v":0},{"$f":"'12'!AF19","v":0},{"$f":"'10'!AF19","v":0}]
[17,{"$f":"'80'!AF20","v":0},{"$f":"'40'!AF20","v":0},{"$f":"'30'!AF20","v":0},{"$f":"'20'!AF20","v":0},{"$f":"'17'!AF20","v":0},{"$f":"'15'!AF20","v":0},{"$f":"'12'!AF20","v":0},{"$f":"'10'!AF20","v":0}]
[18,{"$f":"'80'!AF21","v":0},{"$f":"'40'!AF21","v":0},{"$f":"'30'!AF21","v":0},{"$f":"'20'!AF21","v":0},{"$f":"'17'!AF21","v":0},{"$f":"'15'!AF21","v":0},{"$f":"'12'!AF21","v":0},{"$f":"'10'!AF21","v":0}]
[19,{"$f":"'80'!AF22","v":0},{"$f":"'40'!AF22","v":0},{"$f":"'30'!AF22","v":0},{"$f":"'20'!AF22","v":0},{"$f":"'17'!AF22","v":0},{"$f":"'15'!AF22","v":0},{"$f":"'12'!AF22","v":0},{"$f":"'10'!AF22","v":0}]
[20,{"$f":"'80'!AF23","v":0},{"$f":"'40'!AF23","v":0},{"$f":"'30'!AF23","v":0},{"$f":"'20'!AF23","v":0},{"$f":"'17'!AF23","v":0},{"$f":"'15'!AF23","v":0},{"$f":"'12'!AF23","v":0},{"$f":"'10'!AF23","v":0}]
[21,{"$f":"'80'!AF24","v":0},{"$f":"'40'!AF24","v":0},{"$f":"'30'!AF24","v":0},{"$f":"'20'!AF24","v":0},{"$f":"'17'!AF24","v":0},{"$f":"'15'!AF24","v":0},{"$f":"'12'!AF24","v":0},{"$f":"'10'!AF24","v":0}]
[22,{"$f":"'80'!AF25","v":0},{"$f":"'40'!AF25","v":0},{"$f":"'30'!AF25","v":0},{"$f":"'20'!AF25","v":0},{"$f":"'17'!AF25","v":0},{"$f":"'15'!AF25","v":0},{"$f":"'12'!AF25","v":0},{"$f":"'10'!AF25","v":0}]
[23,{"$f":"'80'!AF26","v":0},{"$f":"'40'!AF26","v":0},{"$f":"'30'!AF26","v":0},{"$f":"'20'!AF26","v":0},{"$f":"'17'!AF26","v":0},{"$f":"'15'!AF26","v":0},{"$f":"'12'!AF26","v":0},{"$f":"'10'!AF26","v":0}]
[24,{"$f":"'80'!AF27","v":0},{"$f":"'40'!AF27","v":0},{"$f":"'30'!AF27","v":0},{"$f":"'20'!AF27","v":0},{"$f":"'17'!AF27","v":0},{"$f":"'15'!AF27","v":0},{"$f":"'12'!AF27","v":0},{"$f":"'10'!AF27","v":0}]

{"sheet":"23 JT","index":39,"n_rows":25,"n_cols":9,"rows_kept":25}
["UT","80M","40M","30M","20M","17M","15M","12M","10M"]
[1,{"$f":"'80'!AG4","v":0},{"$f":"'40'!AG4","v":0},{"$f":"'30'!AG4","v":0},{"$f":"'20'!AG4","v":0},{"$f":"'17'!AG4","v":0},{"$f":"'15'!AG4","v":0},{"$f":"'12'!AG4","v":0},{"$f":"'10'!AG4","v":0}]
[2,{"$f":"'80'!AG5","v":0},{"$f":"'40'!AG5","v":0},{"$f":"'30'!AG5","v":0},{"$f":"'20'!AG5","v":0},{"$f":"'17'!AG5","v":0},{"$f":"'15'!AG5","v":0},{"$f":"'12'!AG5","v":0},{"$f":"'10'!AG5","v":0}]
[3,{"$f":"'80'!AG6","v":0},{"$f":"'40'!AG6","v":0},{"$f":"'30'!AG6","v":0},{"$f":"'20'!AG6","v":0},{"$f":"'17'!AG6","v":0},{"$f":"'15'!AG6","v":0},{"$f":"'12'!AG6","v":0},{"$f":"'10'!AG6","v":0}]
[4,{"$f":"'80'!AG7","v":0},{"$f":"'40'!AG7","v":0},{"$f":"'30'!AG7","v":0},{"$f":"'20'!AG7","v":0},{"$f":"'17'!AG7","v":0},{"$f":"'15'!AG7","v":0},{"$f":"'12'!AG7","v":0},{"$f":"'10'!AG7","v":0}]
[5,{"$f":"'80'!AG8","v":0},{"$f":"'40'!AG8","v":0},{"$f":"'30'!AG8","v":0},{"$f":"'20'!AG8","v":0},{"$f":"'17'!AG8","v":0},{"$f":"'15'!AG8","v":0},{"$f":"'12'!AG8","v":0},{"$f":"'10'!AG8","v":0}]
[6,{"$f":"'80'!AG9","v":0},{"$f":"'40'!AG9","v":0},{"$f":"'30'!AG9","v":0},{"$f":"'20'!AG9","v":0},{"$f":"'17'!AG9","v":0},{"$f":"'15'!AG9","v":0},{"$f":"'12'!AG9","v":0},{"$f":"'10'!AG9","v":0}]
[7,{"$f":"'80'!AG10","v":0},{"$f":"'40'!AG10","v":0},{"$f":"'30'!AG10","v":0},{"$f":"'20'!AG10","v":0},{"$f":"'17'!AG10","v":0},{"$f":"'15'!AG10","v":0},{"$f":"'12'!AG10","v":0},{"$f":"'10'!AG10","v":0}]
[8,{"$f":"'80'!AG11","v":0},{"$f":"'40'!AG11","v":0},{"$f":"'30'!AG11","v":0},{"$f":"'20'!AG11","v":0},{"$f":"'17'!AG11","v":0},{"$f":"'15'!AG11","v":0},{"$f":"'12'!AG11","v":0},{"$f":"'10'!AG11","v":0}]
[9,{"$f":"'80'!AG12","v":0},{"$f":"'40'!AG12","v":0},{"$f":"'30'!AG12","v":0},{"$f":"'20'!AG12","v":0},{"$f":"'17'!AG12","v":0},{"$f":"'15'!AG12","v":0},{"$f":"'12'!AG12","v":0},{"$f":"'10'!AG12","v":0}]
[10,{"$f":"'80'!AG13","v":0},{"$f":"'40'!AG13","v":0},{"$f":"'30'!AG13","v":0},{"$f":"'20'!AG13","v":0},{"$f":"'17'!AG13","v":0},{"$f":"'15'!AG13","v":0},{"$f":"'12'!AG13","v":0},{"$f":"'10'!AG13","v":0}]
[11,{"$f":"'80'!AG14","v":0},{"$f":"'40'!AG14","v":0},{"$f":"'30'!AG14","v":0},{"$f":"'20'!AG14","v":0},{"$f":"'17'!AG14","v":0},{"$f":"'15'!AG14","v":0},{"$f":"'12'!AG14","v":0},{"$f":"'10'!AG14","v":0}]
[12,{"$f":"'80'!AG15","v":0},{"$f":"'40'!AG15","v":0},{"$f":"'30'!AG15","v":0},{"$f":"'20'!AG15","v":0},{"$f":"'17'!AG15","v":0},{"$f":"'15'!AG15","v":0},{"$f":"'12'!AG15","v":0},{"$f":"'10'!AG15","v":0}]
[13,{"$f":"'80'!AG16","v":0},{"$f":"'40'!AG16","v":0},{"$f":"'30'!AG16","v":0},{"$f":"'20'!AG16","v":0},{"$f":"'17'!AG16","v":0},{"$f":"'15'!AG16","v":0},{"$f":"'12'!AG16","v":0},{"$f":"'10'!AG16","v":0}]
[14,{"$f":"'80'!AG17","v":0},{"$f":"'40'!AG17","v":0},{"$f":"'30'!AG17","v":0},{"$f":"'20'!AG17","v":0},{"$f":"'17'!AG17","v":0},{"$f":"'15'!AG17","v":0},{"$f":"'12'!AG17","v":0},{"$f":"'10'!AG17","v":0}]
[15,{"$f":"'80'!AG18","v":0},{"$f":"'40'!AG18","v":0},{"$f":"'30'!AG18","v":0},{"$f":"'20'!AG18","v":0},{"$f":"'17'!AG18","v":0},{"$f":"'15'!AG18","v":0},{"$f":"'12'!AG18","v":0},{"$f":"'10'!AG18","v":0}]
[16,{"$f":"'80'!AG19","v":0},{"$f":"'40'!AG19","v":0},{"$f":"'30'!AG19","v":0},{"$f":"'20'!AG19","v":0},{"$f":"'17'!AG19","v":0},{"$f":"'15'!AG19","v":0},{"$f":"'12'!AG19","v":0},{"$f":"'10'!AG19","v":0}]
[17,{"$f":"'80'!AG20","v":0},{"$f":"'40'!AG20","v":0},{"$f":"'30'!AG20","v":0},{"$f":"'20'!AG20","v":0},{"$f":"'17'!AG20","v":0},{"$f":"'15'!AG20","v":0},{"$f":"'12'!AG20","v":0},{"$f":"'10'!AG20","v":0}]
[18,{"$f":"'80'!AG21","v":0},{"$f":"'40'!AG21","v":0},{"$f":"'30'!AG21","v":0},{"$f":"'20'!AG21","v":0},{"$f":"'17'!AG21","v":0},{"$f":"'15'!AG21","v":0},{"$f":"'12'!AG21","v":0},{"$f":"'10'!AG21","v":0}]
[19,{"$f":"'80'!AG22","v":0},{"$f":"'40'!AG22","v":0},{"$f":"'30'!AG22","v":0},{"$f":"'20'!AG22","v":0},{"$f":"'17'!AG22","v":0},{"$f":"'15'!AG22","v":0},{"$f":"'12'!AG22","v":0},{"$f":"'10'!AG22","v":0}]
[20,{"$f":"'80'!AG23","v":0},{"$f":"'40'!AG23","v":0},{"$f":"'30'!AG23","v":0},{"$f":"'20'!AG23","v":0},{"$f":"'17'!AG23","v":0},{"$f":"'15'!AG23","v":0},{"$f":"'12'!AG23","v":0},{"$f":"'10'!AG23","v":0}]
[21,{"$f":"'80'!AG24","v":0},{"$f":"'40'!AG24","v":0},{"$f":"'30'!AG24","v":0},{"$f":"'20'!AG24","v":0},{"$f":"'17'!AG24","v":0},{"$f":"'15'!AG24","v":0},{"$f":"'12'!AG24","v":0},{"$f":"'10'!AG24","v":0}]
[22,{"$f":"'80'!AG25","v":0},{"$f":"'40'!AG25","v":0},{"$f":"'30'!AG25","v":0},{"$f":"'20'!AG25","v":0},{"$f":"'17'!AG25","v":0},{"$f":"'15'!AG25","v":0},{"$f":"'12'!AG25","v":0},{"$f":"'10'!AG25","v":0}]
[23,{"$f":"'80'!AG26","v":0},{"$f":"'40'!AG26","v":0},{"$f":"'30'!AG26","v":0},{"$f":"'20'!AG26","v":0},{"$f":"'17'!AG26","v":0},{"$f":"'15'!AG26","v":0},{"$f":"'12'!AG26","v":0},{"$f":"'10'!AG26","v":0}]
[24,{"$f":"'80'!AG27","v":0},{"$f":"'40'!AG27","v":0},{"$f":"'30'!AG27","v":0},{"$f":"'20'!AG27","v":0},{"$f":"'17'!AG27","v":0},{"$f":"'15'!AG27","v":0},{"$f":"'12'!AG27","v":0},{"$f":"'10'!AG27","v":0}]

{"sheet":"24 BY","index":40,"n_rows":25,"n_cols":9,"rows_kept":25}
["UT","80M","40M","30M","20M","17M","15M","12M","10M"]
[1,{"$f":"'80'!AH4","v":0},{"$f":"'40'!AH4","v":0},{"$f":"'30'!AH4","v":0},{"$f":"'20'!AH4","v":0},{"$f":"'17'!AH4","v":0},{"$f":"'15'!AH4","v":0},{"$f":"'12'!AH4","v":0},{"$f":"'10'!AH4","v":0}]
[2,{"$f":"'80'!AH5","v":0},{"$f":"'40'!AH5","v":0},{"$f":"'30'!AH5","v":0},{"$f":"'20'!AH5","v":0},{"$f":"'17'!AH5","v":0},{"$f":"'15'!AH5","v":0},{"$f":"'12'!AH5","v":0},{"$f":"'10'!AH5","v":0}]
[3,{"$f":"'80'!AH6","v":0},{"$f":"'40'!AH6","v":0},{"$f":"'30'!AH6","v":0},{"$f":"'20'!AH6","v":0},{"$f":"'17'!AH6","v":0},{"$f":"'15'!AH6","v":0},{"$f":"'12'!AH6","v":0},{"$f":"'10'!AH6","v":0}]
[4,{"$f":"'80'!AH7","v":0},{"$f":"'40'!AH7","v":0},{"$f":"'30'!AH7","v":0},{"$f":"'20'!AH7","v":0},{"$f":"'17'!AH7","v":0},{"$f":"'15'!AH7","v":0},{"$f":"'12'!AH7","v":0},{"$f":"'10'!AH7","v":0}]
[5,{"$f":"'80'!AH8","v":0},{"$f":"'40'!AH8","v":0},{"$f":"'30'!AH8","v":0},{"$f":"'20'!AH8","v":0},{"$f":"'17'!AH8","v":0},{"$f":"'15'!AH8","v":0},{"$f":"'12'!AH8","v":0},{"$f":"'10'!AH8","v":0}]
[6,{"$f":"'80'!AH9","v":0},{"$f":"'40'!AH9","v":0},{"$f":"'30'!AH9","v":0},{"$f":"'20'!AH9","v":0},{"$f":"'17'!AH9","v":0},{"$f":"'15'!AH9","v":0},{"$f":"'12'!AH9","v":0},{"$f":"'10'!AH9","v":0}]
[7,{"$f":"'80'!AH10","v":0},{"$f":"'40'!AH10","v":0},{"$f":"'30'!AH10","v":0},{"$f":"'20'!AH10","v":0},{"$f":"'17'!AH10","v":0},{"$f":"'15'!AH10","v":0},{"$f":"'12'!AH10","v":0},{"$f":"'10'!AH10","v":0}]
[8,{"$f":"'80'!AH11","v":0},{"$f":"'40'!AH11","v":0},{"$f":"'30'!AH11","v":0},{"$f":"'20'!AH11","v":0},{"$f":"'17'!AH11","v":0},{"$f":"'15'!AH11","v":0},{"$f":"'12'!AH11","v":0},{"$f":"'10'!AH11","v":0}]
[9,{"$f":"'80'!AH12","v":0},{"$f":"'40'!AH12","v":0},{"$f":"'30'!AH12","v":0},{"$f":"'20'!AH12","v":0},{"$f":"'17'!AH12","v":0},{"$f":"'15'!AH12","v":0},{"$f":"'12'!AH12","v":0},{"$f":"'10'!AH12","v":0}]
[10,{"$f":"'80'!AH13","v":0},{"$f":"'40'!AH13","v":0},{"$f":"'30'!AH13","v":0},{"$f":"'20'!AH13","v":0},{"$f":"'17'!AH13","v":0},{"$f":"'15'!AH13","v":0},{"$f":"'12'!AH13","v":0},{"$f":"'10'!AH13","v":0}]
[11,{"$f":"'80'!AH14","v":0},{"$f":"'40'!AH14","v":0},{"$f":"'30'!AH14","v":0},{"$f":"'20'!AH14","v":0},{"$f":"'17'!AH14","v":0},{"$f":"'15'!AH14","v":0},{"$f":"'12'!AH14","v":0},{"$f":"'10'!AH14","v":0}]
[12,{"$f":"'80'!AH15","v":0},{"$f":"'40'!AH15","v":0},{"$f":"'30'!AH15","v":0},{"$f":"'20'!AH15","v":0},{"$f":"'17'!AH15","v":0},{"$f":"'15'!AH15","v":0},{"$f":"'12'!AH15","v":0},{"$f":"'10'!AH15","v":0}]
[13,{"$f":"'80'!AH16","v":0},{"$f":"'40'!AH16","v":0},{"$f":"'30'!AH16","v":0},{"$f":"'20'!AH16","v":0},{"$f":"'17'!AH16","v":0},{"$f":"'15'!AH16","v":0},{"$f":"'12'!AH16","v":0},{"$f":"'10'!AH16","v":0}]
[14,{"$f":"'80'!AH17","v":0},{"$f":"'40'!AH17","v":0},{"$f":"'30'!AH17","v":0},{"$f":"'20'!AH17","v":0},{"$f":"'17'!AH17","v":0},{"$f":"'15'!AH17","v":0},{"$f":"'12'!AH17","v":0},{"$f":"'10'!AH17","v":0}]
[15,{"$f":"'80'!AH18","v":0},{"$f":"'40'!AH18","v":0},{"$f":"'30'!AH18","v":0},{"$f":"'20'!AH18","v":0},{"$f":"'17'!AH18","v":0},{"$f":"'15'!AH18","v":0},{"$f":"'12'!AH18","v":0},{"$f":"'10'!AH18","v":0}]
[16,{"$f":"'80'!AH19","v":0},{"$f":"'40'!AH19","v":0},{"$f":"'30'!AH19","v":0},{"$f":"'20'!AH19","v":0},{"$f":"'17'!AH19","v":0},{"$f":"'15'!AH19","v":0},{"$f":"'12'!AH19","v":0},{"$f":"'10'!AH19","v":0}]
[17,{"$f":"'80'!AH20","v":0},{"$f":"'40'!AH20","v":0},{"$f":"'30'!AH20","v":0},{"$f":"'20'!AH20","v":0},{"$f":"'17'!AH20","v":0},{"$f":"'15'!AH20","v":0},{"$f":"'12'!AH20","v":0},{"$f":"'10'!AH20","v":0}]
[18,{"$f":"'80'!AH21","v":0},{"$f":"'40'!AH21","v":0},{"$f":"'30'!AH21","v":0},{"$f":"'20'!AH21","v":0},{"$f":"'17'!AH21","v":0},{"$f":"'15'!AH21","v":0},{"$f":"'12'!AH21","v":0},{"$f":"'10'!AH21","v":0}]
[19,{"$f":"'80'!AH22","v":0},{"$f":"'40'!AH22","v":0},{"$f":"'30'!AH22","v":0},{"$f":"'20'!AH22","v":0},{"$f":"'17'!AH22","v":0},{"$f":"'15'!AH22","v":0},{"$f":"'12'!AH22","v":0},{"$f":"'10'!AH22","v":0}]
[20,{"$f":"'80'!AH23","v":0},{"$f":"'40'!AH23","v":0},{"$f":"'30'!AH23","v":0},{"$f":"'20'!AH23","v":0},{"$f":"'17'!AH23","v":0},{"$f":"'15'!AH23","v":0},{"$f":"'12'!AH23","v":0},{"$f":"'10'!AH23","v":0}]
[21,{"$f":"'80'!AH24","v":0},{"$f":"'40'!AH24","v":0},{"$f":"'30'!AH24","v":0},{"$f":"'20'!AH24","v":0},{"$f":"'17'!AH24","v":0},{"$f":"'15'!AH24","v":0},{"$f":"'12'!AH24","v":0},{"$f":"'10'!AH24","v":0}]
[22,{"$f":"'80'!AH25","v":0},{"$f":"'40'!AH25","v":0},{"$f":"'30'!AH25","v":0},{"$f":"'20'!AH25","v":0},{"$f":"'17'!AH25","v":0},{"$f":"'15'!AH25","v":0},{"$f":"'12'!AH25","v":0},{"$f":"'10'!AH25","v":0}]
[23,{"$f":"'80'!AH26","v":0},{"$f":"'40'!AH26","v":0},{"$f":"'30'!AH26","v":0},{"$f":"'20'!AH26","v":0},{"$f":"'17'!AH26","v":0},{"$f":"'15'!AH26","v":0},{"$f":"'12'!AH26","v":0},{"$f":"'10'!AH26","v":0}]
[24,{"$f":"'80'!AH27","v":0},{"$f":"'40'!AH27","v":0},{"$f":"'30'!AH27","v":0},{"$f":"'20'!AH27","v":0},{"$f":"'17'!AH27","v":0},{"$f":"'15'!AH27","v":0},{"$f":"'12'!AH27","v":0},{"$f":"'10'!AH27","v":0}]

{"sheet":"24 VR2","index":41,"n_rows":25,"n_cols":9,"rows_kept":25}
["UT","80M","40M","30M","20M","17M","15M","12M","10M"]
[1,{"$f":"'80'!AI4","v":0},{"$f":"'40'!AI4","v":0},{"$f":"'30'!AI4","v":0},{"$f":"'20'!AI4","v":0},{"$f":"'17'!AI4","v":0},{"$f":"'15'!AI4","v":0},{"$f":"'12'!AI4","v":0},{"$f":"'10'!AI4","v":0}]
[2,{"$f":"'80'!AI5","v":0},{"$f":"'40'!AI5","v":0},{"$f":"'30'!AI5","v":0},{"$f":"'20'!AI5","v":0},{"$f":"'17'!AI5","v":0},{"$f":"'15'!AI5","v":0},{"$f":"'12'!AI5","v":0},{"$f":"'10'!AI5","v":0}]
[3,{"$f":"'80'!AI6","v":0},{"$f":"'40'!AI6","v":0},{"$f":"'30'!AI6","v":0},{"$f":"'20'!AI6","v":0},{"$f":"'17'!AI6","v":0},{"$f":"'15'!AI6","v":0},{"$f":"'12'!AI6","v":0},{"$f":"'10'!AI6","v":0}]
[4,{"$f":"'80'!AI7","v":0},{"$f":"'40'!AI7","v":0},{"$f":"'30'!AI7","v":0},{"$f":"'20'!AI7","v":0},{"$f":"'17'!AI7","v":0},{"$f":"'15'!AI7","v":0},{"$f":"'12'!AI7","v":0},{"$f":"'10'!AI7","v":0}]
[5,{"$f":"'80'!AI8","v":0},{"$f":"'40'!AI8","v":0},{"$f":"'30'!AI8","v":0},{"$f":"'20'!AI8","v":0},{"$f":"'17'!AI8","v":0},{"$f":"'15'!AI8","v":0},{"$f":"'12'!AI8","v":0},{"$f":"'10'!AI8","v":0}]
[6,{"$f":"'80'!AI9","v":0},{"$f":"'40'!AI9","v":0},{"$f":"'30'!AI9","v":0},{"$f":"'20'!AI9","v":0},{"$f":"'17'!AI9","v":0},{"$f":"'15'!AI9","v":0},{"$f":"'12'!AI9","v":0},{"$f":"'10'!AI9","v":0}]
[7,{"$f":"'80'!AI10","v":0},{"$f":"'40'!AI10","v":0},{"$f":"'30'!AI10","v":0},{"$f":"'20'!AI10","v":0},{"$f":"'17'!AI10","v":0},{"$f":"'15'!AI10","v":0},{"$f":"'12'!AI10","v":0},{"$f":"'10'!AI10","v":0}]
[8,{"$f":"'80'!AI11","v":0},{"$f":"'40'!AI11","v":0},{"$f":"'30'!AI11","v":0},{"$f":"'20'!AI11","v":0},{"$f":"'17'!AI11","v":0},{"$f":"'15'!AI11","v":0},{"$f":"'12'!AI11","v":0},{"$f":"'10'!AI11","v":0}]
[9,{"$f":"'80'!AI12","v":0},{"$f":"'40'!AI12","v":0},{"$f":"'30'!AI12","v":0},{"$f":"'20'!AI12","v":0},{"$f":"'17'!AI12","v":0},{"$f":"'15'!AI12","v":0},{"$f":"'12'!AI12","v":0},{"$f":"'10'!AI12","v":0}]
[10,{"$f":"'80'!AI13","v":0},{"$f":"'40'!AI13","v":0},{"$f":"'30'!AI13","v":0},{"$f":"'20'!AI13","v":0},{"$f":"'17'!AI13","v":0},{"$f":"'15'!AI13","v":0},{"$f":"'12'!AI13","v":0},{"$f":"'10'!AI13","v":0}]
[11,{"$f":"'80'!AI14","v":0},{"$f":"'40'!AI14","v":0},{"$f":"'30'!AI14","v":0},{"$f":"'20'!AI14","v":0},{"$f":"'17'!AI14","v":0},{"$f":"'15'!AI14","v":0},{"$f":"'12'!AI14","v":0},{"$f":"'10'!AI14","v":0}]
[12,{"$f":"'80'!AI15","v":0},{"$f":"'40'!AI15","v":0},{"$f":"'30'!AI15","v":0},{"$f":"'20'!AI15","v":0},{"$f":"'17'!AI15","v":0},{"$f":"'15'!AI15","v":0},{"$f":"'12'!AI15","v":0},{"$f":"'10'!AI15","v":0}]
[13,{"$f":"'80'!AI16","v":0},{"$f":"'40'!AI16","v":0},{"$f":"'30'!AI16","v":0},{"$f":"'20'!AI16","v":0},{"$f":"'17'!AI16","v":0},{"$f":"'15'!AI16","v":0},{"$f":"'12'!AI16","v":0},{"$f":"'10'!AI16","v":0}]
[14,{"$f":"'80'!AI17","v":0},{"$f":"'40'!AI17","v":0},{"$f":"'30'!AI17","v":0},{"$f":"'20'!AI17","v":0},{"$f":"'17'!AI17","v":0},{"$f":"'15'!AI17","v":0},{"$f":"'12'!AI17","v":0},{"$f":"'10'!AI17","v":0}]
[15,{"$f":"'80'!AI18","v":0},{"$f":"'40'!AI18","v":0},{"$f":"'30'!AI18","v":0},{"$f":"'20'!AI18","v":0},{"$f":"'17'!AI18","v":0},{"$f":"'15'!AI18","v":0},{"$f":"'12'!AI18","v":0},{"$f":"'10'!AI18","v":0}]
[16,{"$f":"'80'!AI19","v":0},{"$f":"'40'!AI19","v":0},{"$f":"'30'!AI19","v":0},{"$f":"'20'!AI19","v":0},{"$f":"'17'!AI19","v":0},{"$f":"'15'!AI19","v":0},{"$f":"'12'!AI19","v":0},{"$f":"'10'!AI19","v":0}]
[17,{"$f":"'80'!AI20","v":0},{"$f":"'40'!AI20","v":0},{"$f":"'30'!AI20","v":0},{"$f":"'20'!AI20","v":0},{"$f":"'17'!AI20","v":0},{"$f":"'15'!AI20","v":0},{"$f":"'12'!AI20","v":0},{"$f":"'10'!AI20","v":0}]
[18,{"$f":"'80'!AI21","v":0},{"$f":"'40'!AI21","v":0},{"$f":"'30'!AI21","v":0},{"$f":"'20'!AI21","v":0},{"$f":"'17'!AI21","v":0},{"$f":"'15'!AI21","v":0},{"$f":"'12'!AI21","v":0},{"$f":"'10'!AI21","v":0}]
[19,{"$f":"'80'!AI22","v":0},{"$f":"'40'!AI22","v":0},{"$f":"'30'!AI22","v":0},{"$f":"'20'!AI22","v":0},{"$f":"'17'!AI22","v":0},{"$f":"'15'!AI22","v":0},{"$f":"'12'!AI22","v":0},{"$f":"'10'!AI22","v":0}]
[20,{"$f":"'80'!AI23","v":0},{"$f":"'40'!AI23","v":0},{"$f":"'30'!AI23","v":0},{"$f":"'20'!AI23","v":0},{"$f":"'17'!AI23","v":0},{"$f":"'15'!AI23","v":0},{"$f":"'12'!AI23","v":0},{"$f":"'10'!AI23","v":0}]
[21,{"$f":"'80'!AI24","v":0},{"$f":"'40'!AI24","v":0},{"$f":"'30'!AI24","v":0},{"$f":"'20'!AI24","v":0},{"$f":"'17'!AI24","v":0},{"$f":"'15'!AI24","v":0},{"$f":"'12'!AI24","v":0},{"$f":"'10'!AI24","v":0}]
[22,{"$f":"'80'!AI25","v":0},{"$f":"'40'!AI25","v":0},{"$f":"'30'!AI25","v":0},{"$f":"'20'!AI25","v":0},{"$f":"'17'!AI25","v":0},{"$f":"'15'!AI25","v":0},{"$f":"'12'!AI25","v":0},{"$f":"'10'!AI25","v":0}]
[23,{"$f":"'80'!AI26","v":0},{"$f":"'40'!AI26","v":0},{"$f":"'30'!AI26","v":0},{"$f":"'20'!AI26","v":0},{"$f":"'17'!AI26","v":0},{"$f":"'15'!AI26","v":0},{"$f":"'12'!AI26","v":0},{"$f":"'10'!AI26","v":0}]
[24,{"$f":"'80'!AI27","v":0},{"$f":"'40'!AI27","v":0},{"$f":"'30'!AI27","v":0},{"$f":"'20'!AI27","v":0},{"$f":"'17'!AI27","v":0},{"$f":"'15'!AI27","v":0},{"$f":"'12'!AI27","v":0},{"$f":"'10'!AI27","v":0}]

{"sheet":"25 JA","index":42,"n_rows":25,"n_cols":9,"rows_kept":25}
["UT","80M","40M","30M","20M","17M","15M","12M","10M"]
[1,{"$f":"'80'!AJ4","v":0},{"$f":"'40'!AJ4","v":0},{"$f":"'30'!AJ4","v":0},{"$f":"'20'!AJ4","v":0},{"$f":"'17'!AJ4","v":0},{"$f":"'15'!AJ4","v":0},{"$f":"'12'!AJ4","v":0},{"$f":"'10'!AJ4","v":0}]
[2,{"$f":"'80'!AJ5","v":0},{"$f":"'40'!AJ5","v":0},{"$f":"'30'!AJ5","v":0},{"$f":"'20'!AJ5","v":0},{"$f":"'17'!AJ5","v":0},{"$f":"'15'!AJ5","v":0},{"$f":"'12'!AJ5","v":0},{"$f":"'10'!AJ5","v":0}]
[3,{"$f":"'80'!AJ6","v":0},{"$f":"'40'!AJ6","v":0},{"$f":"'30'!AJ6","v":0},{"$f":"'20'!AJ6","v":0},{"$f":"'17'!AJ6","v":0},{"$f":"'15'!AJ6","v":0},{"$f":"'12'!AJ6","v":0},{"$f":"'10'!AJ6","v":0}]
[4,{"$f":"'80'!AJ7","v":0},{"$f":"'40'!AJ7","v":0},{"$f":"'30'!AJ7","v":0},{"$f":"'20'!AJ7","v":0},{"$f":"'17'!AJ7","v":0},{"$f":"'15'!AJ7","v":0},{"$f":"'12'!AJ7","v":0},{"$f":"'10'!AJ7","v":0}]
[5,{"$f":"'80'!AJ8","v":0},{"$f":"'40'!AJ8","v":0},{"$f":"'30'!AJ8","v":0},{"$f":"'20'!AJ8","v":0},{"$f":"'17'!AJ8","v":0},{"$f":"'15'!AJ8","v":0},{"$f":"'12'!AJ8","v":0},{"$f":"'10'!AJ8","v":0}]
[6,{"$f":"'80'!AJ9","v":0},{"$f":"'40'!AJ9","v":0},{"$f":"'30'!AJ9","v":0},{"$f":"'20'!AJ9","v":0},{"$f":"'17'!AJ9","v":0},{"$f":"'15'!AJ9","v":0},{"$f":"'12'!AJ9","v":0},{"$f":"'10'!AJ9","v":0}]
[7,{"$f":"'80'!AJ10","v":0},{"$f":"'40'!AJ10","v":0},{"$f":"'30'!AJ10","v":0},{"$f":"'20'!AJ10","v":0},{"$f":"'17'!AJ10","v":0},{"$f":"'15'!AJ10","v":0},{"$f":"'12'!AJ10","v":0},{"$f":"'10'!AJ10","v":0}]
[8,{"$f":"'80'!AJ11","v":0},{"$f":"'40'!AJ11","v":0},{"$f":"'30'!AJ11","v":0},{"$f":"'20'!AJ11","v":0},{"$f":"'17'!AJ11","v":0},{"$f":"'15'!AJ11","v":0},{"$f":"'12'!AJ11","v":0},{"$f":"'10'!AJ11","v":0}]
[9,{"$f":"'80'!AJ12","v":0},{"$f":"'40'!AJ12","v":0},{"$f":"'30'!AJ12","v":0},{"$f":"'20'!AJ12","v":0},{"$f":"'17'!AJ12","v":0},{"$f":"'15'!AJ12","v":0},{"$f":"'12'!AJ12","v":0},{"$f":"'10'!AJ12","v":0}]
[10,{"$f":"'80'!AJ13","v":0},{"$f":"'40'!AJ13","v":0},{"$f":"'30'!AJ13","v":0},{"$f":"'20'!AJ13","v":0},{"$f":"'17'!AJ13","v":0},{"$f":"'15'!AJ13","v":0},{"$f":"'12'!AJ13","v":0},{"$f":"'10'!AJ13","v":0}]
[11,{"$f":"'80'!AJ14","v":0},{"$f":"'40'!AJ14","v":0},{"$f":"'30'!AJ14","v":0},{"$f":"'20'!AJ14","v":0},{"$f":"'17'!AJ14","v":0},{"$f":"'15'!AJ14","v":0},{"$f":"'12'!AJ14","v":0},{"$f":"'10'!AJ14","v":0}]
[12,{"$f":"'80'!AJ15","v":0},{"$f":"'40'!AJ15","v":0},{"$f":"'30'!AJ15","v":0},{"$f":"'20'!AJ15","v":0},{"$f":"'17'!AJ15","v":0},{"$f":"'15'!AJ15","v":0},{"$f":"'12'!AJ15","v":0},{"$f":"'10'!AJ15","v":0}]
[13,{"$f":"'80'!AJ16","v":0},{"$f":"'40'!AJ16","v":0},{"$f":"'30'!AJ16","v":0},{"$f":"'20'!AJ16","v":0},{"$f":"'17'!AJ16","v":0},{"$f":"'15'!AJ16","v":0},{"$f":"'12'!AJ16","v":0},{"$f":"'10'!AJ16","v":0}]
[14,{"$f":"'80'!AJ17","v":0},{"$f":"'40'!AJ17","v":0},{"$f":"'30'!AJ17","v":0},{"$f":"'20'!AJ17","v":0},{"$f":"'17'!AJ17","v":0},{"$f":"'15'!AJ17","v":0},{"$f":"'12'!AJ17","v":0},{"$f":"'10'!AJ17","v":0}]
[15,{"$f":"'80'!AJ18","v":0},{"$f":"'40'!AJ18","v":0},{"$f":"'30'!AJ18","v":0},{"$f":"'20'!AJ18","v":0},{"$f":"'17'!AJ18","v":0},{"$f":"'15'!AJ18","v":0},{"$f":"'12'!AJ18","v":0},{"$f":"'10'!AJ18","v":0}]
[16,{"$f":"'80'!AJ19","v":0},{"$f":"'40'!AJ19","v":0},{"$f":"'30'!AJ19","v":0},{"$f":"'20'!AJ19","v":0},{"$f":"'17'!AJ19","v":0},{"$f":"'15'!AJ19","v":0},{"$f":"'12'!AJ19","v":0},{"$f":"'10'!AJ19","v":0}]
[17,{"$f":"'80'!AJ20","v":0},{"$f":"'40'!AJ20","v":0},{"$f":"'30'!AJ20","v":0},{"$f":"'20'!AJ20","v":0},{"$f":"'17'!AJ20","v":0},{"$f":"'15'!AJ20","v":0},{"$f":"'12'!AJ20","v":0},{"$f":"'10'!AJ20","v":0}]
[18,{"$f":"'80'!AJ21","v":0},{"$f":"'40'!AJ21","v":0},{"$f":"'30'!AJ21","v":0},{"$f":"'20'!AJ21","v":0},{"$f":"'17'!AJ21","v":0},{"$f":"'15'!AJ21","v":0},{"$f":"'12'!AJ21","v":0},{"$f":"'10'!AJ21","v":0}]
[19,{"$f":"'80'!AJ22","v":0},{"$f":"'40'!AJ22","v":0},{"$f":"'30'!AJ22","v":0},{"$f":"'20'!AJ22","v":0},{"$f":"'17'!AJ22","v":0},{"$f":"'15'!AJ22","v":0},{"$f":"'12'!AJ22","v":0},{"$f":"'10'!AJ22","v":0}]
[20,{"$f":"'80'!AJ23","v":0},{"$f":"'40'!AJ23","v":0},{"$f":"'30'!AJ23","v":0},{"$f":"'20'!AJ23","v":0},{"$f":"'17'!AJ23","v":0},{"$f":"'15'!AJ23","v":0},{"$f":"'12'!AJ23","v":0},{"$f":"'10'!AJ23","v":0}]
[21,{"$f":"'80'!AJ24","v":0},{"$f":"'40'!AJ24","v":0},{"$f":"'30'!AJ24","v":0},{"$f":"'20'!AJ24","v":0},{"$f":"'17'!AJ24","v":0},{"$f":"'15'!AJ24","v":0},{"$f":"'12'!AJ24","v":0},{"$f":"'10'!AJ24","v":0}]
[22,{"$f":"'80'!AJ25","v":0},{"$f":"'40'!AJ25","v":0},{"$f":"'30'!AJ25","v":0},{"$f":"'20'!AJ25","v":0},{"$f":"'17'!AJ25","v":0},{"$f":"'15'!AJ25","v":0},{"$f":"'12'!AJ25","v":0},{"$f":"'10'!AJ25","v":0}]
[23,{"$f":"'80'!AJ26","v":0},{"$f":"'40'!AJ26","v":0},{"$f":"'30'!AJ26","v":0},{"$f":"'20'!AJ26","v":0},{"$f":"'17'!AJ26","v":0},{"$f":"'15'!AJ26","v":0},{"$f":"'12'!AJ26","v":0},{"$f":"'10'!AJ26","v":0}]
[24,{"$f":"'80'!AJ27","v":0},{"$f":"'40'!AJ27","v":0},{"$f":"'30'!AJ27","v":0},{"$f":"'20'!AJ27","v":0},{"$f":"'17'!AJ27","v":0},{"$f":"'15'!AJ27","v":0},{"$f":"'12'!AJ27","v":0},{"$f":"'10'!AJ27","v":0}]

{"sheet":"26 HS","index":43,"n_rows":25,"n_cols":9,"rows_kept":25}
["UT","80M","40M","30M","20M","17M","15M","12M","10M"]
[1,{"$f":"'80'!AK4","v":0},{"$f":"'40'!AK4","v":0},{"$f":"'30'!AK4","v":0},{"$f":"'20'!AK4","v":0},{"$f":"'17'!AK4","v":0},{"$f":"'15'!AK4","v":0},{"$f":"'12'!AK4","v":0},{"$f":"'10'!AK4","v":0}]
[2,{"$f":"'80'!AK5","v":0},{"$f":"'40'!AK5","v":0},{"$f":"'30'!AK5","v":0},{"$f":"'20'!AK5","v":0},{"$f":"'17'!AK5","v":0},{"$f":"'15'!AK5","v":0},{"$f":"'12'!AK5","v":0},{"$f":"'10'!AK5","v":0}]
[3,{"$f":"'80'!AK6","v":0},{"$f":"'40'!AK6","v":0},{"$f":"'30'!AK6","v":0},{"$f":"'20'!AK6","v":0},{"$f":"'17'!AK6","v":0},{"$f":"'15'!AK6","v":0},{"$f":"'12'!AK6","v":0},{"$f":"'10'!AK6","v":0}]
[4,{"$f":"'80'!AK7","v":0},{"$f":"'40'!AK7","v":0},{"$f":"'30'!AK7","v":0},{"$f":"'20'!AK7","v":0},{"$f":"'17'!AK7","v":0},{"$f":"'15'!AK7","v":0},{"$f":"'12'!AK7","v":0},{"$f":"'10'!AK7","v":0}]
[5,{"$f":"'80'!AK8","v":0},{"$f":"'40'!AK8","v":0},{"$f":"'30'!AK8","v":0},{"$f":"'20'!AK8","v":0},{"$f":"'17'!AK8","v":0},{"$f":"'15'!AK8","v":0},{"$f":"'12'!AK8","v":0},{"$f":"'10'!AK8","v":0}]
[6,{"$f":"'80'!AK9","v":0},{"$f":"'40'!AK9","v":0},{"$f":"'30'!AK9","v":0},{"$f":"'20'!AK9","v":0},{"$f":"'17'!AK9","v":0},{"$f":"'15'!AK9","v":0},{"$f":"'12'!AK9","v":0},{"$f":"'10'!AK9","v":0}]
[7,{"$f":"'80'!AK10","v":0},{"$f":"'40'!AK10","v":0},{"$f":"'30'!AK10","v":0},{"$f":"'20'!AK10","v":0},{"$f":"'17'!AK10","v":0},{"$f":"'15'!AK10","v":0},{"$f":"'12'!AK10","v":0},{"$f":"'10'!AK10","v":0}]
[8,{"$f":"'80'!AK11","v":0},{"$f":"'40'!AK11","v":0},{"$f":"'30'!AK11","v":0},{"$f":"'20'!AK11","v":0},{"$f":"'17'!AK11","v":0},{"$f":"'15'!AK11","v":0},{"$f":"'12'!AK11","v":0},{"$f":"'10'!AK11","v":0}]
[9,{"$f":"'80'!AK12","v":0},{"$f":"'40'!AK12","v":0},{"$f":"'30'!AK12","v":0},{"$f":"'20'!AK12","v":0},{"$f":"'17'!AK12","v":0},{"$f":"'15'!AK12","v":0},{"$f":"'12'!AK12","v":0},{"$f":"'10'!AK12","v":0}]
[10,{"$f":"'80'!AK13","v":0},{"$f":"'40'!AK13","v":0},{"$f":"'30'!AK13","v":0},{"$f":"'20'!AK13","v":0},{"$f":"'17'!AK13","v":0},{"$f":"'15'!AK13","v":0},{"$f":"'12'!AK13","v":0},{"$f":"'10'!AK13","v":0}]
[11,{"$f":"'80'!AK14","v":0},{"$f":"'40'!AK14","v":0},{"$f":"'30'!AK14","v":0},{"$f":"'20'!AK14","v":0},{"$f":"'17'!AK14","v":0},{"$f":"'15'!AK14","v":0},{"$f":"'12'!AK14","v":0},{"$f":"'10'!AK14","v":0}]
[12,{"$f":"'80'!AK15","v":0},{"$f":"'40'!AK15","v":0},{"$f":"'30'!AK15","v":0},{"$f":"'20'!AK15","v":0},{"$f":"'17'!AK15","v":0},{"$f":"'15'!AK15","v":0},{"$f":"'12'!AK15","v":0},{"$f":"'10'!AK15","v":0}]
[13,{"$f":"'80'!AK16","v":0},{"$f":"'40'!AK16","v":0},{"$f":"'30'!AK16","v":0},{"$f":"'20'!AK16","v":0},{"$f":"'17'!AK16","v":0},{"$f":"'15'!AK16","v":0},{"$f":"'12'!AK16","v":0},{"$f":"'10'!AK16","v":0}]
[14,{"$f":"'80'!AK17","v":0},{"$f":"'40'!AK17","v":0},{"$f":"'30'!AK17","v":0},{"$f":"'20'!AK17","v":0},{"$f":"'17'!AK17","v":0},{"$f":"'15'!AK17","v":0},{"$f":"'12'!AK17","v":0},{"$f":"'10'!AK17","v":0}]
[15,{"$f":"'80'!AK18","v":0},{"$f":"'40'!AK18","v":0},{"$f":"'30'!AK18","v":0},{"$f":"'20'!AK18","v":0},{"$f":"'17'!AK18","v":0},{"$f":"'15'!AK18","v":0},{"$f":"'12'!AK18","v":0},{"$f":"'10'!AK18","v":0}]
[16,{"$f":"'80'!AK19","v":0},{"$f":"'40'!AK19","v":0},{"$f":"'30'!AK19","v":0},{"$f":"'20'!AK19","v":0},{"$f":"'17'!AK19","v":0},{"$f":"'15'!AK19","v":0},{"$f":"'12'!AK19","v":0},{"$f":"'10'!AK19","v":0}]
[17,{"$f":"'80'!AK20","v":0},{"$f":"'40'!AK20","v":0},{"$f":"'30'!AK20","v":0},{"$f":"'20'!AK20","v":0},{"$f":"'17'!AK20","v":0},{"$f":"'15'!AK20","v":0},{"$f":"'12'!AK20","v":0},{"$f":"'10'!AK20","v":0}]
[18,{"$f":"'80'!AK21","v":0},{"$f":"'40'!AK21","v":0},{"$f":"'30'!AK21","v":0},{"$f":"'20'!AK21","v":0},{"$f":"'17'!AK21","v":0},{"$f":"'15'!AK21","v":0},{"$f":"'12'!AK21","v":0},{"$f":"'10'!AK21","v":0}]
[19,{"$f":"'80'!AK22","v":0},{"$f":"'40'!AK22","v":0},{"$f":"'30'!AK22","v":0},{"$f":"'20'!AK22","v":0},{"$f":"'17'!AK22","v":0},{"$f":"'15'!AK22","v":0},{"$f":"'12'!AK22","v":0},{"$f":"'10'!AK22","v":0}]
[20,{"$f":"'80'!AK23","v":0},{"$f":"'40'!AK23","v":0},{"$f":"'30'!AK23","v":0},{"$f":"'20'!AK23","v":0},{"$f":"'17'!AK23","v":0},{"$f":"'15'!AK23","v":0},{"$f":"'12'!AK23","v":0},{"$f":"'10'!AK23","v":0}]
[21,{"$f":"'80'!AK24","v":0},{"$f":"'40'!AK24","v":0},{"$f":"'30'!AK24","v":0},{"$f":"'20'!AK24","v":0},{"$f":"'17'!AK24","v":0},{"$f":"'15'!AK24","v":0},{"$f":"'12'!AK24","v":0},{"$f":"'10'!AK24","v":0}]
[22,{"$f":"'80'!AK25","v":0},{"$f":"'40'!AK25","v":0},{"$f":"'30'!AK25","v":0},{"$f":"'20'!AK25","v":0},{"$f":"'17'!AK25","v":0},{"$f":"'15'!AK25","v":0},{"$f":"'12'!AK25","v":0},{"$f":"'10'!AK25","v":0}]
[23,{"$f":"'80'!AK26","v":0},{"$f":"'40'!AK26","v":0},{"$f":"'30'!AK26","v":0},{"$f":"'20'!AK26","v":0},{"$f":"'17'!AK26","v":0},{"$f":"'15'!AK26","v":0},{"$f":"'12'!AK26","v":0},{"$f":"'10'!AK26","v":0}]
[24,{"$f":"'80'!AK27","v":0},{"$f":"'40'!AK27","v":0},{"$f":"'30'!AK27","v":0},{"$f":"'20'!AK27","v":0},{"$f":"'17'!AK27","v":0},{"$f":"'15'!AK27","v":0},{"$f":"'12'!AK27","v":0},{"$f":"'10'!AK27","v":0}]

{"sheet":"27 DU","index":44,"n_rows":25,"n_cols":9,"rows_kept":25}
["UT","80M","40M","30M","20M","17M","15M","12M","10M"]
[1,{"$f":"'80'!AL4","v":0},{"$f":"'40'!AL4","v":0},{"$f":"'30'!AL4","v":0},{"$f":"'20'!AL4","v":0},{"$f":"'17'!AL4","v":0},{"$f":"'15'!AL4","v":0},{"$f":"'12'!AL4","v":0},{"$f":"'10'!AL4","v":0}]
[2,{"$f":"'80'!AL5","v":0},{"$f":"'40'!AL5","v":0},{"$f":"'30'!AL5","v":0},{"$f":"'20'!AL5","v":0},{"$f":"'17'!AL5","v":0},{"$f":"'15'!AL5","v":0},{"$f":"'12'!AL5","v":0},{"$f":"'10'!AL5","v":0}]
[3,{"$f":"'80'!AL6","v":0},{"$f":"'40'!AL6","v":0},{"$f":"'30'!AL6","v":0},{"$f":"'20'!AL6","v":0},{"$f":"'17'!AL6","v":0},{"$f":"'15'!AL6","v":0},{"$f":"'12'!AL6","v":0},{"$f":"'10'!AL6","v":0}]
[4,{"$f":"'80'!AL7","v":0},{"$f":"'40'!AL7","v":0},{"$f":"'30'!AL7","v":0},{"$f":"'20'!AL7","v":0},{"$f":"'17'!AL7","v":0},{"$f":"'15'!AL7","v":0},{"$f":"'12'!AL7","v":0},{"$f":"'10'!AL7","v":0}]
[5,{"$f":"'80'!AL8","v":0},{"$f":"'40'!AL8","v":0},{"$f":"'30'!AL8","v":0},{"$f":"'20'!AL8","v":0},{"$f":"'17'!AL8","v":0},{"$f":"'15'!AL8","v":0},{"$f":"'12'!AL8","v":0},{"$f":"'10'!AL8","v":0}]
[6,{"$f":"'80'!AL9","v":0},{"$f":"'40'!AL9","v":0},{"$f":"'30'!AL9","v":0},{"$f":"'20'!AL9","v":0},{"$f":"'17'!AL9","v":0},{"$f":"'15'!AL9","v":0},{"$f":"'12'!AL9","v":0},{"$f":"'10'!AL9","v":0}]
[7,{"$f":"'80'!AL10","v":0},{"$f":"'40'!AL10","v":0},{"$f":"'30'!AL10","v":0},{"$f":"'20'!AL10","v":0},{"$f":"'17'!AL10","v":0},{"$f":"'15'!AL10","v":0},{"$f":"'12'!AL10","v":0},{"$f":"'10'!AL10","v":0}]
[8,{"$f":"'80'!AL11","v":0},{"$f":"'40'!AL11","v":0},{"$f":"'30'!AL11","v":0},{"$f":"'20'!AL11","v":0},{"$f":"'17'!AL11","v":0},{"$f":"'15'!AL11","v":0},{"$f":"'12'!AL11","v":0},{"$f":"'10'!AL11","v":0}]
[9,{"$f":"'80'!AL12","v":0},{"$f":"'40'!AL12","v":0},{"$f":"'30'!AL12","v":0},{"$f":"'20'!AL12","v":0},{"$f":"'17'!AL12","v":0},{"$f":"'15'!AL12","v":0},{"$f":"'12'!AL12","v":0},{"$f":"'10'!AL12","v":0}]
[10,{"$f":"'80'!AL13","v":0},{"$f":"'40'!AL13","v":0},{"$f":"'30'!AL13","v":0},{"$f":"'20'!AL13","v":0},{"$f":"'17'!AL13","v":0},{"$f":"'15'!AL13","v":0},{"$f":"'12'!AL13","v":0},{"$f":"'10'!AL13","v":0}]
[11,{"$f":"'80'!AL14","v":0},{"$f":"'40'!AL14","v":0},{"$f":"'30'!AL14","v":0},{"$f":"'20'!AL14","v":0},{"$f":"'17'!AL14","v":0},{"$f":"'15'!AL14","v":0},{"$f":"'12'!AL14","v":0},{"$f":"'10'!AL14","v":0}]
[12,{"$f":"'80'!AL15","v":0},{"$f":"'40'!AL15","v":0},{"$f":"'30'!AL15","v":0},{"$f":"'20'!AL15","v":0},{"$f":"'17'!AL15","v":0},{"$f":"'15'!AL15","v":0},{"$f":"'12'!AL15","v":0},{"$f":"'10'!AL15","v":0}]
[13,{"$f":"'80'!AL16","v":0},{"$f":"'40'!AL16","v":0},{"$f":"'30'!AL16","v":0},{"$f":"'20'!AL16","v":0},{"$f":"'17'!AL16","v":0},{"$f":"'15'!AL16","v":0},{"$f":"'12'!AL16","v":0},{"$f":"'10'!AL16","v":0}]
[14,{"$f":"'80'!AL17","v":0},{"$f":"'40'!AL17","v":0},{"$f":"'30'!AL17","v":0},{"$f":"'20'!AL17","v":0},{"$f":"'17'!AL17","v":0},{"$f":"'15'!AL17","v":0},{"$f":"'12'!AL17","v":0},{"$f":"'10'!AL17","v":0}]
[15,{"$f":"'80'!AL18","v":0},{"$f":"'40'!AL18","v":0},{"$f":"'30'!AL18","v":0},{"$f":"'20'!AL18","v":0},{"$f":"'17'!AL18","v":0},{"$f":"'15'!AL18","v":0},{"$f":"'12'!AL18","v":0},{"$f":"'10'!AL18","v":0}]
[16,{"$f":"'80'!AL19","v":0},{"$f":"'40'!AL19","v":0},{"$f":"'30'!AL19","v":0},{"$f":"'20'!AL19","v":0},{"$f":"'17'!AL19","v":0},{"$f":"'15'!AL19","v":0},{"$f":"'12'!AL19","v":0},{"$f":"'10'!AL19","v":0}]
[17,{"$f":"'80'!AL20","v":0},{"$f":"'40'!AL20","v":0},{"$f":"'30'!AL20","v":0},{"$f":"'20'!AL20","v":0},{"$f":"'17'!AL20","v":0},{"$f":"'15'!AL20","v":0},{"$f":"'12'!AL20","v":0},{"$f":"'10'!AL20","v":0}]
[18,{"$f":"'80'!AL21","v":0},{"$f":"'40'!AL21","v":0},{"$f":"'30'!AL21","v":0},{"$f":"'20'!AL21","v":0},{"$f":"'17'!AL21","v":0},{"$f":"'15'!AL21","v":0},{"$f":"'12'!AL21","v":0},{"$f":"'10'!AL21","v":0}]
[19,{"$f":"'80'!AL22","v":0},{"$f":"'40'!AL22","v":0},{"$f":"'30'!AL22","v":0},{"$f":"'20'!AL22","v":0},{"$f":"'17'!AL22","v":0},{"$f":"'15'!AL22","v":0},{"$f":"'12'!AL22","v":0},{"$f":"'10'!AL22","v":0}]
[20,{"$f":"'80'!AL23","v":0},{"$f":"'40'!AL23","v":0},{"$f":"'30'!AL23","v":0},{"$f":"'20'!AL23","v":0},{"$f":"'17'!AL23","v":0},{"$f":"'15'!AL23","v":0},{"$f":"'12'!AL23","v":0},{"$f":"'10'!AL23","v":0}]
[21,{"$f":"'80'!AL24","v":0},{"$f":"'40'!AL24","v":0},{"$f":"'30'!AL24","v":0},{"$f":"'20'!AL24","v":0},{"$f":"'17'!AL24","v":0},{"$f":"'15'!AL24","v":0},{"$f":"'12'!AL24","v":0},{"$f":"'10'!AL24","v":0}]
[22,{"$f":"'80'!AL25","v":0},{"$f":"'40'!AL25","v":0},{"$f":"'30'!AL25","v":0},{"$f":"'20'!AL25","v":0},{"$f":"'17'!AL25","v":0},{"$f":"'15'!AL25","v":0},{"$f":"'12'!AL25","v":0},{"$f":"'10'!AL25","v":0}]
[23,{"$f":"'80'!AL26","v":0},{"$f":"'40'!AL26","v":0},{"$f":"'30'!AL26","v":0},{"$f":"'20'!AL26","v":0},{"$f":"'17'!AL26","v":0},{"$f":"'15'!AL26","v":0},{"$f":"'12'!AL26","v":0},{"$f":"'10'!AL26","v":0}]
[24,{"$f":"'80'!AL27","v":0},{"$f":"'40'!AL27","v":0},{"$f":"'30'!AL27","v":0},{"$f":"'20'!AL27","v":0},{"$f":"'17'!AL27","v":0},{"$f":"'15'!AL27","v":0},{"$f":"'12'!AL27","v":0},{"$f":"'10'!AL27","v":0}]

{"sheet":"27 KH2","index":45,"n_rows":25,"n_cols":9,"rows_kept":25}
["UT","80M","40M","30M","20M","17M","15M","12M","10M"]
[1,{"$f":"'80'!AM4","v":0},{"$f":"'40'!AM4","v":0},{"$f":"'30'!AM4","v":0},{"$f":"'20'!AM4","v":0},{"$f":"'17'!AM4","v":0},{"$f":"'15'!AM4","v":0},{"$f":"'12'!AM4","v":0},{"$f":"'10'!AM4","v":0}]
[2,{"$f":"'80'!AM5","v":0},{"$f":"'40'!AM5","v":0},{"$f":"'30'!AM5","v":0},{"$f":"'20'!AM5","v":0},{"$f":"'17'!AM5","v":0},{"$f":"'15'!AM5","v":0},{"$f":"'12'!AM5","v":0},{"$f":"'10'!AM5","v":0}]
[3,{"$f":"'80'!AM6","v":0},{"$f":"'40'!AM6","v":0},{"$f":"'30'!AM6","v":0},{"$f":"'20'!AM6","v":0},{"$f":"'17'!AM6","v":0},{"$f":"'15'!AM6","v":0},{"$f":"'12'!AM6","v":0},{"$f":"'10'!AM6","v":0}]
[4,{"$f":"'80'!AM7","v":0},{"$f":"'40'!AM7","v":0},{"$f":"'30'!AM7","v":0},{"$f":"'20'!AM7","v":0},{"$f":"'17'!AM7","v":0},{"$f":"'15'!AM7","v":0},{"$f":"'12'!AM7","v":0},{"$f":"'10'!AM7","v":0}]
[5,{"$f":"'80'!AM8","v":0},{"$f":"'40'!AM8","v":0},{"$f":"'30'!AM8","v":0},{"$f":"'20'!AM8","v":0},{"$f":"'17'!AM8","v":0},{"$f":"'15'!AM8","v":0},{"$f":"'12'!AM8","v":0},{"$f":"'10'!AM8","v":0}]
[6,{"$f":"'80'!AM9","v":0},{"$f":"'40'!AM9","v":0},{"$f":"'30'!AM9","v":0},{"$f":"'20'!AM9","v":0},{"$f":"'17'!AM9","v":0},{"$f":"'15'!AM9","v":0},{"$f":"'12'!AM9","v":0},{"$f":"'10'!AM9","v":0}]
[7,{"$f":"'80'!AM10","v":0},{"$f":"'40'!AM10","v":0},{"$f":"'30'!AM10","v":0},{"$f":"'20'!AM10","v":0},{"$f":"'17'!AM10","v":0},{"$f":"'15'!AM10","v":0},{"$f":"'12'!AM10","v":0},{"$f":"'10'!AM10","v":0}]
[8,{"$f":"'80'!AM11","v":0},{"$f":"'40'!AM11","v":0},{"$f":"'30'!AM11","v":0},{"$f":"'20'!AM11","v":0},{"$f":"'17'!AM11","v":0},{"$f":"'15'!AM11","v":0},{"$f":"'12'!AM11","v":0},{"$f":"'10'!AM11","v":0}]
[9,{"$f":"'80'!AM12","v":0},{"$f":"'40'!AM12","v":0},{"$f":"'30'!AM12","v":0},{"$f":"'20'!AM12","v":0},{"$f":"'17'!AM12","v":0},{"$f":"'15'!AM12","v":0},{"$f":"'12'!AM12","v":0},{"$f":"'10'!AM12","v":0}]
[10,{"$f":"'80'!AM13","v":0},{"$f":"'40'!AM13","v":0},{"$f":"'30'!AM13","v":0},{"$f":"'20'!AM13","v":0},{"$f":"'17'!AM13","v":0},{"$f":"'15'!AM13","v":0},{"$f":"'12'!AM13","v":0},{"$f":"'10'!AM13","v":0}]
[11,{"$f":"'80'!AM14","v":0},{"$f":"'40'!AM14","v":0},{"$f":"'30'!AM14","v":0},{"$f":"'20'!AM14","v":0},{"$f":"'17'!AM14","v":0},{"$f":"'15'!AM14","v":0},{"$f":"'12'!AM14","v":0},{"$f":"'10'!AM14","v":0}]
[12,{"$f":"'80'!AM15","v":0},{"$f":"'40'!AM15","v":0},{"$f":"'30'!AM15","v":0},{"$f":"'20'!AM15","v":0},{"$f":"'17'!AM15","v":0},{"$f":"'15'!AM15","v":0},{"$f":"'12'!AM15","v":0},{"$f":"'10'!AM15","v":0}]
[13,{"$f":"'80'!AM16","v":0},{"$f":"'40'!AM16","v":0},{"$f":"'30'!AM16","v":0},{"$f":"'20'!AM16","v":0},{"$f":"'17'!AM16","v":0},{"$f":"'15'!AM16","v":0},{"$f":"'12'!AM16","v":0},{"$f":"'10'!AM16","v":0}]
[14,{"$f":"'80'!AM17","v":0},{"$f":"'40'!AM17","v":0},{"$f":"'30'!AM17","v":0},{"$f":"'20'!AM17","v":0},{"$f":"'17'!AM17","v":0},{"$f":"'15'!AM17","v":0},{"$f":"'12'!AM17","v":0},{"$f":"'10'!AM17","v":0}]
[15,{"$f":"'80'!AM18","v":0},{"$f":"'40'!AM18","v":0},{"$f":"'30'!AM18","v":0},{"$f":"'20'!AM18","v":0},{"$f":"'17'!AM18","v":0},{"$f":"'15'!AM18","v":0},{"$f":"'12'!AM18","v":0},{"$f":"'10'!AM18","v":0}]
[16,{"$f":"'80'!AM19","v":0},{"$f":"'40'!AM19","v":0},{"$f":"'30'!AM19","v":0},{"$f":"'20'!AM19","v":0},{"$f":"'17'!AM19","v":0},{"$f":"'15'!AM19","v":0},{"$f":"'12'!AM19","v":0},{"$f":"'10'!AM19","v":0}]
[17,{"$f":"'80'!AM20","v":0},{"$f":"'40'!AM20","v":0},{"$f":"'30'!AM20","v":0},{"$f":"'20'!AM20","v":0},{"$f":"'17'!AM20","v":0},{"$f":"'15'!AM20","v":0},{"$f":"'12'!AM20","v":0},{"$f":"'10'!AM20","v":0}]
[18,{"$f":"'80'!AM21","v":0},{"$f":"'40'!AM21","v":0},{"$f":"'30'!AM21","v":0},{"$f":"'20'!AM21","v":0},{"$f":"'17'!AM21","v":0},{"$f":"'15'!AM21","v":0},{"$f":"'12'!AM21","v":0},{"$f":"'10'!AM21","v":0}]
[19,{"$f":"'80'!AM22","v":0},{"$f":"'40'!AM22","v":0},{"$f":"'30'!AM22","v":0},{"$f":"'20'!AM22","v":0},{"$f":"'17'!AM22","v":0},{"$f":"'15'!AM22","v":0},{"$f":"'12'!AM22","v":0},{"$f":"'10'!AM22","v":0}]
[20,{"$f":"'80'!AM23","v":0},{"$f":"'40'!AM23","v":0},{"$f":"'30'!AM23","v":0},{"$f":"'20'!AM23","v":0},{"$f":"'17'!AM23","v":0},{"$f":"'15'!AM23","v":0},{"$f":"'12'!AM23","v":0},{"$f":"'10'!AM23","v":0}]
[21,{"$f":"'80'!AM24","v":0},{"$f":"'40'!AM24","v":0},{"$f":"'30'!AM24","v":0},{"$f":"'20'!AM24","v":0},{"$f":"'17'!AM24","v":0},{"$f":"'15'!AM24","v":0},{"$f":"'12'!AM24","v":0},{"$f":"'10'!AM24","v":0}]
[22,{"$f":"'80'!AM25","v":0},{"$f":"'40'!AM25","v":0},{"$f":"'30'!AM25","v":0},{"$f":"'20'!AM25","v":0},{"$f":"'17'!AM25","v":0},{"$f":"'15'!AM25","v":0},{"$f":"'12'!AM25","v":0},{"$f":"'10'!AM25","v":0}]
[23,{"$f":"'80'!AM26","v":0},{"$f":"'40'!AM26","v":0},{"$f":"'30'!AM26","v":0},{"$f":"'20'!AM26","v":0},{"$f":"'17'!AM26","v":0},{"$f":"'15'!AM26","v":0},{"$f":"'12'!AM26","v":0},{"$f":"'10'!AM26","v":0}]
[24,{"$f":"'80'!AM27","v":0},{"$f":"'40'!AM27","v":0},{"$f":"'30'!AM27","v":0},{"$f":"'20'!AM27","v":0},{"$f":"'17'!AM27","v":0},{"$f":"'15'!AM27","v":0},{"$f":"'12'!AM27","v":0},{"$f":"'10'!AM27","v":0}]

{"sheet":"28 YB","index":46,"n_rows":25,"n_cols":9,"rows_kept":25}
["UT","80M","40M","30M","20M","17M","15M","12M","10M"]
[1,{"$f":"'80'!AN4","v":0},{"$f":"'40'!AN4","v":0},{"$f":"'30'!AN4","v":0},{"$f":"'20'!AN4","v":0},{"$f":"'17'!AN4","v":0},{"$f":"'15'!AN4","v":0},{"$f":"'12'!AN4","v":0},{"$f":"'10'!AN4","v":0}]
[2,{"$f":"'80'!AN5","v":0},{"$f":"'40'!AN5","v":0},{"$f":"'30'!AN5","v":0},{"$f":"'20'!AN5","v":0},{"$f":"'17'!AN5","v":0},{"$f":"'15'!AN5","v":0},{"$f":"'12'!AN5","v":0},{"$f":"'10'!AN5","v":0}]
[3,{"$f":"'80'!AN6","v":0},{"$f":"'40'!AN6","v":0},{"$f":"'30'!AN6","v":0},{"$f":"'20'!AN6","v":0},{"$f":"'17'!AN6","v":0},{"$f":"'15'!AN6","v":0},{"$f":"'12'!AN6","v":0},{"$f":"'10'!AN6","v":0}]
[4,{"$f":"'80'!AN7","v":0},{"$f":"'40'!AN7","v":0},{"$f":"'30'!AN7","v":0},{"$f":"'20'!AN7","v":0},{"$f":"'17'!AN7","v":0},{"$f":"'15'!AN7","v":0},{"$f":"'12'!AN7","v":0},{"$f":"'10'!AN7","v":0}]
[5,{"$f":"'80'!AN8","v":0},{"$f":"'40'!AN8","v":0},{"$f":"'30'!AN8","v":0},{"$f":"'20'!AN8","v":0},{"$f":"'17'!AN8","v":0},{"$f":"'15'!AN8","v":0},{"$f":"'12'!AN8","v":0},{"$f":"'10'!AN8","v":0}]
[6,{"$f":"'80'!AN9","v":0},{"$f":"'40'!AN9","v":0},{"$f":"'30'!AN9","v":0},{"$f":"'20'!AN9","v":0},{"$f":"'17'!AN9","v":0},{"$f":"'15'!AN9","v":0},{"$f":"'12'!AN9","v":0},{"$f":"'10'!AN9","v":0}]
[7,{"$f":"'80'!AN10","v":0},{"$f":"'40'!AN10","v":0},{"$f":"'30'!AN10","v":0},{"$f":"'20'!AN10","v":0},{"$f":"'17'!AN10","v":0},{"$f":"'15'!AN10","v":0},{"$f":"'12'!AN10","v":0},{"$f":"'10'!AN10","v":0}]
[8,{"$f":"'80'!AN11","v":0},{"$f":"'40'!AN11","v":0},{"$f":"'30'!AN11","v":0},{"$f":"'20'!AN11","v":0},{"$f":"'17'!AN11","v":0},{"$f":"'15'!AN11","v":0},{"$f":"'12'!AN11","v":0},{"$f":"'10'!AN11","v":0}]
[9,{"$f":"'80'!AN12","v":0},{"$f":"'40'!AN12","v":0},{"$f":"'30'!AN12","v":0},{"$f":"'20'!AN12","v":0},{"$f":"'17'!AN12","v":0},{"$f":"'15'!AN12","v":0},{"$f":"'12'!AN12","v":0},{"$f":"'10'!AN12","v":0}]
[10,{"$f":"'80'!AN13","v":0},{"$f":"'40'!AN13","v":0},{"$f":"'30'!AN13","v":0},{"$f":"'20'!AN13","v":0},{"$f":"'17'!AN13","v":0},{"$f":"'15'!AN13","v":0},{"$f":"'12'!AN13","v":0},{"$f":"'10'!AN13","v":0}]
[11,{"$f":"'80'!AN14","v":0},{"$f":"'40'!AN14","v":0},{"$f":"'30'!AN14","v":0},{"$f":"'20'!AN14","v":0},{"$f":"'17'!AN14","v":0},{"$f":"'15'!AN14","v":0},{"$f":"'12'!AN14","v":0},{"$f":"'10'!AN14","v":0}]
[12,{"$f":"'80'!AN15","v":0},{"$f":"'40'!AN15","v":0},{"$f":"'30'!AN15","v":0},{"$f":"'20'!AN15","v":0},{"$f":"'17'!AN15","v":0},{"$f":"'15'!AN15","v":0},{"$f":"'12'!AN15","v":0},{"$f":"'10'!AN15","v":0}]
[13,{"$f":"'80'!AN16","v":0},{"$f":"'40'!AN16","v":0},{"$f":"'30'!AN16","v":0},{"$f":"'20'!AN16","v":0},{"$f":"'17'!AN16","v":0},{"$f":"'15'!AN16","v":0},{"$f":"'12'!AN16","v":0},{"$f":"'10'!AN16","v":0}]
[14,{"$f":"'80'!AN17","v":0},{"$f":"'40'!AN17","v":0},{"$f":"'30'!AN17","v":0},{"$f":"'20'!AN17","v":0},{"$f":"'17'!AN17","v":0},{"$f":"'15'!AN17","v":0},{"$f":"'12'!AN17","v":0},{"$f":"'10'!AN17","v":0}]
[15,{"$f":"'80'!AN18","v":0},{"$f":"'40'!AN18","v":0},{"$f":"'30'!AN18","v":0},{"$f":"'20'!AN18","v":0},{"$f":"'17'!AN18","v":0},{"$f":"'15'!AN18","v":0},{"$f":"'12'!AN18","v":0},{"$f":"'10'!AN18","v":0}]
[16,{"$f":"'80'!AN19","v":0},{"$f":"'40'!AN19","v":0},{"$f":"'30'!AN19","v":0},{"$f":"'20'!AN19","v":0},{"$f":"'17'!AN19","v":0},{"$f":"'15'!AN19","v":0},{"$f":"'12'!AN19","v":0},{"$f":"'10'!AN19","v":0}]
[17,{"$f":"'80'!AN20","v":0},{"$f":"'40'!AN20","v":0},{"$f":"'30'!AN20","v":0},{"$f":"'20'!AN20","v":0},{"$f":"'17'!AN20","v":0},{"$f":"'15'!AN20","v":0},{"$f":"'12'!AN20","v":0},{"$f":"'10'!AN20","v":0}]
[18,{"$f":"'80'!AN21","v":0},{"$f":"'40'!AN21","v":0},{"$f":"'30'!AN21","v":0},{"$f":"'20'!AN21","v":0},{"$f":"'17'!AN21","v":0},{"$f":"'15'!AN21","v":0},{"$f":"'12'!AN21","v":0},{"$f":"'10'!AN21","v":0}]
[19,{"$f":"'80'!AN22","v":0},{"$f":"'40'!AN22","v":0},{"$f":"'30'!AN22","v":0},{"$f":"'20'!AN22","v":0},{"$f":"'17'!AN22","v":0},{"$f":"'15'!AN22","v":0},{"$f":"'12'!AN22","v":0},{"$f":"'10'!AN22","v":0}]
[20,{"$f":"'80'!AN23","v":0},{"$f":"'40'!AN23","v":0},{"$f":"'30'!AN23","v":0},{"$f":"'20'!AN23","v":0},{"$f":"'17'!AN23","v":0},{"$f":"'15'!AN23","v":0},{"$f":"'12'!AN23","v":0},{"$f":"'10'!AN23","v":0}]
[21,{"$f":"'80'!AN24","v":0},{"$f":"'40'!AN24","v":0},{"$f":"'30'!AN24","v":0},{"$f":"'20'!AN24","v":0},{"$f":"'17'!AN24","v":0},{"$f":"'15'!AN24","v":0},{"$f":"'12'!AN24","v":0},{"$f":"'10'!AN24","v":0}]
[22,{"$f":"'80'!AN25","v":0},{"$f":"'40'!AN25","v":0},{"$f":"'30'!AN25","v":0},{"$f":"'20'!AN25","v":0},{"$f":"'17'!AN25","v":0},{"$f":"'15'!AN25","v":0},{"$f":"'12'!AN25","v":0},{"$f":"'10'!AN25","v":0}]
[23,{"$f":"'80'!AN26","v":0},{"$f":"'40'!AN26","v":0},{"$f":"'30'!AN26","v":0},{"$f":"'20'!AN26","v":0},{"$f":"'17'!AN26","v":0},{"$f":"'15'!AN26","v":0},{"$f":"'12'!AN26","v":0},{"$f":"'10'!AN26","v":0}]
[24,{"$f":"'80'!AN27","v":0},{"$f":"'40'!AN27","v":0},{"$f":"'30'!AN27","v":0},{"$f":"'20'!AN27","v":0},{"$f":"'17'!AN27","v":0},{"$f":"'15'!AN27","v":0},{"$f":"'12'!AN27","v":0},{"$f":"'10'!AN27","v":0}]

{"sheet":"29 VK6","index":47,"n_rows":25,"n_cols":9,"rows_kept":25}
["UT","80M","40M","30M","20M","17M","15M","12M","10M"]
[1,{"$f":"'80'!AO4","v":0},{"$f":"'40'!AO4","v":0},{"$f":"'30'!AO4","v":0},{"$f":"'20'!AO4","v":0},{"$f":"'17'!AO4","v":0},{"$f":"'15'!AO4","v":0},{"$f":"'12'!AO4","v":0},{"$f":"'10'!AO4","v":0}]
[2,{"$f":"'80'!AO5","v":0},{"$f":"'40'!AO5","v":0},{"$f":"'30'!AO5","v":0},{"$f":"'20'!AO5","v":0},{"$f":"'17'!AO5","v":0},{"$f":"'15'!AO5","v":0},{"$f":"'12'!AO5","v":0},{"$f":"'10'!AO5","v":0}]
[3,{"$f":"'80'!AO6","v":0},{"$f":"'40'!AO6","v":0},{"$f":"'30'!AO6","v":0},{"$f":"'20'!AO6","v":0},{"$f":"'17'!AO6","v":0},{"$f":"'15'!AO6","v":0},{"$f":"'12'!AO6","v":0},{"$f":"'10'!AO6","v":0}]
[4,{"$f":"'80'!AO7","v":0},{"$f":"'40'!AO7","v":0},{"$f":"'30'!AO7","v":0},{"$f":"'20'!AO7","v":0},{"$f":"'17'!AO7","v":0},{"$f":"'15'!AO7","v":0},{"$f":"'12'!AO7","v":0},{"$f":"'10'!AO7","v":0}]
[5,{"$f":"'80'!AO8","v":0},{"$f":"'40'!AO8","v":0},{"$f":"'30'!AO8","v":0},{"$f":"'20'!AO8","v":0},{"$f":"'17'!AO8","v":0},{"$f":"'15'!AO8","v":0},{"$f":"'12'!AO8","v":0},{"$f":"'10'!AO8","v":0}]
[6,{"$f":"'80'!AO9","v":0},{"$f":"'40'!AO9","v":0},{"$f":"'30'!AO9","v":0},{"$f":"'20'!AO9","v":0},{"$f":"'17'!AO9","v":0},{"$f":"'15'!AO9","v":0},{"$f":"'12'!AO9","v":0},{"$f":"'10'!AO9","v":0}]
[7,{"$f":"'80'!AO10","v":0},{"$f":"'40'!AO10","v":0},{"$f":"'30'!AO10","v":0},{"$f":"'20'!AO10","v":0},{"$f":"'17'!AO10","v":0},{"$f":"'15'!AO10","v":0},{"$f":"'12'!AO10","v":0},{"$f":"'10'!AO10","v":0}]
[8,{"$f":"'80'!AO11","v":0},{"$f":"'40'!AO11","v":0},{"$f":"'30'!AO11","v":0},{"$f":"'20'!AO11","v":0},{"$f":"'17'!AO11","v":0},{"$f":"'15'!AO11","v":0},{"$f":"'12'!AO11","v":0},{"$f":"'10'!AO11","v":0}]
[9,{"$f":"'80'!AO12","v":0},{"$f":"'40'!AO12","v":0},{"$f":"'30'!AO12","v":0},{"$f":"'20'!AO12","v":0},{"$f":"'17'!AO12","v":0},{"$f":"'15'!AO12","v":0},{"$f":"'12'!AO12","v":0},{"$f":"'10'!AO12","v":0}]
[10,{"$f":"'80'!AO13","v":0},{"$f":"'40'!AO13","v":0},{"$f":"'30'!AO13","v":0},{"$f":"'20'!AO13","v":0},{"$f":"'17'!AO13","v":0},{"$f":"'15'!AO13","v":0},{"$f":"'12'!AO13","v":0},{"$f":"'10'!AO13","v":0}]
[11,{"$f":"'80'!AO14","v":0},{"$f":"'40'!AO14","v":0},{"$f":"'30'!AO14","v":0},{"$f":"'20'!AO14","v":0},{"$f":"'17'!AO14","v":0},{"$f":"'15'!AO14","v":0},{"$f":"'12'!AO14","v":0},{"$f":"'10'!AO14","v":0}]
[12,{"$f":"'80'!AO15","v":0},{"$f":"'40'!AO15","v":0},{"$f":"'30'!AO15","v":0},{"$f":"'20'!AO15","v":0},{"$f":"'17'!AO15","v":0},{"$f":"'15'!AO15","v":0},{"$f":"'12'!AO15","v":0},{"$f":"'10'!AO15","v":0}]
[13,{"$f":"'80'!AO16","v":0},{"$f":"'40'!AO16","v":0},{"$f":"'30'!AO16","v":0},{"$f":"'20'!AO16","v":0},{"$f":"'17'!AO16","v":0},{"$f":"'15'!AO16","v":0},{"$f":"'12'!AO16","v":0},{"$f":"'10'!AO16","v":0}]
[14,{"$f":"'80'!AO17","v":0},{"$f":"'40'!AO17","v":0},{"$f":"'30'!AO17","v":0},{"$f":"'20'!AO17","v":0},{"$f":"'17'!AO17","v":0},{"$f":"'15'!AO17","v":0},{"$f":"'12'!AO17","v":0},{"$f":"'10'!AO17","v":0}]
[15,{"$f":"'80'!AO18","v":0},{"$f":"'40'!AO18","v":0},{"$f":"'30'!AO18","v":0},{"$f":"'20'!AO18","v":0},{"$f":"'17'!AO18","v":0},{"$f":"'15'!AO18","v":0},{"$f":"'12'!AO18","v":0},{"$f":"'10'!AO18","v":0}]
[16,{"$f":"'80'!AO19","v":0},{"$f":"'40'!AO19","v":0},{"$f":"'30'!AO19","v":0},{"$f":"'20'!AO19","v":0},{"$f":"'17'!AO19","v":0},{"$f":"'15'!AO19","v":0},{"$f":"'12'!AO19","v":0},{"$f":"'10'!AO19","v":0}]
[17,{"$f":"'80'!AO20","v":0},{"$f":"'40'!AO20","v":0},{"$f":"'30'!AO20","v":0},{"$f":"'20'!AO20","v":0},{"$f":"'17'!AO20","v":0},{"$f":"'15'!AO20","v":0},{"$f":"'12'!AO20","v":0},{"$f":"'10'!AO20","v":0}]
[18,{"$f":"'80'!AO21","v":0},{"$f":"'40'!AO21","v":0},{"$f":"'30'!AO21","v":0},{"$f":"'20'!AO21","v":0},{"$f":"'17'!AO21","v":0},{"$f":"'15'!AO21","v":0},{"$f":"'12'!AO21","v":0},{"$f":"'10'!AO21","v":0}]
[19,{"$f":"'80'!AO22","v":0},{"$f":"'40'!AO22","v":0},{"$f":"'30'!AO22","v":0},{"$f":"'20'!AO22","v":0},{"$f":"'17'!AO22","v":0},{"$f":"'15'!AO22","v":0},{"$f":"'12'!AO22","v":0},{"$f":"'10'!AO22","v":0}]
[20,{"$f":"'80'!AO23","v":0},{"$f":"'40'!AO23","v":0},{"$f":"'30'!AO23","v":0},{"$f":"'20'!AO23","v":0},{"$f":"'17'!AO23","v":0},{"$f":"'15'!AO23","v":0},{"$f":"'12'!AO23","v":0},{"$f":"'10'!AO23","v":0}]
[21,{"$f":"'80'!AO24","v":0},{"$f":"'40'!AO24","v":0},{"$f":"'30'!AO24","v":0},{"$f":"'20'!AO24","v":0},{"$f":"'17'!AO24","v":0},{"$f":"'15'!AO24","v":0},{"$f":"'12'!AO24","v":0},{"$f":"'10'!AO24","v":0}]
[22,{"$f":"'80'!AO25","v":0},{"$f":"'40'!AO25","v":0},{"$f":"'30'!AO25","v":0},{"$f":"'20'!AO25","v":0},{"$f":"'17'!AO25","v":0},{"$f":"'15'!AO25","v":0},{"$f":"'12'!AO25","v":0},{"$f":"'10'!AO25","v":0}]
[23,{"$f":"'80'!AO26","v":0},{"$f":"'40'!AO26","v":0},{"$f":"'30'!AO26","v":0},{"$f":"'20'!AO26","v":0},{"$f":"'17'!AO26","v":0},{"$f":"'15'!AO26","v":0},{"$f":"'12'!AO26","v":0},{"$f":"'10'!AO26","v":0}]
[24,{"$f":"'80'!AO27","v":0},{"$f":"'40'!AO27","v":0},{"$f":"'30'!AO27","v":0},{"$f":"'20'!AO27","v":0},{"$f":"'17'!AO27","v":0},{"$f":"'15'!AO27","v":0},{"$f":"'12'!AO27","v":0},{"$f":"'10'!AO27","v":0}]

{"sheet":"30 VK3","index":48,"n_rows":25,"n_cols":9,"rows_kept":25}
["UT","80M","40M","30M","20M","17M","15M","12M","10M"]
[1,{"$f":"'80'!AP4","v":0},{"$f":"'40'!AP4","v":0},{"$f":"'30'!AP4","v":0},{"$f":"'20'!AP4","v":0},{"$f":"'17'!AP4","v":0},{"$f":"'15'!AP4","v":0},{"$f":"'12'!AP4","v":0},{"$f":"'10'!AP4","v":0}]
[2,{"$f":"'80'!AP5","v":0},{"$f":"'40'!AP5","v":0},{"$f":"'30'!AP5","v":0},{"$f":"'20'!AP5","v":0},{"$f":"'17'!AP5","v":0},{"$f":"'15'!AP5","v":0},{"$f":"'12'!AP5","v":0},{"$f":"'10'!AP5","v":0}]
[3,{"$f":"'80'!AP6","v":0},{"$f":"'40'!AP6","v":0},{"$f":"'30'!AP6","v":0},{"$f":"'20'!AP6","v":0},{"$f":"'17'!AP6","v":0},{"$f":"'15'!AP6","v":0},{"$f":"'12'!AP6","v":0},{"$f":"'10'!AP6","v":0}]
[4,{"$f":"'80'!AP7","v":0},{"$f":"'40'!AP7","v":0},{"$f":"'30'!AP7","v":0},{"$f":"'20'!AP7","v":0},{"$f":"'17'!AP7","v":0},{"$f":"'15'!AP7","v":0},{"$f":"'12'!AP7","v":0},{"$f":"'10'!AP7","v":0}]
[5,{"$f":"'80'!AP8","v":0},{"$f":"'40'!AP8","v":0},{"$f":"'30'!AP8","v":0},{"$f":"'20'!AP8","v":0},{"$f":"'17'!AP8","v":0},{"$f":"'15'!AP8","v":0},{"$f":"'12'!AP8","v":0},{"$f":"'10'!AP8","v":0}]
[6,{"$f":"'80'!AP9","v":0},{"$f":"'40'!AP9","v":0},{"$f":"'30'!AP9","v":0},{"$f":"'20'!AP9","v":0},{"$f":"'17'!AP9","v":0},{"$f":"'15'!AP9","v":0},{"$f":"'12'!AP9","v":0},{"$f":"'10'!AP9","v":0}]
[7,{"$f":"'80'!AP10","v":0},{"$f":"'40'!AP10","v":0},{"$f":"'30'!AP10","v":0},{"$f":"'20'!AP10","v":0},{"$f":"'17'!AP10","v":0},{"$f":"'15'!AP10","v":0},{"$f":"'12'!AP10","v":0},{"$f":"'10'!AP10","v":0}]
[8,{"$f":"'80'!AP11","v":0},{"$f":"'40'!AP11","v":0},{"$f":"'30'!AP11","v":0},{"$f":"'20'!AP11","v":0},{"$f":"'17'!AP11","v":0},{"$f":"'15'!AP11","v":0},{"$f":"'12'!AP11","v":0},{"$f":"'10'!AP11","v":0}]
[9,{"$f":"'80'!AP12","v":0},{"$f":"'40'!AP12","v":0},{"$f":"'30'!AP12","v":0},{"$f":"'20'!AP12","v":0},{"$f":"'17'!AP12","v":0},{"$f":"'15'!AP12","v":0},{"$f":"'12'!AP12","v":0},{"$f":"'10'!AP12","v":0}]
[10,{"$f":"'80'!AP13","v":0},{"$f":"'40'!AP13","v":0},{"$f":"'30'!AP13","v":0},{"$f":"'20'!AP13","v":0},{"$f":"'17'!AP13","v":0},{"$f":"'15'!AP13","v":0},{"$f":"'12'!AP13","v":0},{"$f":"'10'!AP13","v":0}]
[11,{"$f":"'80'!AP14","v":0},{"$f":"'40'!AP14","v":0},{"$f":"'30'!AP14","v":0},{"$f":"'20'!AP14","v":0},{"$f":"'17'!AP14","v":0},{"$f":"'15'!AP14","v":0},{"$f":"'12'!AP14","v":0},{"$f":"'10'!AP14","v":0}]
[12,{"$f":"'80'!AP15","v":0},{"$f":"'40'!AP15","v":0},{"$f":"'30'!AP15","v":0},{"$f":"'20'!AP15","v":0},{"$f":"'17'!AP15","v":0},{"$f":"'15'!AP15","v":0},{"$f":"'12'!AP15","v":0},{"$f":"'10'!AP15","v":0}]
[13,{"$f":"'80'!AP16","v":0},{"$f":"'40'!AP16","v":0},{"$f":"'30'!AP16","v":0},{"$f":"'20'!AP16","v":0},{"$f":"'17'!AP16","v":0},{"$f":"'15'!AP16","v":0},{"$f":"'12'!AP16","v":0},{"$f":"'10'!AP16","v":0}]
[14,{"$f":"'80'!AP17","v":0},{"$f":"'40'!AP17","v":0},{"$f":"'30'!AP17","v":0},{"$f":"'20'!AP17","v":0},{"$f":"'17'!AP17","v":0},{"$f":"'15'!AP17","v":0},{"$f":"'12'!AP17","v":0},{"$f":"'10'!AP17","v":0}]
[15,{"$f":"'80'!AP18","v":0},{"$f":"'40'!AP18","v":0},{"$f":"'30'!AP18","v":0},{"$f":"'20'!AP18","v":0},{"$f":"'17'!AP18","v":0},{"$f":"'15'!AP18","v":0},{"$f":"'12'!AP18","v":0},{"$f":"'10'!AP18","v":0}]
[16,{"$f":"'80'!AP19","v":0},{"$f":"'40'!AP19","v":0},{"$f":"'30'!AP19","v":0},{"$f":"'20'!AP19","v":0},{"$f":"'17'!AP19","v":0},{"$f":"'15'!AP19","v":0},{"$f":"'12'!AP19","v":0},{"$f":"'10'!AP19","v":0}]
[17,{"$f":"'80'!AP20","v":0},{"$f":"'40'!AP20","v":0},{"$f":"'30'!AP20","v":0},{"$f":"'20'!AP20","v":0},{"$f":"'17'!AP20","v":0},{"$f":"'15'!AP20","v":0},{"$f":"'12'!AP20","v":0},{"$f":"'10'!AP20","v":0}]
[18,{"$f":"'80'!AP21","v":0},{"$f":"'40'!AP21","v":0},{"$f":"'30'!AP21","v":0},{"$f":"'20'!AP21","v":0},{"$f":"'17'!AP21","v":0},{"$f":"'15'!AP21","v":0},{"$f":"'12'!AP21","v":0},{"$f":"'10'!AP21","v":0}]
[19,{"$f":"'80'!AP22","v":0},{"$f":"'40'!AP22","v":0},{"$f":"'30'!AP22","v":0},{"$f":"'20'!AP22","v":0},{"$f":"'17'!AP22","v":0},{"$f":"'15'!AP22","v":0},{"$f":"'12'!AP22","v":0},{"$f":"'10'!AP22","v":0}]
[20,{"$f":"'80'!AP23","v":0},{"$f":"'40'!AP23","v":0},{"$f":"'30'!AP23","v":0},{"$f":"'20'!AP23","v":0},{"$f":"'17'!AP23","v":0},{"$f":"'15'!AP23","v":0},{"$f":"'12'!AP23","v":0},{"$f":"'10'!AP23","v":0}]
[21,{"$f":"'80'!AP24","v":0},{"$f":"'40'!AP24","v":0},{"$f":"'30'!AP24","v":0},{"$f":"'20'!AP24","v":0},{"$f":"'17'!AP24","v":0},{"$f":"'15'!AP24","v":0},{"$f":"'12'!AP24","v":0},{"$f":"'10'!AP24","v":0}]
[22,{"$f":"'80'!AP25","v":0},{"$f":"'40'!AP25","v":0},{"$f":"'30'!AP25","v":0},{"$f":"'20'!AP25","v":0},{"$f":"'17'!AP25","v":0},{"$f":"'15'!AP25","v":0},{"$f":"'12'!AP25","v":0},{"$f":"'10'!AP25","v":0}]
[23,{"$f":"'80'!AP26","v":0},{"$f":"'40'!AP26","v":0},{"$f":"'30'!AP26","v":0},{"$f":"'20'!AP26","v":0},{"$f":"'17'!AP26","v":0},{"$f":"'15'!AP26","v":0},{"$f":"'12'!AP26","v":0},{"$f":"'10'!AP26","v":0}]
[24,{"$f":"'80'!AP27","v":0},{"$f":"'40'!AP27","v":0},{"$f":"'30'!AP27","v":0},{"$f":"'20'!AP27","v":0},{"$f":"'17'!AP27","v":0},{"$f":"'15'!AP27","v":0},{"$f":"'12'!AP27","v":0},{"$f":"'10'!AP27","v":0}]

{"sheet":"31 KH6","index":49,"n_rows":25,"n_cols":9,"rows_kept":25}
["UT","80M","40M","30M","20M","17M","15M","12M","10M"]
[1,{"$f":"'80'!AQ4","v":0},{"$f":"'40'!AQ4","v":0},{"$f":"'30'!AQ4","v":0},{"$f":"'20'!AQ4","v":0},{"$f":"'17'!AQ4","v":0},{"$f":"'15'!AQ4","v":0},{"$f":"'12'!AQ4","v":0},{"$f":"'10'!AQ4","v":0}]
[2,{"$f":"'80'!AQ5","v":0},{"$f":"'40'!AQ5","v":0},{"$f":"'30'!AQ5","v":0},{"$f":"'20'!AQ5","v":0},{"$f":"'17'!AQ5","v":0},{"$f":"'15'!AQ5","v":0},{"$f":"'12'!AQ5","v":0},{"$f":"'10'!AQ5","v":0}]
[3,{"$f":"'80'!AQ6","v":0},{"$f":"'40'!AQ6","v":0},{"$f":"'30'!AQ6","v":0},{"$f":"'20'!AQ6","v":0},{"$f":"'17'!AQ6","v":0},{"$f":"'15'!AQ6","v":0},{"$f":"'12'!AQ6","v":0},{"$f":"'10'!AQ6","v":0}]
[4,{"$f":"'80'!AQ7","v":0},{"$f":"'40'!AQ7","v":0},{"$f":"'30'!AQ7","v":0},{"$f":"'20'!AQ7","v":0},{"$f":"'17'!AQ7","v":0},{"$f":"'15'!AQ7","v":0},{"$f":"'12'!AQ7","v":0},{"$f":"'10'!AQ7","v":0}]
[5,{"$f":"'80'!AQ8","v":0},{"$f":"'40'!AQ8","v":0},{"$f":"'30'!AQ8","v":0},{"$f":"'20'!AQ8","v":0},{"$f":"'17'!AQ8","v":0},{"$f":"'15'!AQ8","v":0},{"$f":"'12'!AQ8","v":0},{"$f":"'10'!AQ8","v":0}]
[6,{"$f":"'80'!AQ9","v":0},{"$f":"'40'!AQ9","v":0},{"$f":"'30'!AQ9","v":0},{"$f":"'20'!AQ9","v":0},{"$f":"'17'!AQ9","v":0},{"$f":"'15'!AQ9","v":0},{"$f":"'12'!AQ9","v":0},{"$f":"'10'!AQ9","v":0}]
[7,{"$f":"'80'!AQ10","v":0},{"$f":"'40'!AQ10","v":0},{"$f":"'30'!AQ10","v":0},{"$f":"'20'!AQ10","v":0},{"$f":"'17'!AQ10","v":0},{"$f":"'15'!AQ10","v":0},{"$f":"'12'!AQ10","v":0},{"$f":"'10'!AQ10","v":0}]
[8,{"$f":"'80'!AQ11","v":0},{"$f":"'40'!AQ11","v":0},{"$f":"'30'!AQ11","v":0},{"$f":"'20'!AQ11","v":0},{"$f":"'17'!AQ11","v":0},{"$f":"'15'!AQ11","v":0},{"$f":"'12'!AQ11","v":0},{"$f":"'10'!AQ11","v":0}]
[9,{"$f":"'80'!AQ12","v":0},{"$f":"'40'!AQ12","v":0},{"$f":"'30'!AQ12","v":0},{"$f":"'20'!AQ12","v":0},{"$f":"'17'!AQ12","v":0},{"$f":"'15'!AQ12","v":0},{"$f":"'12'!AQ12","v":0},{"$f":"'10'!AQ12","v":0}]
[10,{"$f":"'80'!AQ13","v":0},{"$f":"'40'!AQ13","v":0},{"$f":"'30'!AQ13","v":0},{"$f":"'20'!AQ13","v":0},{"$f":"'17'!AQ13","v":0},{"$f":"'15'!AQ13","v":0},{"$f":"'12'!AQ13","v":0},{"$f":"'10'!AQ13","v":0}]
[11,{"$f":"'80'!AQ14","v":0},{"$f":"'40'!AQ14","v":0},{"$f":"'30'!AQ14","v":0},{"$f":"'20'!AQ14","v":0},{"$f":"'17'!AQ14","v":0},{"$f":"'15'!AQ14","v":0},{"$f":"'12'!AQ14","v":0},{"$f":"'10'!AQ14","v":0}]
[12,{"$f":"'80'!AQ15","v":0},{"$f":"'40'!AQ15","v":0},{"$f":"'30'!AQ15","v":0},{"$f":"'20'!AQ15","v":0},{"$f":"'17'!AQ15","v":0},{"$f":"'15'!AQ15","v":0},{"$f":"'12'!AQ15","v":0},{"$f":"'10'!AQ15","v":0}]
[13,{"$f":"'80'!AQ16","v":0},{"$f":"'40'!AQ16","v":0},{"$f":"'30'!AQ16","v":0},{"$f":"'20'!AQ16","v":0},{"$f":"'17'!AQ16","v":0},{"$f":"'15'!AQ16","v":0},{"$f":"'12'!AQ16","v":0},{"$f":"'10'!AQ16","v":0}]
[14,{"$f":"'80'!AQ17","v":0},{"$f":"'40'!AQ17","v":0},{"$f":"'30'!AQ17","v":0},{"$f":"'20'!AQ17","v":0},{"$f":"'17'!AQ17","v":0},{"$f":"'15'!AQ17","v":0},{"$f":"'12'!AQ17","v":0},{"$f":"'10'!AQ17","v":0}]
[15,{"$f":"'80'!AQ18","v":0},{"$f":"'40'!AQ18","v":0},{"$f":"'30'!AQ18","v":0},{"$f":"'20'!AQ18","v":0},{"$f":"'17'!AQ18","v":0},{"$f":"'15'!AQ18","v":0},{"$f":"'12'!AQ18","v":0},{"$f":"'10'!AQ18","v":0}]
[16,{"$f":"'80'!AQ19","v":0},{"$f":"'40'!AQ19","v":0},{"$f":"'30'!AQ19","v":0},{"$f":"'20'!AQ19","v":0},{"$f":"'17'!AQ19","v":0},{"$f":"'15'!AQ19","v":0},{"$f":"'12'!AQ19","v":0},{"$f":"'10'!AQ19","v":0}]
[17,{"$f":"'80'!AQ20","v":0},{"$f":"'40'!AQ20","v":0},{"$f":"'30'!AQ20","v":0},{"$f":"'20'!AQ20","v":0},{"$f":"'17'!AQ20","v":0},{"$f":"'15'!AQ20","v":0},{"$f":"'12'!AQ20","v":0},{"$f":"'10'!AQ20","v":0}]
[18,{"$f":"'80'!AQ21","v":0},{"$f":"'40'!AQ21","v":0},{"$f":"'30'!AQ21","v":0},{"$f":"'20'!AQ21","v":0},{"$f":"'17'!AQ21","v":0},{"$f":"'15'!AQ21","v":0},{"$f":"'12'!AQ21","v":0},{"$f":"'10'!AQ21","v":0}]
[19,{"$f":"'80'!AQ22","v":0},{"$f":"'40'!AQ22","v":0},{"$f":"'30'!AQ22","v":0},{"$f":"'20'!AQ22","v":0},{"$f":"'17'!AQ22","v":0},{"$f":"'15'!AQ22","v":0},{"$f":"'12'!AQ22","v":0},{"$f":"'10'!AQ22","v":0}]
[20,{"$f":"'80'!AQ23","v":0},{"$f":"'40'!AQ23","v":0},{"$f":"'30'!AQ23","v":0},{"$f":"'20'!AQ23","v":0},{"$f":"'17'!AQ23","v":0},{"$f":"'15'!AQ23","v":0},{"$f":"'12'!AQ23","v":0},{"$f":"'10'!AQ23","v":0}]
[21,{"$f":"'80'!AQ24","v":0},{"$f":"'40'!AQ24","v":0},{"$f":"'30'!AQ24","v":0},{"$f":"'20'!AQ24","v":0},{"$f":"'17'!AQ24","v":0},{"$f":"'15'!AQ24","v":0},{"$f":"'12'!AQ24","v":0},{"$f":"'10'!AQ24","v":0}]
[22,{"$f":"'80'!AQ25","v":0},{"$f":"'40'!AQ25","v":0},{"$f":"'30'!AQ25","v":0},{"$f":"'20'!AQ25","v":0},{"$f":"'17'!AQ25","v":0},{"$f":"'15'!AQ25","v":0},{"$f":"'12'!AQ25","v":0},{"$f":"'10'!AQ25","v":0}]
[23,{"$f":"'80'!AQ26","v":0},{"$f":"'40'!AQ26","v":0},{"$f":"'30'!AQ26","v":0},{"$f":"'20'!AQ26","v":0},{"$f":"'17'!AQ26","v":0},{"$f":"'15'!AQ26","v":0},{"$f":"'12'!AQ26","v":0},{"$f":"'10'!AQ26","v":0}]
[24,{"$f":"'80'!AQ27","v":0},{"$f":"'40'!AQ27","v":0},{"$f":"'30'!AQ27","v":0},{"$f":"'20'!AQ27","v":0},{"$f":"'17'!AQ27","v":0},{"$f":"'15'!AQ27","v":0},{"$f":"'12'!AQ27","v":0},{"$f":"'10'!AQ27","v":0}]

{"sheet":"32 KH8","index":50,"n_rows":25,"n_cols":9,"rows_kept":25}
["UT","80M","40M","30M","20M","17M","15M","12M","10M"]
[1,{"$f":"'80'!AR4","v":0},{"$f":"'40'!AR4","v":0},{"$f":"'30'!AR4","v":0},{"$f":"'20'!AR4","v":0},{"$f":"'17'!AR4","v":0},{"$f":"'15'!AR4","v":0},{"$f":"'12'!AR4","v":0},{"$f":"'10'!AR4","v":0}]
[2,{"$f":"'80'!AR5","v":0},{"$f":"'40'!AR5","v":0},{"$f":"'30'!AR5","v":0},{"$f":"'20'!AR5","v":0},{"$f":"'17'!AR5","v":0},{"$f":"'15'!AR5","v":0},{"$f":"'12'!AR5","v":0},{"$f":"'10'!AR5","v":0}]
[3,{"$f":"'80'!AR6","v":0},{"$f":"'40'!AR6","v":0},{"$f":"'30'!AR6","v":0},{"$f":"'20'!AR6","v":0},{"$f":"'17'!AR6","v":0},{"$f":"'15'!AR6","v":0},{"$f":"'12'!AR6","v":0},{"$f":"'10'!AR6","v":0}]
[4,{"$f":"'80'!AR7","v":0},{"$f":"'40'!AR7","v":0},{"$f":"'30'!AR7","v":0},{"$f":"'20'!AR7","v":0},{"$f":"'17'!AR7","v":0},{"$f":"'15'!AR7","v":0},{"$f":"'12'!AR7","v":0},{"$f":"'10'!AR7","v":0}]
[5,{"$f":"'80'!AR8","v":0},{"$f":"'40'!AR8","v":0},{"$f":"'30'!AR8","v":0},{"$f":"'20'!AR8","v":0},{"$f":"'17'!AR8","v":0},{"$f":"'15'!AR8","v":0},{"$f":"'12'!AR8","v":0},{"$f":"'10'!AR8","v":0}]
[6,{"$f":"'80'!AR9","v":0},{"$f":"'40'!AR9","v":0},{"$f":"'30'!AR9","v":0},{"$f":"'20'!AR9","v":0},{"$f":"'17'!AR9","v":0},{"$f":"'15'!AR9","v":0},{"$f":"'12'!AR9","v":0},{"$f":"'10'!AR9","v":0}]
[7,{"$f":"'80'!AR10","v":0},{"$f":"'40'!AR10","v":0},{"$f":"'30'!AR10","v":0},{"$f":"'20'!AR10","v":0},{"$f":"'17'!AR10","v":0},{"$f":"'15'!AR10","v":0},{"$f":"'12'!AR10","v":0},{"$f":"'10'!AR10","v":0}]
[8,{"$f":"'80'!AR11","v":0},{"$f":"'40'!AR11","v":0},{"$f":"'30'!AR11","v":0},{"$f":"'20'!AR11","v":0},{"$f":"'17'!AR11","v":0},{"$f":"'15'!AR11","v":0},{"$f":"'12'!AR11","v":0},{"$f":"'10'!AR11","v":0}]
[9,{"$f":"'80'!AR12","v":0},{"$f":"'40'!AR12","v":0},{"$f":"'30'!AR12","v":0},{"$f":"'20'!AR12","v":0},{"$f":"'17'!AR12","v":0},{"$f":"'15'!AR12","v":0},{"$f":"'12'!AR12","v":0},{"$f":"'10'!AR12","v":0}]
[10,{"$f":"'80'!AR13","v":0},{"$f":"'40'!AR13","v":0},{"$f":"'30'!AR13","v":0},{"$f":"'20'!AR13","v":0},{"$f":"'17'!AR13","v":0},{"$f":"'15'!AR13","v":0},{"$f":"'12'!AR13","v":0},{"$f":"'10'!AR13","v":0}]
[11,{"$f":"'80'!AR14","v":0},{"$f":"'40'!AR14","v":0},{"$f":"'30'!AR14","v":0},{"$f":"'20'!AR14","v":0},{"$f":"'17'!AR14","v":0},{"$f":"'15'!AR14","v":0},{"$f":"'12'!AR14","v":0},{"$f":"'10'!AR14","v":0}]
[12,{"$f":"'80'!AR15","v":0},{"$f":"'40'!AR15","v":0},{"$f":"'30'!AR15","v":0},{"$f":"'20'!AR15","v":0},{"$f":"'17'!AR15","v":0},{"$f":"'15'!AR15","v":0},{"$f":"'12'!AR15","v":0},{"$f":"'10'!AR15","v":0}]
[13,{"$f":"'80'!AR16","v":0},{"$f":"'40'!AR16","v":0},{"$f":"'30'!AR16","v":0},{"$f":"'20'!AR16","v":0},{"$f":"'17'!AR16","v":0},{"$f":"'15'!AR16","v":0},{"$f":"'12'!AR16","v":0},{"$f":"'10'!AR16","v":0}]
[14,{"$f":"'80'!AR17","v":0},{"$f":"'40'!AR17","v":0},{"$f":"'30'!AR17","v":0},{"$f":"'20'!AR17","v":0},{"$f":"'17'!AR17","v":0},{"$f":"'15'!AR17","v":0},{"$f":"'12'!AR17","v":0},{"$f":"'10'!AR17","v":0}]
[15,{"$f":"'80'!AR18","v":0},{"$f":"'40'!AR18","v":0},{"$f":"'30'!AR18","v":0},{"$f":"'20'!AR18","v":0},{"$f":"'17'!AR18","v":0},{"$f":"'15'!AR18","v":0},{"$f":"'12'!AR18","v":0},{"$f":"'10'!AR18","v":0}]
[16,{"$f":"'80'!AR19","v":0},{"$f":"'40'!AR19","v":0},{"$f":"'30'!AR19","v":0},{"$f":"'20'!AR19","v":0},{"$f":"'17'!AR19","v":0},{"$f":"'15'!AR19","v":0},{"$f":"'12'!AR19","v":0},{"$f":"'10'!AR19","v":0}]
[17,{"$f":"'80'!AR20","v":0},{"$f":"'40'!AR20","v":0},{"$f":"'30'!AR20","v":0},{"$f":"'20'!AR20","v":0},{"$f":"'17'!AR20","v":0},{"$f":"'15'!AR20","v":0},{"$f":"'12'!AR20","v":0},{"$f":"'10'!AR20","v":0}]
[18,{"$f":"'80'!AR21","v":0},{"$f":"'40'!AR21","v":0},{"$f":"'30'!AR21","v":0},{"$f":"'20'!AR21","v":0},{"$f":"'17'!AR21","v":0},{"$f":"'15'!AR21","v":0},{"$f":"'12'!AR21","v":0},{"$f":"'10'!AR21","v":0}]
[19,{"$f":"'80'!AR22","v":0},{"$f":"'40'!AR22","v":0},{"$f":"'30'!AR22","v":0},{"$f":"'20'!AR22","v":0},{"$f":"'17'!AR22","v":0},{"$f":"'15'!AR22","v":0},{"$f":"'12'!AR22","v":0},{"$f":"'10'!AR22","v":0}]
[20,{"$f":"'80'!AR23","v":0},{"$f":"'40'!AR23","v":0},{"$f":"'30'!AR23","v":0},{"$f":"'20'!AR23","v":0},{"$f":"'17'!AR23","v":0},{"$f":"'15'!AR23","v":0},{"$f":"'12'!AR23","v":0},{"$f":"'10'!AR23","v":0}]
[21,{"$f":"'80'!AR24","v":0},{"$f":"'40'!AR24","v":0},{"$f":"'30'!AR24","v":0},{"$f":"'20'!AR24","v":0},{"$f":"'17'!AR24","v":0},{"$f":"'15'!AR24","v":0},{"$f":"'12'!AR24","v":0},{"$f":"'10'!AR24","v":0}]
[22,{"$f":"'80'!AR25","v":0},{"$f":"'40'!AR25","v":0},{"$f":"'30'!AR25","v":0},{"$f":"'20'!AR25","v":0},{"$f":"'17'!AR25","v":0},{"$f":"'15'!AR25","v":0},{"$f":"'12'!AR25","v":0},{"$f":"'10'!AR25","v":0}]
[23,{"$f":"'80'!AR26","v":0},{"$f":"'40'!AR26","v":0},{"$f":"'30'!AR26","v":0},{"$f":"'20'!AR26","v":0},{"$f":"'17'!AR26","v":0},{"$f":"'15'!AR26","v":0},{"$f":"'12'!AR26","v":0},{"$f":"'10'!AR26","v":0}]
[24,{"$f":"'80'!AR27","v":0},{"$f":"'40'!AR27","v":0},{"$f":"'30'!AR27","v":0},{"$f":"'20'!AR27","v":0},{"$f":"'17'!AR27","v":0},{"$f":"'15'!AR27","v":0},{"$f":"'12'!AR27","v":0},{"$f":"'10'!AR27","v":0}]

{"sheet":"32 ZL","index":51,"n_rows":25,"n_cols":9,"rows_kept":25}
["UT","80M","40M","30M","20M","17M","15M","12M","10M"]
[1,{"$f":"'80'!AS4","v":0},{"$f":"'40'!AS4","v":0},{"$f":"'30'!AS4","v":0},{"$f":"'20'!AS4","v":0},{"$f":"'17'!AS4","v":0},{"$f":"'15'!AS4","v":0},{"$f":"'12'!AS4","v":0},{"$f":"'10'!AS4","v":0}]
[2,{"$f":"'80'!AS5","v":0},{"$f":"'40'!AS5","v":0},{"$f":"'30'!AS5","v":0},{"$f":"'20'!AS5","v":0},{"$f":"'17'!AS5","v":0},{"$f":"'15'!AS5","v":0},{"$f":"'12'!AS5","v":0},{"$f":"'10'!AS5","v":0}]
[3,{"$f":"'80'!AS6","v":0},{"$f":"'40'!AS6","v":0},{"$f":"'30'!AS6","v":0},{"$f":"'20'!AS6","v":0},{"$f":"'17'!AS6","v":0},{"$f":"'15'!AS6","v":0},{"$f":"'12'!AS6","v":0},{"$f":"'10'!AS6","v":0}]
[4,{"$f":"'80'!AS7","v":0},{"$f":"'40'!AS7","v":0},{"$f":"'30'!AS7","v":0},{"$f":"'20'!AS7","v":0},{"$f":"'17'!AS7","v":0},{"$f":"'15'!AS7","v":0},{"$f":"'12'!AS7","v":0},{"$f":"'10'!AS7","v":0}]
[5,{"$f":"'80'!AS8","v":0},{"$f":"'40'!AS8","v":0},{"$f":"'30'!AS8","v":0},{"$f":"'20'!AS8","v":0},{"$f":"'17'!AS8","v":0},{"$f":"'15'!AS8","v":0},{"$f":"'12'!AS8","v":0},{"$f":"'10'!AS8","v":0}]
[6,{"$f":"'80'!AS9","v":0},{"$f":"'40'!AS9","v":0},{"$f":"'30'!AS9","v":0},{"$f":"'20'!AS9","v":0},{"$f":"'17'!AS9","v":0},{"$f":"'15'!AS9","v":0},{"$f":"'12'!AS9","v":0},{"$f":"'10'!AS9","v":0}]
[7,{"$f":"'80'!AS10","v":0},{"$f":"'40'!AS10","v":0},{"$f":"'30'!AS10","v":0},{"$f":"'20'!AS10","v":0},{"$f":"'17'!AS10","v":0},{"$f":"'15'!AS10","v":0},{"$f":"'12'!AS10","v":0},{"$f":"'10'!AS10","v":0}]
[8,{"$f":"'80'!AS11","v":0},{"$f":"'40'!AS11","v":0},{"$f":"'30'!AS11","v":0},{"$f":"'20'!AS11","v":0},{"$f":"'17'!AS11","v":0},{"$f":"'15'!AS11","v":0},{"$f":"'12'!AS11","v":0},{"$f":"'10'!AS11","v":0}]
[9,{"$f":"'80'!AS12","v":0},{"$f":"'40'!AS12","v":0},{"$f":"'30'!AS12","v":0},{"$f":"'20'!AS12","v":0},{"$f":"'17'!AS12","v":0},{"$f":"'15'!AS12","v":0},{"$f":"'12'!AS12","v":0},{"$f":"'10'!AS12","v":0}]
[10,{"$f":"'80'!AS13","v":0},{"$f":"'40'!AS13","v":0},{"$f":"'30'!AS13","v":0},{"$f":"'20'!AS13","v":0},{"$f":"'17'!AS13","v":0},{"$f":"'15'!AS13","v":0},{"$f":"'12'!AS13","v":0},{"$f":"'10'!AS13","v":0}]
[11,{"$f":"'80'!AS14","v":0},{"$f":"'40'!AS14","v":0},{"$f":"'30'!AS14","v":0},{"$f":"'20'!AS14","v":0},{"$f":"'17'!AS14","v":0},{"$f":"'15'!AS14","v":0},{"$f":"'12'!AS14","v":0},{"$f":"'10'!AS14","v":0}]
[12,{"$f":"'80'!AS15","v":0},{"$f":"'40'!AS15","v":0},{"$f":"'30'!AS15","v":0},{"$f":"'20'!AS15","v":0},{"$f":"'17'!AS15","v":0},{"$f":"'15'!AS15","v":0},{"$f":"'12'!AS15","v":0},{"$f":"'10'!AS15","v":0}]
[13,{"$f":"'80'!AS16","v":0},{"$f":"'40'!AS16","v":0},{"$f":"'30'!AS16","v":0},{"$f":"'20'!AS16","v":0},{"$f":"'17'!AS16","v":0},{"$f":"'15'!AS16","v":0},{"$f":"'12'!AS16","v":0},{"$f":"'10'!AS16","v":0}]
[14,{"$f":"'80'!AS17","v":0},{"$f":"'40'!AS17","v":0},{"$f":"'30'!AS17","v":0},{"$f":"'20'!AS17","v":0},{"$f":"'17'!AS17","v":0},{"$f":"'15'!AS17","v":0},{"$f":"'12'!AS17","v":0},{"$f":"'10'!AS17","v":0}]
[15,{"$f":"'80'!AS18","v":0},{"$f":"'40'!AS18","v":0},{"$f":"'30'!AS18","v":0},{"$f":"'20'!AS18","v":0},{"$f":"'17'!AS18","v":0},{"$f":"'15'!AS18","v":0},{"$f":"'12'!AS18","v":0},{"$f":"'10'!AS18","v":0}]
[16,{"$f":"'80'!AS19","v":0},{"$f":"'40'!AS19","v":0},{"$f":"'30'!AS19","v":0},{"$f":"'20'!AS19","v":0},{"$f":"'17'!AS19","v":0},{"$f":"'15'!AS19","v":0},{"$f":"'12'!AS19","v":0},{"$f":"'10'!AS19","v":0}]
[17,{"$f":"'80'!AS20","v":0},{"$f":"'40'!AS20","v":0},{"$f":"'30'!AS20","v":0},{"$f":"'20'!AS20","v":0},{"$f":"'17'!AS20","v":0},{"$f":"'15'!AS20","v":0},{"$f":"'12'!AS20","v":0},{"$f":"'10'!AS20","v":0}]
[18,{"$f":"'80'!AS21","v":0},{"$f":"'40'!AS21","v":0},{"$f":"'30'!AS21","v":0},{"$f":"'20'!AS21","v":0},{"$f":"'17'!AS21","v":0},{"$f":"'15'!AS21","v":0},{"$f":"'12'!AS21","v":0},{"$f":"'10'!AS21","v":0}]
[19,{"$f":"'80'!AS22","v":0},{"$f":"'40'!AS22","v":0},{"$f":"'30'!AS22","v":0},{"$f":"'20'!AS22","v":0},{"$f":"'17'!AS22","v":0},{"$f":"'15'!AS22","v":0},{"$f":"'12'!AS22","v":0},{"$f":"'10'!AS22","v":0}]
[20,{"$f":"'80'!AS23","v":0},{"$f":"'40'!AS23","v":0},{"$f":"'30'!AS23","v":0},{"$f":"'20'!AS23","v":0},{"$f":"'17'!AS23","v":0},{"$f":"'15'!AS23","v":0},{"$f":"'12'!AS23","v":0},{"$f":"'10'!AS23","v":0}]
[21,{"$f":"'80'!AS24","v":0},{"$f":"'40'!AS24","v":0},{"$f":"'30'!AS24","v":0},{"$f":"'20'!AS24","v":0},{"$f":"'17'!AS24","v":0},{"$f":"'15'!AS24","v":0},{"$f":"'12'!AS24","v":0},{"$f":"'10'!AS24","v":0}]
[22,{"$f":"'80'!AS25","v":0},{"$f":"'40'!AS25","v":0},{"$f":"'30'!AS25","v":0},{"$f":"'20'!AS25","v":0},{"$f":"'17'!AS25","v":0},{"$f":"'15'!AS25","v":0},{"$f":"'12'!AS25","v":0},{"$f":"'10'!AS25","v":0}]
[23,{"$f":"'80'!AS26","v":0},{"$f":"'40'!AS26","v":0},{"$f":"'30'!AS26","v":0},{"$f":"'20'!AS26","v":0},{"$f":"'17'!AS26","v":0},{"$f":"'15'!AS26","v":0},{"$f":"'12'!AS26","v":0},{"$f":"'10'!AS26","v":0}]
[24,{"$f":"'80'!AS27","v":0},{"$f":"'40'!AS27","v":0},{"$f":"'30'!AS27","v":0},{"$f":"'20'!AS27","v":0},{"$f":"'17'!AS27","v":0},{"$f":"'15'!AS27","v":0},{"$f":"'12'!AS27","v":0},{"$f":"'10'!AS27","v":0}]

{"sheet":"33 EA8","index":52,"n_rows":25,"n_cols":9,"rows_kept":25}
["UT","80M","40M","30M","20M","17M","15M","12M","10M"]
[1,{"$f":"'80'!AT4","v":0},{"$f":"'40'!AT4","v":0},{"$f":"'30'!AT4","v":0},{"$f":"'20'!AT4","v":0},{"$f":"'17'!AT4","v":0},{"$f":"'15'!AT4","v":0},{"$f":"'12'!AT4","v":0},{"$f":"'10'!AT4","v":0}]
[2,{"$f":"'80'!AT5","v":0},{"$f":"'40'!AT5","v":0},{"$f":"'30'!AT5","v":0},{"$f":"'20'!AT5","v":0},{"$f":"'17'!AT5","v":0},{"$f":"'15'!AT5","v":0},{"$f":"'12'!AT5","v":0},{"$f":"'10'!AT5","v":0}]
[3,{"$f":"'80'!AT6","v":0},{"$f":"'40'!AT6","v":0},{"$f":"'30'!AT6","v":0},{"$f":"'20'!AT6","v":0},{"$f":"'17'!AT6","v":0},{"$f":"'15'!AT6","v":0},{"$f":"'12'!AT6","v":0},{"$f":"'10'!AT6","v":0}]
[4,{"$f":"'80'!AT7","v":0},{"$f":"'40'!AT7","v":0},{"$f":"'30'!AT7","v":0},{"$f":"'20'!AT7","v":0},{"$f":"'17'!AT7","v":0},{"$f":"'15'!AT7","v":0},{"$f":"'12'!AT7","v":0},{"$f":"'10'!AT7","v":0}]
[5,{"$f":"'80'!AT8","v":0},{"$f":"'40'!AT8","v":0},{"$f":"'30'!AT8","v":0},{"$f":"'20'!AT8","v":0},{"$f":"'17'!AT8","v":0},{"$f":"'15'!AT8","v":0},{"$f":"'12'!AT8","v":0},{"$f":"'10'!AT8","v":0}]
[6,{"$f":"'80'!AT9","v":0},{"$f":"'40'!AT9","v":0},{"$f":"'30'!AT9","v":0},{"$f":"'20'!AT9","v":0},{"$f":"'17'!AT9","v":0},{"$f":"'15'!AT9","v":0},{"$f":"'12'!AT9","v":0},{"$f":"'10'!AT9","v":0}]
[7,{"$f":"'80'!AT10","v":0},{"$f":"'40'!AT10","v":0},{"$f":"'30'!AT10","v":0},{"$f":"'20'!AT10","v":0},{"$f":"'17'!AT10","v":0},{"$f":"'15'!AT10","v":0},{"$f":"'12'!AT10","v":0},{"$f":"'10'!AT10","v":0}]
[8,{"$f":"'80'!AT11","v":0},{"$f":"'40'!AT11","v":0},{"$f":"'30'!AT11","v":0},{"$f":"'20'!AT11","v":0},{"$f":"'17'!AT11","v":0},{"$f":"'15'!AT11","v":0},{"$f":"'12'!AT11","v":0},{"$f":"'10'!AT11","v":0}]
[9,{"$f":"'80'!AT12","v":0},{"$f":"'40'!AT12","v":0},{"$f":"'30'!AT12","v":0},{"$f":"'20'!AT12","v":0},{"$f":"'17'!AT12","v":0},{"$f":"'15'!AT12","v":0},{"$f":"'12'!AT12","v":0},{"$f":"'10'!AT12","v":0}]
[10,{"$f":"'80'!AT13","v":0},{"$f":"'40'!AT13","v":0},{"$f":"'30'!AT13","v":0},{"$f":"'20'!AT13","v":0},{"$f":"'17'!AT13","v":0},{"$f":"'15'!AT13","v":0},{"$f":"'12'!AT13","v":0},{"$f":"'10'!AT13","v":0}]
[11,{"$f":"'80'!AT14","v":0},{"$f":"'40'!AT14","v":0},{"$f":"'30'!AT14","v":0},{"$f":"'20'!AT14","v":0},{"$f":"'17'!AT14","v":0},{"$f":"'15'!AT14","v":0},{"$f":"'12'!AT14","v":0},{"$f":"'10'!AT14","v":0}]
[12,{"$f":"'80'!AT15","v":0},{"$f":"'40'!AT15","v":0},{"$f":"'30'!AT15","v":0},{"$f":"'20'!AT15","v":0},{"$f":"'17'!AT15","v":0},{"$f":"'15'!AT15","v":0},{"$f":"'12'!AT15","v":0},{"$f":"'10'!AT15","v":0}]
[13,{"$f":"'80'!AT16","v":0},{"$f":"'40'!AT16","v":0},{"$f":"'30'!AT16","v":0},{"$f":"'20'!AT16","v":0},{"$f":"'17'!AT16","v":0},{"$f":"'15'!AT16","v":0},{"$f":"'12'!AT16","v":0},{"$f":"'10'!AT16","v":0}]
[14,{"$f":"'80'!AT17","v":0},{"$f":"'40'!AT17","v":0},{"$f":"'30'!AT17","v":0},{"$f":"'20'!AT17","v":0},{"$f":"'17'!AT17","v":0},{"$f":"'15'!AT17","v":0},{"$f":"'12'!AT17","v":0},{"$f":"'10'!AT17","v":0}]
[15,{"$f":"'80'!AT18","v":0},{"$f":"'40'!AT18","v":0},{"$f":"'30'!AT18","v":0},{"$f":"'20'!AT18","v":0},{"$f":"'17'!AT18","v":0},{"$f":"'15'!AT18","v":0},{"$f":"'12'!AT18","v":0},{"$f":"'10'!AT18","v":0}]
[16,{"$f":"'80'!AT19","v":0},{"$f":"'40'!AT19","v":0},{"$f":"'30'!AT19","v":0},{"$f":"'20'!AT19","v":0},{"$f":"'17'!AT19","v":0},{"$f":"'15'!AT19","v":0},{"$f":"'12'!AT19","v":0},{"$f":"'10'!AT19","v":0}]
[17,{"$f":"'80'!AT20","v":0},{"$f":"'40'!AT20","v":0},{"$f":"'30'!AT20","v":0},{"$f":"'20'!AT20","v":0},{"$f":"'17'!AT20","v":0},{"$f":"'15'!AT20","v":0},{"$f":"'12'!AT20","v":0},{"$f":"'10'!AT20","v":0}]
[18,{"$f":"'80'!AT21","v":0},{"$f":"'40'!AT21","v":0},{"$f":"'30'!AT21","v":0},{"$f":"'20'!AT21","v":0},{"$f":"'17'!AT21","v":0},{"$f":"'15'!AT21","v":0},{"$f":"'12'!AT21","v":0},{"$f":"'10'!AT21","v":0}]
[19,{"$f":"'80'!AT22","v":0},{"$f":"'40'!AT22","v":0},{"$f":"'30'!AT22","v":0},{"$f":"'20'!AT22","v":0},{"$f":"'17'!AT22","v":0},{"$f":"'15'!AT22","v":0},{"$f":"'12'!AT22","v":0},{"$f":"'10'!AT22","v":0}]
[20,{"$f":"'80'!AT23","v":0},{"$f":"'40'!AT23","v":0},{"$f":"'30'!AT23","v":0},{"$f":"'20'!AT23","v":0},{"$f":"'17'!AT23","v":0},{"$f":"'15'!AT23","v":0},{"$f":"'12'!AT23","v":0},{"$f":"'10'!AT23","v":0}]
[21,{"$f":"'80'!AT24","v":0},{"$f":"'40'!AT24","v":0},{"$f":"'30'!AT24","v":0},{"$f":"'20'!AT24","v":0},{"$f":"'17'!AT24","v":0},{"$f":"'15'!AT24","v":0},{"$f":"'12'!AT24","v":0},{"$f":"'10'!AT24","v":0}]
[22,{"$f":"'80'!AT25","v":0},{"$f":"'40'!AT25","v":0},{"$f":"'30'!AT25","v":0},{"$f":"'20'!AT25","v":0},{"$f":"'17'!AT25","v":0},{"$f":"'15'!AT25","v":0},{"$f":"'12'!AT25","v":0},{"$f":"'10'!AT25","v":0}]
[23,{"$f":"'80'!AT26","v":0},{"$f":"'40'!AT26","v":0},{"$f":"'30'!AT26","v":0},{"$f":"'20'!AT26","v":0},{"$f":"'17'!AT26","v":0},{"$f":"'15'!AT26","v":0},{"$f":"'12'!AT26","v":0},{"$f":"'10'!AT26","v":0}]
[24,{"$f":"'80'!AT27","v":0},{"$f":"'40'!AT27","v":0},{"$f":"'30'!AT27","v":0},{"$f":"'20'!AT27","v":0},{"$f":"'17'!AT27","v":0},{"$f":"'15'!AT27","v":0},{"$f":"'12'!AT27","v":0},{"$f":"'10'!AT27","v":0}]

{"sheet":"34 ST","index":53,"n_rows":25,"n_cols":9,"rows_kept":25}
["UT","80M","40M","30M","20M","17M","15M","12M","10M"]
[1,{"$f":"'80'!AU4","v":0},{"$f":"'40'!AU4","v":0},{"$f":"'30'!AU4","v":0},{"$f":"'20'!AU4","v":0},{"$f":"'17'!AU4","v":0},{"$f":"'15'!AU4","v":0},{"$f":"'12'!AU4","v":0},{"$f":"'10'!AU4","v":0}]
[2,{"$f":"'80'!AU5","v":0},{"$f":"'40'!AU5","v":0},{"$f":"'30'!AU5","v":0},{"$f":"'20'!AU5","v":0},{"$f":"'17'!AU5","v":0},{"$f":"'15'!AU5","v":0},{"$f":"'12'!AU5","v":0},{"$f":"'10'!AU5","v":0}]
[3,{"$f":"'80'!AU6","v":0},{"$f":"'40'!AU6","v":0},{"$f":"'30'!AU6","v":0},{"$f":"'20'!AU6","v":0},{"$f":"'17'!AU6","v":0},{"$f":"'15'!AU6","v":0},{"$f":"'12'!AU6","v":0},{"$f":"'10'!AU6","v":0}]
[4,{"$f":"'80'!AU7","v":0},{"$f":"'40'!AU7","v":0},{"$f":"'30'!AU7","v":0},{"$f":"'20'!AU7","v":0},{"$f":"'17'!AU7","v":0},{"$f":"'15'!AU7","v":0},{"$f":"'12'!AU7","v":0},{"$f":"'10'!AU7","v":0}]
[5,{"$f":"'80'!AU8","v":0},{"$f":"'40'!AU8","v":0},{"$f":"'30'!AU8","v":0},{"$f":"'20'!AU8","v":0},{"$f":"'17'!AU8","v":0},{"$f":"'15'!AU8","v":0},{"$f":"'12'!AU8","v":0},{"$f":"'10'!AU8","v":0}]
[6,{"$f":"'80'!AU9","v":0},{"$f":"'40'!AU9","v":0},{"$f":"'30'!AU9","v":0},{"$f":"'20'!AU9","v":0},{"$f":"'17'!AU9","v":0},{"$f":"'15'!AU9","v":0},{"$f":"'12'!AU9","v":0},{"$f":"'10'!AU9","v":0}]
[7,{"$f":"'80'!AU10","v":0},{"$f":"'40'!AU10","v":0},{"$f":"'30'!AU10","v":0},{"$f":"'20'!AU10","v":0},{"$f":"'17'!AU10","v":0},{"$f":"'15'!AU10","v":0},{"$f":"'12'!AU10","v":0},{"$f":"'10'!AU10","v":0}]
[8,{"$f":"'80'!AU11","v":0},{"$f":"'40'!AU11","v":0},{"$f":"'30'!AU11","v":0},{"$f":"'20'!AU11","v":0},{"$f":"'17'!AU11","v":0},{"$f":"'15'!AU11","v":0},{"$f":"'12'!AU11","v":0},{"$f":"'10'!AU11","v":0}]
[9,{"$f":"'80'!AU12","v":0},{"$f":"'40'!AU12","v":0},{"$f":"'30'!AU12","v":0},{"$f":"'20'!AU12","v":0},{"$f":"'17'!AU12","v":0},{"$f":"'15'!AU12","v":0},{"$f":"'12'!AU12","v":0},{"$f":"'10'!AU12","v":0}]
[10,{"$f":"'80'!AU13","v":0},{"$f":"'40'!AU13","v":0},{"$f":"'30'!AU13","v":0},{"$f":"'20'!AU13","v":0},{"$f":"'17'!AU13","v":0},{"$f":"'15'!AU13","v":0},{"$f":"'12'!AU13","v":0},{"$f":"'10'!AU13","v":0}]
[11,{"$f":"'80'!AU14","v":0},{"$f":"'40'!AU14","v":0},{"$f":"'30'!AU14","v":0},{"$f":"'20'!AU14","v":0},{"$f":"'17'!AU14","v":0},{"$f":"'15'!AU14","v":0},{"$f":"'12'!AU14","v":0},{"$f":"'10'!AU14","v":0}]
[12,{"$f":"'80'!AU15","v":0},{"$f":"'40'!AU15","v":0},{"$f":"'30'!AU15","v":0},{"$f":"'20'!AU15","v":0},{"$f":"'17'!AU15","v":0},{"$f":"'15'!AU15","v":0},{"$f":"'12'!AU15","v":0},{"$f":"'10'!AU15","v":0}]
[13,{"$f":"'80'!AU16","v":0},{"$f":"'40'!AU16","v":0},{"$f":"'30'!AU16","v":0},{"$f":"'20'!AU16","v":0},{"$f":"'17'!AU16","v":0},{"$f":"'15'!AU16","v":0},{"$f":"'12'!AU16","v":0},{"$f":"'10'!AU16","v":0}]
[14,{"$f":"'80'!AU17","v":0},{"$f":"'40'!AU17","v":0},{"$f":"'30'!AU17","v":0},{"$f":"'20'!AU17","v":0},{"$f":"'17'!AU17","v":0},{"$f":"'15'!AU17","v":0},{"$f":"'12'!AU17","v":0},{"$f":"'10'!AU17","v":0}]
[15,{"$f":"'80'!AU18","v":0},{"$f":"'40'!AU18","v":0},{"$f":"'30'!AU18","v":0},{"$f":"'20'!AU18","v":0},{"$f":"'17'!AU18","v":0},{"$f":"'15'!AU18","v":0},{"$f":"'12'!AU18","v":0},{"$f":"'10'!AU18","v":0}]
[16,{"$f":"'80'!AU19","v":0},{"$f":"'40'!AU19","v":0},{"$f":"'30'!AU19","v":0},{"$f":"'20'!AU19","v":0},{"$f":"'17'!AU19","v":0},{"$f":"'15'!AU19","v":0},{"$f":"'12'!AU19","v":0},{"$f":"'10'!AU19","v":0}]
[17,{"$f":"'80'!AU20","v":0},{"$f":"'40'!AU20","v":0},{"$f":"'30'!AU20","v":0},{"$f":"'20'!AU20","v":0},{"$f":"'17'!AU20","v":0},{"$f":"'15'!AU20","v":0},{"$f":"'12'!AU20","v":0},{"$f":"'10'!AU20","v":0}]
[18,{"$f":"'80'!AU21","v":0},{"$f":"'40'!AU21","v":0},{"$f":"'30'!AU21","v":0},{"$f":"'20'!AU21","v":0},{"$f":"'17'!AU21","v":0},{"$f":"'15'!AU21","v":0},{"$f":"'12'!AU21","v":0},{"$f":"'10'!AU21","v":0}]
[19,{"$f":"'80'!AU22","v":0},{"$f":"'40'!AU22","v":0},{"$f":"'30'!AU22","v":0},{"$f":"'20'!AU22","v":0},{"$f":"'17'!AU22","v":0},{"$f":"'15'!AU22","v":0},{"$f":"'12'!AU22","v":0},{"$f":"'10'!AU22","v":0}]
[20,{"$f":"'80'!AU23","v":0},{"$f":"'40'!AU23","v":0},{"$f":"'30'!AU23","v":0},{"$f":"'20'!AU23","v":0},{"$f":"'17'!AU23","v":0},{"$f":"'15'!AU23","v":0},{"$f":"'12'!AU23","v":0},{"$f":"'10'!AU23","v":0}]
[21,{"$f":"'80'!AU24","v":0},{"$f":"'40'!AU24","v":0},{"$f":"'30'!AU24","v":0},{"$f":"'20'!AU24","v":0},{"$f":"'17'!AU24","v":0},{"$f":"'15'!AU24","v":0},{"$f":"'12'!AU24","v":0},{"$f":"'10'!AU24","v":0}]
[22,{"$f":"'80'!AU25","v":0},{"$f":"'40'!AU25","v":0},{"$f":"'30'!AU25","v":0},{"$f":"'20'!AU25","v":0},{"$f":"'17'!AU25","v":0},{"$f":"'15'!AU25","v":0},{"$f":"'12'!AU25","v":0},{"$f":"'10'!AU25","v":0}]
[23,{"$f":"'80'!AU26","v":0},{"$f":"'40'!AU26","v":0},{"$f":"'30'!AU26","v":0},{"$f":"'20'!AU26","v":0},{"$f":"'17'!AU26","v":0},{"$f":"'15'!AU26","v":0},{"$f":"'12'!AU26","v":0},{"$f":"'10'!AU26","v":0}]
[24,{"$f":"'80'!AU27","v":0},{"$f":"'40'!AU27","v":0},{"$f":"'30'!AU27","v":0},{"$f":"'20'!AU27","v":0},{"$f":"'17'!AU27","v":0},{"$f":"'15'!AU27","v":0},{"$f":"'12'!AU27","v":0},{"$f":"'10'!AU27","v":0}]

{"sheet":"35 5N","index":54,"n_rows":25,"n_cols":9,"rows_kept":25}
["UT","80M","40M","30M","20M","17M","15M","12M","10M"]
[1,{"$f":"'80'!AV4","v":0},{"$f":"'40'!AV4","v":0},{"$f":"'30'!AV4","v":0},{"$f":"'20'!AV4","v":0},{"$f":"'17'!AV4","v":0},{"$f":"'15'!AV4","v":0},{"$f":"'12'!AV4","v":0},{"$f":"'10'!AV4","v":0}]
[2,{"$f":"'80'!AV5","v":0},{"$f":"'40'!AV5","v":0},{"$f":"'30'!AV5","v":0},{"$f":"'20'!AV5","v":0},{"$f":"'17'!AV5","v":0},{"$f":"'15'!AV5","v":0},{"$f":"'12'!AV5","v":0},{"$f":"'10'!AV5","v":0}]
[3,{"$f":"'80'!AV6","v":0},{"$f":"'40'!AV6","v":0},{"$f":"'30'!AV6","v":0},{"$f":"'20'!AV6","v":0},{"$f":"'17'!AV6","v":0},{"$f":"'15'!AV6","v":0},{"$f":"'12'!AV6","v":0},{"$f":"'10'!AV6","v":0}]
[4,{"$f":"'80'!AV7","v":0},{"$f":"'40'!AV7","v":0},{"$f":"'30'!AV7","v":0},{"$f":"'20'!AV7","v":0},{"$f":"'17'!AV7","v":0},{"$f":"'15'!AV7","v":0},{"$f":"'12'!AV7","v":0},{"$f":"'10'!AV7","v":0}]
[5,{"$f":"'80'!AV8","v":0},{"$f":"'40'!AV8","v":0},{"$f":"'30'!AV8","v":0},{"$f":"'20'!AV8","v":0},{"$f":"'17'!AV8","v":0},{"$f":"'15'!AV8","v":0},{"$f":"'12'!AV8","v":0},{"$f":"'10'!AV8","v":0}]
[6,{"$f":"'80'!AV9","v":0},{"$f":"'40'!AV9","v":0},{"$f":"'30'!AV9","v":0},{"$f":"'20'!AV9","v":0},{"$f":"'17'!AV9","v":0},{"$f":"'15'!AV9","v":0},{"$f":"'12'!AV9","v":0},{"$f":"'10'!AV9","v":0}]
[7,{"$f":"'80'!AV10","v":0},{"$f":"'40'!AV10","v":0},{"$f":"'30'!AV10","v":0},{"$f":"'20'!AV10","v":0},{"$f":"'17'!AV10","v":0},{"$f":"'15'!AV10","v":0},{"$f":"'12'!AV10","v":0},{"$f":"'10'!AV10","v":0}]
[8,{"$f":"'80'!AV11","v":0},{"$f":"'40'!AV11","v":0},{"$f":"'30'!AV11","v":0},{"$f":"'20'!AV11","v":0},{"$f":"'17'!AV11","v":0},{"$f":"'15'!AV11","v":0},{"$f":"'12'!AV11","v":0},{"$f":"'10'!AV11","v":0}]
[9,{"$f":"'80'!AV12","v":0},{"$f":"'40'!AV12","v":0},{"$f":"'30'!AV12","v":0},{"$f":"'20'!AV12","v":0},{"$f":"'17'!AV12","v":0},{"$f":"'15'!AV12","v":0},{"$f":"'12'!AV12","v":0},{"$f":"'10'!AV12","v":0}]
[10,{"$f":"'80'!AV13","v":0},{"$f":"'40'!AV13","v":0},{"$f":"'30'!AV13","v":0},{"$f":"'20'!AV13","v":0},{"$f":"'17'!AV13","v":0},{"$f":"'15'!AV13","v":0},{"$f":"'12'!AV13","v":0},{"$f":"'10'!AV13","v":0}]
[11,{"$f":"'80'!AV14","v":0},{"$f":"'40'!AV14","v":0},{"$f":"'30'!AV14","v":0},{"$f":"'20'!AV14","v":0},{"$f":"'17'!AV14","v":0},{"$f":"'15'!AV14","v":0},{"$f":"'12'!AV14","v":0},{"$f":"'10'!AV14","v":0}]
[12,{"$f":"'80'!AV15","v":0},{"$f":"'40'!AV15","v":0},{"$f":"'30'!AV15","v":0},{"$f":"'20'!AV15","v":0},{"$f":"'17'!AV15","v":0},{"$f":"'15'!AV15","v":0},{"$f":"'12'!AV15","v":0},{"$f":"'10'!AV15","v":0}]
[13,{"$f":"'80'!AV16","v":0},{"$f":"'40'!AV16","v":0},{"$f":"'30'!AV16","v":0},{"$f":"'20'!AV16","v":0},{"$f":"'17'!AV16","v":0},{"$f":"'15'!AV16","v":0},{"$f":"'12'!AV16","v":0},{"$f":"'10'!AV16","v":0}]
[14,{"$f":"'80'!AV17","v":0},{"$f":"'40'!AV17","v":0},{"$f":"'30'!AV17","v":0},{"$f":"'20'!AV17","v":0},{"$f":"'17'!AV17","v":0},{"$f":"'15'!AV17","v":0},{"$f":"'12'!AV17","v":0},{"$f":"'10'!AV17","v":0}]
[15,{"$f":"'80'!AV18","v":0},{"$f":"'40'!AV18","v":0},{"$f":"'30'!AV18","v":0},{"$f":"'20'!AV18","v":0},{"$f":"'17'!AV18","v":0},{"$f":"'15'!AV18","v":0},{"$f":"'12'!AV18","v":0},{"$f":"'10'!AV18","v":0}]
[16,{"$f":"'80'!AV19","v":0},{"$f":"'40'!AV19","v":0},{"$f":"'30'!AV19","v":0},{"$f":"'20'!AV19","v":0},{"$f":"'17'!AV19","v":0},{"$f":"'15'!AV19","v":0},{"$f":"'12'!AV19","v":0},{"$f":"'10'!AV19","v":0}]
[17,{"$f":"'80'!AV20","v":0},{"$f":"'40'!AV20","v":0},{"$f":"'30'!AV20","v":0},{"$f":"'20'!AV20","v":0},{"$f":"'17'!AV20","v":0},{"$f":"'15'!AV20","v":0},{"$f":"'12'!AV20","v":0},{"$f":"'10'!AV20","v":0}]
[18,{"$f":"'80'!AV21","v":0},{"$f":"'40'!AV21","v":0},{"$f":"'30'!AV21","v":0},{"$f":"'20'!AV21","v":0},{"$f":"'17'!AV21","v":0},{"$f":"'15'!AV21","v":0},{"$f":"'12'!AV21","v":0},{"$f":"'10'!AV21","v":0}]
[19,{"$f":"'80'!AV22","v":0},{"$f":"'40'!AV22","v":0},{"$f":"'30'!AV22","v":0},{"$f":"'20'!AV22","v":0},{"$f":"'17'!AV22","v":0},{"$f":"'15'!AV22","v":0},{"$f":"'12'!AV22","v":0},{"$f":"'10'!AV22","v":0}]
[20,{"$f":"'80'!AV23","v":0},{"$f":"'40'!AV23","v":0},{"$f":"'30'!AV23","v":0},{"$f":"'20'!AV23","v":0},{"$f":"'17'!AV23","v":0},{"$f":"'15'!AV23","v":0},{"$f":"'12'!AV23","v":0},{"$f":"'10'!AV23","v":0}]
[21,{"$f":"'80'!AV24","v":0},{"$f":"'40'!AV24","v":0},{"$f":"'30'!AV24","v":0},{"$f":"'20'!AV24","v":0},{"$f":"'17'!AV24","v":0},{"$f":"'15'!AV24","v":0},{"$f":"'12'!AV24","v":0},{"$f":"'10'!AV24","v":0}]
[22,{"$f":"'80'!AV25","v":0},{"$f":"'40'!AV25","v":0},{"$f":"'30'!AV25","v":0},{"$f":"'20'!AV25","v":0},{"$f":"'17'!AV25","v":0},{"$f":"'15'!AV25","v":0},{"$f":"'12'!AV25","v":0},{"$f":"'10'!AV25","v":0}]
[23,{"$f":"'80'!AV26","v":0},{"$f":"'40'!AV26","v":0},{"$f":"'30'!AV26","v":0},{"$f":"'20'!AV26","v":0},{"$f":"'17'!AV26","v":0},{"$f":"'15'!AV26","v":0},{"$f":"'12'!AV26","v":0},{"$f":"'10'!AV26","v":0}]
[24,{"$f":"'80'!AV27","v":0},{"$f":"'40'!AV27","v":0},{"$f":"'30'!AV27","v":0},{"$f":"'20'!AV27","v":0},{"$f":"'17'!AV27","v":0},{"$f":"'15'!AV27","v":0},{"$f":"'12'!AV27","v":0},{"$f":"'10'!AV27","v":0}]

{"sheet":"36 6W","index":55,"n_rows":25,"n_cols":9,"rows_kept":25}
["UT","80M","40M","30M","20M","17M","15M","12M","10M"]
[1,{"$f":"'80'!AW4","v":0},{"$f":"'40'!AW4","v":0},{"$f":"'30'!AW4","v":0},{"$f":"'20'!AW4","v":0},{"$f":"'17'!AW4","v":0},{"$f":"'15'!AW4","v":0},{"$f":"'12'!AW4","v":0},{"$f":"'10'!AW4","v":0}]
[2,{"$f":"'80'!AW5","v":0},{"$f":"'40'!AW5","v":0},{"$f":"'30'!AW5","v":0},{"$f":"'20'!AW5","v":0},{"$f":"'17'!AW5","v":0},{"$f":"'15'!AW5","v":0},{"$f":"'12'!AW5","v":0},{"$f":"'10'!AW5","v":0}]
[3,{"$f":"'80'!AW6","v":0},{"$f":"'40'!AW6","v":0},{"$f":"'30'!AW6","v":0},{"$f":"'20'!AW6","v":0},{"$f":"'17'!AW6","v":0},{"$f":"'15'!AW6","v":0},{"$f":"'12'!AW6","v":0},{"$f":"'10'!AW6","v":0}]
[4,{"$f":"'80'!AW7","v":0},{"$f":"'40'!AW7","v":0},{"$f":"'30'!AW7","v":0},{"$f":"'20'!AW7","v":0},{"$f":"'17'!AW7","v":0},{"$f":"'15'!AW7","v":0},{"$f":"'12'!AW7","v":0},{"$f":"'10'!AW7","v":0}]
[5,{"$f":"'80'!AW8","v":0},{"$f":"'40'!AW8","v":0},{"$f":"'30'!AW8","v":0},{"$f":"'20'!AW8","v":0},{"$f":"'17'!AW8","v":0},{"$f":"'15'!AW8","v":0},{"$f":"'12'!AW8","v":0},{"$f":"'10'!AW8","v":0}]
[6,{"$f":"'80'!AW9","v":0},{"$f":"'40'!AW9","v":0},{"$f":"'30'!AW9","v":0},{"$f":"'20'!AW9","v":0},{"$f":"'17'!AW9","v":0},{"$f":"'15'!AW9","v":0},{"$f":"'12'!AW9","v":0},{"$f":"'10'!AW9","v":0}]
[7,{"$f":"'80'!AW10","v":0},{"$f":"'40'!AW10","v":0},{"$f":"'30'!AW10","v":0},{"$f":"'20'!AW10","v":0},{"$f":"'17'!AW10","v":0},{"$f":"'15'!AW10","v":0},{"$f":"'12'!AW10","v":0},{"$f":"'10'!AW10","v":0}]
[8,{"$f":"'80'!AW11","v":0},{"$f":"'40'!AW11","v":0},{"$f":"'30'!AW11","v":0},{"$f":"'20'!AW11","v":0},{"$f":"'17'!AW11","v":0},{"$f":"'15'!AW11","v":0},{"$f":"'12'!AW11","v":0},{"$f":"'10'!AW11","v":0}]
[9,{"$f":"'80'!AW12","v":0},{"$f":"'40'!AW12","v":0},{"$f":"'30'!AW12","v":0},{"$f":"'20'!AW12","v":0},{"$f":"'17'!AW12","v":0},{"$f":"'15'!AW12","v":0},{"$f":"'12'!AW12","v":0},{"$f":"'10'!AW12","v":0}]
[10,{"$f":"'80'!AW13","v":0},{"$f":"'40'!AW13","v":0},{"$f":"'30'!AW13","v":0},{"$f":"'20'!AW13","v":0},{"$f":"'17'!AW13","v":0},{"$f":"'15'!AW13","v":0},{"$f":"'12'!AW13","v":0},{"$f":"'10'!AW13","v":0}]
[11,{"$f":"'80'!AW14","v":0},{"$f":"'40'!AW14","v":0},{"$f":"'30'!AW14","v":0},{"$f":"'20'!AW14","v":0},{"$f":"'17'!AW14","v":0},{"$f":"'15'!AW14","v":0},{"$f":"'12'!AW14","v":0},{"$f":"'10'!AW14","v":0}]
[12,{"$f":"'80'!AW15","v":0},{"$f":"'40'!AW15","v":0},{"$f":"'30'!AW15","v":0},{"$f":"'20'!AW15","v":0},{"$f":"'17'!AW15","v":0},{"$f":"'15'!AW15","v":0},{"$f":"'12'!AW15","v":0},{"$f":"'10'!AW15","v":0}]
[13,{"$f":"'80'!AW16","v":0},{"$f":"'40'!AW16","v":0},{"$f":"'30'!AW16","v":0},{"$f":"'20'!AW16","v":0},{"$f":"'17'!AW16","v":0},{"$f":"'15'!AW16","v":0},{"$f":"'12'!AW16","v":0},{"$f":"'10'!AW16","v":0}]
[14,{"$f":"'80'!AW17","v":0},{"$f":"'40'!AW17","v":0},{"$f":"'30'!AW17","v":0},{"$f":"'20'!AW17","v":0},{"$f":"'17'!AW17","v":0},{"$f":"'15'!AW17","v":0},{"$f":"'12'!AW17","v":0},{"$f":"'10'!AW17","v":0}]
[15,{"$f":"'80'!AW18","v":0},{"$f":"'40'!AW18","v":0},{"$f":"'30'!AW18","v":0},{"$f":"'20'!AW18","v":0},{"$f":"'17'!AW18","v":0},{"$f":"'15'!AW18","v":0},{"$f":"'12'!AW18","v":0},{"$f":"'10'!AW18","v":0}]
[16,{"$f":"'80'!AW19","v":0},{"$f":"'40'!AW19","v":0},{"$f":"'30'!AW19","v":0},{"$f":"'20'!AW19","v":0},{"$f":"'17'!AW19","v":0},{"$f":"'15'!AW19","v":0},{"$f":"'12'!AW19","v":0},{"$f":"'10'!AW19","v":0}]
[17,{"$f":"'80'!AW20","v":0},{"$f":"'40'!AW20","v":0},{"$f":"'30'!AW20","v":0},{"$f":"'20'!AW20","v":0},{"$f":"'17'!AW20","v":0},{"$f":"'15'!AW20","v":0},{"$f":"'12'!AW20","v":0},{"$f":"'10'!AW20","v":0}]
[18,{"$f":"'80'!AW21","v":0},{"$f":"'40'!AW21","v":0},{"$f":"'30'!AW21","v":0},{"$f":"'20'!AW21","v":0},{"$f":"'17'!AW21","v":0},{"$f":"'15'!AW21","v":0},{"$f":"'12'!AW21","v":0},{"$f":"'10'!AW21","v":0}]
[19,{"$f":"'80'!AW22","v":0},{"$f":"'40'!AW22","v":0},{"$f":"'30'!AW22","v":0},{"$f":"'20'!AW22","v":0},{"$f":"'17'!AW22","v":0},{"$f":"'15'!AW22","v":0},{"$f":"'12'!AW22","v":0},{"$f":"'10'!AW22","v":0}]
[20,{"$f":"'80'!AW23","v":0},{"$f":"'40'!AW23","v":0},{"$f":"'30'!AW23","v":0},{"$f":"'20'!AW23","v":0},{"$f":"'17'!AW23","v":0},{"$f":"'15'!AW23","v":0},{"$f":"'12'!AW23","v":0},{"$f":"'10'!AW23","v":0}]
[21,{"$f":"'80'!AW24","v":0},{"$f":"'40'!AW24","v":0},{"$f":"'30'!AW24","v":0},{"$f":"'20'!AW24","v":0},{"$f":"'17'!AW24","v":0},{"$f":"'15'!AW24","v":0},{"$f":"'12'!AW24","v":0},{"$f":"'10'!AW24","v":0}]
[22,{"$f":"'80'!AW25","v":0},{"$f":"'40'!AW25","v":0},{"$f":"'30'!AW25","v":0},{"$f":"'20'!AW25","v":0},{"$f":"'17'!AW25","v":0},{"$f":"'15'!AW25","v":0},{"$f":"'12'!AW25","v":0},{"$f":"'10'!AW25","v":0}]
[23,{"$f":"'80'!AW26","v":0},{"$f":"'40'!AW26","v":0},{"$f":"'30'!AW26","v":0},{"$f":"'20'!AW26","v":0},{"$f":"'17'!AW26","v":0},{"$f":"'15'!AW26","v":0},{"$f":"'12'!AW26","v":0},{"$f":"'10'!AW26","v":0}]
[24,{"$f":"'80'!AW27","v":0},{"$f":"'40'!AW27","v":0},{"$f":"'30'!AW27","v":0},{"$f":"'20'!AW27","v":0},{"$f":"'17'!AW27","v":0},{"$f":"'15'!AW27","v":0},{"$f":"'12'!AW27","v":0},{"$f":"'10'!AW27","v":0}]

{"sheet":"36 9Q","index":56,"n_rows":25,"n_cols":9,"rows_kept":25}
["UT","80M","40M","30M","20M","17M","15M","12M","10M"]
[1,{"$f":"'80'!AX4","v":0},{"$f":"'40'!AX4","v":0},{"$f":"'30'!AX4","v":0},{"$f":"'20'!AX4","v":0},{"$f":"'17'!AX4","v":0},{"$f":"'15'!AX4","v":0},{"$f":"'12'!AX4","v":0},{"$f":"'10'!AX4","v":0}]
[2,{"$f":"'80'!AX5","v":0},{"$f":"'40'!AX5","v":0},{"$f":"'30'!AX5","v":0},{"$f":"'20'!AX5","v":0},{"$f":"'17'!AX5","v":0},{"$f":"'15'!AX5","v":0},{"$f":"'12'!AX5","v":0},{"$f":"'10'!AX5","v":0}]
[3,{"$f":"'80'!AX6","v":0},{"$f":"'40'!AX6","v":0},{"$f":"'30'!AX6","v":0},{"$f":"'20'!AX6","v":0},{"$f":"'17'!AX6","v":0},{"$f":"'15'!AX6","v":0},{"$f":"'12'!AX6","v":0},{"$f":"'10'!AX6","v":0}]
[4,{"$f":"'80'!AX7","v":0},{"$f":"'40'!AX7","v":0},{"$f":"'30'!AX7","v":0},{"$f":"'20'!AX7","v":0},{"$f":"'17'!AX7","v":0},{"$f":"'15'!AX7","v":0},{"$f":"'12'!AX7","v":0},{"$f":"'10'!AX7","v":0}]
[5,{"$f":"'80'!AX8","v":0},{"$f":"'40'!AX8","v":0},{"$f":"'30'!AX8","v":0},{"$f":"'20'!AX8","v":0},{"$f":"'17'!AX8","v":0},{"$f":"'15'!AX8","v":0},{"$f":"'12'!AX8","v":0},{"$f":"'10'!AX8","v":0}]
[6,{"$f":"'80'!AX9","v":0},{"$f":"'40'!AX9","v":0},{"$f":"'30'!AX9","v":0},{"$f":"'20'!AX9","v":0},{"$f":"'17'!AX9","v":0},{"$f":"'15'!AX9","v":0},{"$f":"'12'!AX9","v":0},{"$f":"'10'!AX9","v":0}]
[7,{"$f":"'80'!AX10","v":0},{"$f":"'40'!AX10","v":0},{"$f":"'30'!AX10","v":0},{"$f":"'20'!AX10","v":0},{"$f":"'17'!AX10","v":0},{"$f":"'15'!AX10","v":0},{"$f":"'12'!AX10","v":0},{"$f":"'10'!AX10","v":0}]
[8,{"$f":"'80'!AX11","v":0},{"$f":"'40'!AX11","v":0},{"$f":"'30'!AX11","v":0},{"$f":"'20'!AX11","v":0},{"$f":"'17'!AX11","v":0},{"$f":"'15'!AX11","v":0},{"$f":"'12'!AX11","v":0},{"$f":"'10'!AX11","v":0}]
[9,{"$f":"'80'!AX12","v":0},{"$f":"'40'!AX12","v":0},{"$f":"'30'!AX12","v":0},{"$f":"'20'!AX12","v":0},{"$f":"'17'!AX12","v":0},{"$f":"'15'!AX12","v":0},{"$f":"'12'!AX12","v":0},{"$f":"'10'!AX12","v":0}]
[10,{"$f":"'80'!AX13","v":0},{"$f":"'40'!AX13","v":0},{"$f":"'30'!AX13","v":0},{"$f":"'20'!AX13","v":0},{"$f":"'17'!AX13","v":0},{"$f":"'15'!AX13","v":0},{"$f":"'12'!AX13","v":0},{"$f":"'10'!AX13","v":0}]
[11,{"$f":"'80'!AX14","v":0},{"$f":"'40'!AX14","v":0},{"$f":"'30'!AX14","v":0},{"$f":"'20'!AX14","v":0},{"$f":"'17'!AX14","v":0},{"$f":"'15'!AX14","v":0},{"$f":"'12'!AX14","v":0},{"$f":"'10'!AX14","v":0}]
[12,{"$f":"'80'!AX15","v":0},{"$f":"'40'!AX15","v":0},{"$f":"'30'!AX15","v":0},{"$f":"'20'!AX15","v":0},{"$f":"'17'!AX15","v":0},{"$f":"'15'!AX15","v":0},{"$f":"'12'!AX15","v":0},{"$f":"'10'!AX15","v":0}]
[13,{"$f":"'80'!AX16","v":0},{"$f":"'40'!AX16","v":0},{"$f":"'30'!AX16","v":0},{"$f":"'20'!AX16","v":0},{"$f":"'17'!AX16","v":0},{"$f":"'15'!AX16","v":0},{"$f":"'12'!AX16","v":0},{"$f":"'10'!AX16","v":0}]
[14,{"$f":"'80'!AX17","v":0},{"$f":"'40'!AX17","v":0},{"$f":"'30'!AX17","v":0},{"$f":"'20'!AX17","v":0},{"$f":"'17'!AX17","v":0},{"$f":"'15'!AX17","v":0},{"$f":"'12'!AX17","v":0},{"$f":"'10'!AX17","v":0}]
[15,{"$f":"'80'!AX18","v":0},{"$f":"'40'!AX18","v":0},{"$f":"'30'!AX18","v":0},{"$f":"'20'!AX18","v":0},{"$f":"'17'!AX18","v":0},{"$f":"'15'!AX18","v":0},{"$f":"'12'!AX18","v":0},{"$f":"'10'!AX18","v":0}]
[16,{"$f":"'80'!AX19","v":0},{"$f":"'40'!AX19","v":0},{"$f":"'30'!AX19","v":0},{"$f":"'20'!AX19","v":0},{"$f":"'17'!AX19","v":0},{"$f":"'15'!AX19","v":0},{"$f":"'12'!AX19","v":0},{"$f":"'10'!AX19","v":0}]
[17,{"$f":"'80'!AX20","v":0},{"$f":"'40'!AX20","v":0},{"$f":"'30'!AX20","v":0},{"$f":"'20'!AX20","v":0},{"$f":"'17'!AX20","v":0},{"$f":"'15'!AX20","v":0},{"$f":"'12'!AX20","v":0},{"$f":"'10'!AX20","v":0}]
[18,{"$f":"'80'!AX21","v":0},{"$f":"'40'!AX21","v":0},{"$f":"'30'!AX21","v":0},{"$f":"'20'!AX21","v":0},{"$f":"'17'!AX21","v":0},{"$f":"'15'!AX21","v":0},{"$f":"'12'!AX21","v":0},{"$f":"'10'!AX21","v":0}]
[19,{"$f":"'80'!AX22","v":0},{"$f":"'40'!AX22","v":0},{"$f":"'30'!AX22","v":0},{"$f":"'20'!AX22","v":0},{"$f":"'17'!AX22","v":0},{"$f":"'15'!AX22","v":0},{"$f":"'12'!AX22","v":0},{"$f":"'10'!AX22","v":0}]
[20,{"$f":"'80'!AX23","v":0},{"$f":"'40'!AX23","v":0},{"$f":"'30'!AX23","v":0},{"$f":"'20'!AX23","v":0},{"$f":"'17'!AX23","v":0},{"$f":"'15'!AX23","v":0},{"$f":"'12'!AX23","v":0},{"$f":"'10'!AX23","v":0}]
[21,{"$f":"'80'!AX24","v":0},{"$f":"'40'!AX24","v":0},{"$f":"'30'!AX24","v":0},{"$f":"'20'!AX24","v":0},{"$f":"'17'!AX24","v":0},{"$f":"'15'!AX24","v":0},{"$f":"'12'!AX24","v":0},{"$f":"'10'!AX24","v":0}]
[22,{"$f":"'80'!AX25","v":0},{"$f":"'40'!AX25","v":0},{"$f":"'30'!AX25","v":0},{"$f":"'20'!AX25","v":0},{"$f":"'17'!AX25","v":0},{"$f":"'15'!AX25","v":0},{"$f":"'12'!AX25","v":0},{"$f":"'10'!AX25","v":0}]
[23,{"$f":"'80'!AX26","v":0},{"$f":"'40'!AX26","v":0},{"$f":"'30'!AX26","v":0},{"$f":"'20'!AX26","v":0},{"$f":"'17'!AX26","v":0},{"$f":"'15'!AX26","v":0},{"$f":"'12'!AX26","v":0},{"$f":"'10'!AX26","v":0}]
[24,{"$f":"'80'!AX27","v":0},{"$f":"'40'!AX27","v":0},{"$f":"'30'!AX27","v":0},{"$f":"'20'!AX27","v":0},{"$f":"'17'!AX27","v":0},{"$f":"'15'!AX27","v":0},{"$f":"'12'!AX27","v":0},{"$f":"'10'!AX27","v":0}]

{"sheet":"36 ZD8","index":57,"n_rows":25,"n_cols":9,"rows_kept":25}
["UT","80M","40M","30M","20M","17M","15M","12M","10M"]
[1,{"$f":"'80'!AY4","v":0},{"$f":"'40'!AY4","v":0},{"$f":"'30'!AY4","v":0},{"$f":"'20'!AY4","v":0},{"$f":"'17'!AY4","v":0},{"$f":"'15'!AY4","v":0},{"$f":"'12'!AY4","v":0},{"$f":"'10'!AY4","v":0}]
[2,{"$f":"'80'!AY5","v":0},{"$f":"'40'!AY5","v":0},{"$f":"'30'!AY5","v":0},{"$f":"'20'!AY5","v":0},{"$f":"'17'!AY5","v":0},{"$f":"'15'!AY5","v":0},{"$f":"'12'!AY5","v":0},{"$f":"'10'!AY5","v":0}]
[3,{"$f":"'80'!AY6","v":0},{"$f":"'40'!AY6","v":0},{"$f":"'30'!AY6","v":0},{"$f":"'20'!AY6","v":0},{"$f":"'17'!AY6","v":0},{"$f":"'15'!AY6","v":0},{"$f":"'12'!AY6","v":0},{"$f":"'10'!AY6","v":0}]
[4,{"$f":"'80'!AY7","v":0},{"$f":"'40'!AY7","v":0},{"$f":"'30'!AY7","v":0},{"$f":"'20'!AY7","v":0},{"$f":"'17'!AY7","v":0},{"$f":"'15'!AY7","v":0},{"$f":"'12'!AY7","v":0},{"$f":"'10'!AY7","v":0}]
[5,{"$f":"'80'!AY8","v":0},{"$f":"'40'!AY8","v":0},{"$f":"'30'!AY8","v":0},{"$f":"'20'!AY8","v":0},{"$f":"'17'!AY8","v":0},{"$f":"'15'!AY8","v":0},{"$f":"'12'!AY8","v":0},{"$f":"'10'!AY8","v":0}]
[6,{"$f":"'80'!AY9","v":0},{"$f":"'40'!AY9","v":0},{"$f":"'30'!AY9","v":0},{"$f":"'20'!AY9","v":0},{"$f":"'17'!AY9","v":0},{"$f":"'15'!AY9","v":0},{"$f":"'12'!AY9","v":0},{"$f":"'10'!AY9","v":0}]
[7,{"$f":"'80'!AY10","v":0},{"$f":"'40'!AY10","v":0},{"$f":"'30'!AY10","v":0},{"$f":"'20'!AY10","v":0},{"$f":"'17'!AY10","v":0},{"$f":"'15'!AY10","v":0},{"$f":"'12'!AY10","v":0},{"$f":"'10'!AY10","v":0}]
[8,{"$f":"'80'!AY11","v":0},{"$f":"'40'!AY11","v":0},{"$f":"'30'!AY11","v":0},{"$f":"'20'!AY11","v":0},{"$f":"'17'!AY11","v":0},{"$f":"'15'!AY11","v":0},{"$f":"'12'!AY11","v":0},{"$f":"'10'!AY11","v":0}]
[9,{"$f":"'80'!AY12","v":0},{"$f":"'40'!AY12","v":0},{"$f":"'30'!AY12","v":0},{"$f":"'20'!AY12","v":0},{"$f":"'17'!AY12","v":0},{"$f":"'15'!AY12","v":0},{"$f":"'12'!AY12","v":0},{"$f":"'10'!AY12","v":0}]
[10,{"$f":"'80'!AY13","v":0},{"$f":"'40'!AY13","v":0},{"$f":"'30'!AY13","v":0},{"$f":"'20'!AY13","v":0},{"$f":"'17'!AY13","v":0},{"$f":"'15'!AY13","v":0},{"$f":"'12'!AY13","v":0},{"$f":"'10'!AY13","v":0}]
[11,{"$f":"'80'!AY14","v":0},{"$f":"'40'!AY14","v":0},{"$f":"'30'!AY14","v":0},{"$f":"'20'!AY14","v":0},{"$f":"'17'!AY14","v":0},{"$f":"'15'!AY14","v":0},{"$f":"'12'!AY14","v":0},{"$f":"'10'!AY14","v":0}]
[12,{"$f":"'80'!AY15","v":0},{"$f":"'40'!AY15","v":0},{"$f":"'30'!AY15","v":0},{"$f":"'20'!AY15","v":0},{"$f":"'17'!AY15","v":0},{"$f":"'15'!AY15","v":0},{"$f":"'12'!AY15","v":0},{"$f":"'10'!AY15","v":0}]
[13,{"$f":"'80'!AY16","v":0},{"$f":"'40'!AY16","v":0},{"$f":"'30'!AY16","v":0},{"$f":"'20'!AY16","v":0},{"$f":"'17'!AY16","v":0},{"$f":"'15'!AY16","v":0},{"$f":"'12'!AY16","v":0},{"$f":"'10'!AY16","v":0}]
[14,{"$f":"'80'!AY17","v":0},{"$f":"'40'!AY17","v":0},{"$f":"'30'!AY17","v":0},{"$f":"'20'!AY17","v":0},{"$f":"'17'!AY17","v":0},{"$f":"'15'!AY17","v":0},{"$f":"'12'!AY17","v":0},{"$f":"'10'!AY17","v":0}]
[15,{"$f":"'80'!AY18","v":0},{"$f":"'40'!AY18","v":0},{"$f":"'30'!AY18","v":0},{"$f":"'20'!AY18","v":0},{"$f":"'17'!AY18","v":0},{"$f":"'15'!AY18","v":0},{"$f":"'12'!AY18","v":0},{"$f":"'10'!AY18","v":0}]
[16,{"$f":"'80'!AY19","v":0},{"$f":"'40'!AY19","v":0},{"$f":"'30'!AY19","v":0},{"$f":"'20'!AY19","v":0},{"$f":"'17'!AY19","v":0},{"$f":"'15'!AY19","v":0},{"$f":"'12'!AY19","v":0},{"$f":"'10'!AY19","v":0}]
[17,{"$f":"'80'!AY20","v":0},{"$f":"'40'!AY20","v":0},{"$f":"'30'!AY20","v":0},{"$f":"'20'!AY20","v":0},{"$f":"'17'!AY20","v":0},{"$f":"'15'!AY20","v":0},{"$f":"'12'!AY20","v":0},{"$f":"'10'!AY20","v":0}]
[18,{"$f":"'80'!AY21","v":0},{"$f":"'40'!AY21","v":0},{"$f":"'30'!AY21","v":0},{"$f":"'20'!AY21","v":0},{"$f":"'17'!AY21","v":0},{"$f":"'15'!AY21","v":0},{"$f":"'12'!AY21","v":0},{"$f":"'10'!AY21","v":0}]
[19,{"$f":"'80'!AY22","v":0},{"$f":"'40'!AY22","v":0},{"$f":"'30'!AY22","v":0},{"$f":"'20'!AY22","v":0},{"$f":"'17'!AY22","v":0},{"$f":"'15'!AY22","v":0},{"$f":"'12'!AY22","v":0},{"$f":"'10'!AY22","v":0}]
[20,{"$f":"'80'!AY23","v":0},{"$f":"'40'!AY23","v":0},{"$f":"'30'!AY23","v":0},{"$f":"'20'!AY23","v":0},{"$f":"'17'!AY23","v":0},{"$f":"'15'!AY23","v":0},{"$f":"'12'!AY23","v":0},{"$f":"'10'!AY23","v":0}]
[21,{"$f":"'80'!AY24","v":0},{"$f":"'40'!AY24","v":0},{"$f":"'30'!AY24","v":0},{"$f":"'20'!AY24","v":0},{"$f":"'17'!AY24","v":0},{"$f":"'15'!AY24","v":0},{"$f":"'12'!AY24","v":0},{"$f":"'10'!AY24","v":0}]
[22,{"$f":"'80'!AY25","v":0},{"$f":"'40'!AY25","v":0},{"$f":"'30'!AY25","v":0},{"$f":"'20'!AY25","v":0},{"$f":"'17'!AY25","v":0},{"$f":"'15'!AY25","v":0},{"$f":"'12'!AY25","v":0},{"$f":"'10'!AY25","v":0}]
[23,{"$f":"'80'!AY26","v":0},{"$f":"'40'!AY26","v":0},{"$f":"'30'!AY26","v":0},{"$f":"'20'!AY26","v":0},{"$f":"'17'!AY26","v":0},{"$f":"'15'!AY26","v":0},{"$f":"'12'!AY26","v":0},{"$f":"'10'!AY26","v":0}]
[24,{"$f":"'80'!AY27","v":0},{"$f":"'40'!AY27","v":0},{"$f":"'30'!AY27","v":0},{"$f":"'20'!AY27","v":0},{"$f":"'17'!AY27","v":0},{"$f":"'15'!AY27","v":0},{"$f":"'12'!AY27","v":0},{"$f":"'10'!AY27","v":0}]

{"sheet":"37 5Z","index":58,"n_rows":25,"n_cols":9,"rows_kept":25}
["UT","80M","40M","30M","20M","17M","15M","12M","10M"]
[1,{"$f":"'80'!AZ4","v":0},{"$f":"'40'!AZ4","v":0},{"$f":"'30'!AZ4","v":0},{"$f":"'20'!AZ4","v":0},{"$f":"'17'!AZ4","v":0},{"$f":"'15'!AZ4","v":0},{"$f":"'12'!AZ4","v":0},{"$f":"'10'!AZ4","v":0}]
[2,{"$f":"'80'!AZ5","v":0},{"$f":"'40'!AZ5","v":0},{"$f":"'30'!AZ5","v":0},{"$f":"'20'!AZ5","v":0},{"$f":"'17'!AZ5","v":0},{"$f":"'15'!AZ5","v":0},{"$f":"'12'!AZ5","v":0},{"$f":"'10'!AZ5","v":0}]
[3,{"$f":"'80'!AZ6","v":0},{"$f":"'40'!AZ6","v":0},{"$f":"'30'!AZ6","v":0},{"$f":"'20'!AZ6","v":0},{"$f":"'17'!AZ6","v":0},{"$f":"'15'!AZ6","v":0},{"$f":"'12'!AZ6","v":0},{"$f":"'10'!AZ6","v":0}]
[4,{"$f":"'80'!AZ7","v":0},{"$f":"'40'!AZ7","v":0},{"$f":"'30'!AZ7","v":0},{"$f":"'20'!AZ7","v":0},{"$f":"'17'!AZ7","v":0},{"$f":"'15'!AZ7","v":0},{"$f":"'12'!AZ7","v":0},{"$f":"'10'!AZ7","v":0}]
[5,{"$f":"'80'!AZ8","v":0},{"$f":"'40'!AZ8","v":0},{"$f":"'30'!AZ8","v":0},{"$f":"'20'!AZ8","v":0},{"$f":"'17'!AZ8","v":0},{"$f":"'15'!AZ8","v":0},{"$f":"'12'!AZ8","v":0},{"$f":"'10'!AZ8","v":0}]
[6,{"$f":"'80'!AZ9","v":0},{"$f":"'40'!AZ9","v":0},{"$f":"'30'!AZ9","v":0},{"$f":"'20'!AZ9","v":0},{"$f":"'17'!AZ9","v":0},{"$f":"'15'!AZ9","v":0},{"$f":"'12'!AZ9","v":0},{"$f":"'10'!AZ9","v":0}]
[7,{"$f":"'80'!AZ10","v":0},{"$f":"'40'!AZ10","v":0},{"$f":"'30'!AZ10","v":0},{"$f":"'20'!AZ10","v":0},{"$f":"'17'!AZ10","v":0},{"$f":"'15'!AZ10","v":0},{"$f":"'12'!AZ10","v":0},{"$f":"'10'!AZ10","v":0}]
[8,{"$f":"'80'!AZ11","v":0},{"$f":"'40'!AZ11","v":0},{"$f":"'30'!AZ11","v":0},{"$f":"'20'!AZ11","v":0},{"$f":"'17'!AZ11","v":0},{"$f":"'15'!AZ11","v":0},{"$f":"'12'!AZ11","v":0},{"$f":"'10'!AZ11","v":0}]
[9,{"$f":"'80'!AZ12","v":0},{"$f":"'40'!AZ12","v":0},{"$f":"'30'!AZ12","v":0},{"$f":"'20'!AZ12","v":0},{"$f":"'17'!AZ12","v":0},{"$f":"'15'!AZ12","v":0},{"$f":"'12'!AZ12","v":0},{"$f":"'10'!AZ12","v":0}]
[10,{"$f":"'80'!AZ13","v":0},{"$f":"'40'!AZ13","v":0},{"$f":"'30'!AZ13","v":0},{"$f":"'20'!AZ13","v":0},{"$f":"'17'!AZ13","v":0},{"$f":"'15'!AZ13","v":0},{"$f":"'12'!AZ13","v":0},{"$f":"'10'!AZ13","v":0}]
[11,{"$f":"'80'!AZ14","v":0},{"$f":"'40'!AZ14","v":0},{"$f":"'30'!AZ14","v":0},{"$f":"'20'!AZ14","v":0},{"$f":"'17'!AZ14","v":0},{"$f":"'15'!AZ14","v":0},{"$f":"'12'!AZ14","v":0},{"$f":"'10'!AZ14","v":0}]
[12,{"$f":"'80'!AZ15","v":0},{"$f":"'40'!AZ15","v":0},{"$f":"'30'!AZ15","v":0},{"$f":"'20'!AZ15","v":0},{"$f":"'17'!AZ15","v":0},{"$f":"'15'!AZ15","v":0},{"$f":"'12'!AZ15","v":0},{"$f":"'10'!AZ15","v":0}]
[13,{"$f":"'80'!AZ16","v":0},{"$f":"'40'!AZ16","v":0},{"$f":"'30'!AZ16","v":0},{"$f":"'20'!AZ16","v":0},{"$f":"'17'!AZ16","v":0},{"$f":"'15'!AZ16","v":0},{"$f":"'12'!AZ16","v":0},{"$f":"'10'!AZ16","v":0}]
[14,{"$f":"'80'!AZ17","v":0},{"$f":"'40'!AZ17","v":0},{"$f":"'30'!AZ17","v":0},{"$f":"'20'!AZ17","v":0},{"$f":"'17'!AZ17","v":0},{"$f":"'15'!AZ17","v":0},{"$f":"'12'!AZ17","v":0},{"$f":"'10'!AZ17","v":0}]
[15,{"$f":"'80'!AZ18","v":0},{"$f":"'40'!AZ18","v":0},{"$f":"'30'!AZ18","v":0},{"$f":"'20'!AZ18","v":0},{"$f":"'17'!AZ18","v":0},{"$f":"'15'!AZ18","v":0},{"$f":"'12'!AZ18","v":0},{"$f":"'10'!AZ18","v":0}]
[16,{"$f":"'80'!AZ19","v":0},{"$f":"'40'!AZ19","v":0},{"$f":"'30'!AZ19","v":0},{"$f":"'20'!AZ19","v":0},{"$f":"'17'!AZ19","v":0},{"$f":"'15'!AZ19","v":0},{"$f":"'12'!AZ19","v":0},{"$f":"'10'!AZ19","v":0}]
[17,{"$f":"'80'!AZ20","v":0},{"$f":"'40'!AZ20","v":0},{"$f":"'30'!AZ20","v":0},{"$f":"'20'!AZ20","v":0},{"$f":"'17'!AZ20","v":0},{"$f":"'15'!AZ20","v":0},{"$f":"'12'!AZ20","v":0},{"$f":"'10'!AZ20","v":0}]
[18,{"$f":"'80'!AZ21","v":0},{"$f":"'40'!AZ21","v":0},{"$f":"'30'!AZ21","v":0},{"$f":"'20'!AZ21","v":0},{"$f":"'17'!AZ21","v":0},{"$f":"'15'!AZ21","v":0},{"$f":"'12'!AZ21","v":0},{"$f":"'10'!AZ21","v":0}]
[19,{"$f":"'80'!AZ22","v":0},{"$f":"'40'!AZ22","v":0},{"$f":"'30'!AZ22","v":0},{"$f":"'20'!AZ22","v":0},{"$f":"'17'!AZ22","v":0},{"$f":"'15'!AZ22","v":0},{"$f":"'12'!AZ22","v":0},{"$f":"'10'!AZ22","v":0}]
[20,{"$f":"'80'!AZ23","v":0},{"$f":"'40'!AZ23","v":0},{"$f":"'30'!AZ23","v":0},{"$f":"'20'!AZ23","v":0},{"$f":"'17'!AZ23","v":0},{"$f":"'15'!AZ23","v":0},{"$f":"'12'!AZ23","v":0},{"$f":"'10'!AZ23","v":0}]
[21,{"$f":"'80'!AZ24","v":0},{"$f":"'40'!AZ24","v":0},{"$f":"'30'!AZ24","v":0},{"$f":"'20'!AZ24","v":0},{"$f":"'17'!AZ24","v":0},{"$f":"'15'!AZ24","v":0},{"$f":"'12'!AZ24","v":0},{"$f":"'10'!AZ24","v":0}]
[22,{"$f":"'80'!AZ25","v":0},{"$f":"'40'!AZ25","v":0},{"$f":"'30'!AZ25","v":0},{"$f":"'20'!AZ25","v":0},{"$f":"'17'!AZ25","v":0},{"$f":"'15'!AZ25","v":0},{"$f":"'12'!AZ25","v":0},{"$f":"'10'!AZ25","v":0}]
[23,{"$f":"'80'!AZ26","v":0},{"$f":"'40'!AZ26","v":0},{"$f":"'30'!AZ26","v":0},{"$f":"'20'!AZ26","v":0},{"$f":"'17'!AZ26","v":0},{"$f":"'15'!AZ26","v":0},{"$f":"'12'!AZ26","v":0},{"$f":"'10'!AZ26","v":0}]
[24,{"$f":"'80'!AZ27","v":0},{"$f":"'40'!AZ27","v":0},{"$f":"'30'!AZ27","v":0},{"$f":"'20'!AZ27","v":0},{"$f":"'17'!AZ27","v":0},{"$f":"'15'!AZ27","v":0},{"$f":"'12'!AZ27","v":0},{"$f":"'10'!AZ27","v":0}]

{"sheet":"38 ZS6","index":59,"n_rows":25,"n_cols":9,"rows_kept":25}
["UT","80M","40M","30M","20M","17M","15M","12M","10M"]
[1,{"$f":"'80'!BA4","v":0},{"$f":"'40'!BA4","v":0},{"$f":"'30'!BA4","v":0},{"$f":"'20'!BA4","v":0},{"$f":"'17'!BA4","v":0},{"$f":"'15'!BA4","v":0},{"$f":"'12'!BA4","v":0},{"$f":"'10'!BA4","v":0}]
[2,{"$f":"'80'!BA5","v":0},{"$f":"'40'!BA5","v":0},{"$f":"'30'!BA5","v":0},{"$f":"'20'!BA5","v":0},{"$f":"'17'!BA5","v":0},{"$f":"'15'!BA5","v":0},{"$f":"'12'!BA5","v":0},{"$f":"'10'!BA5","v":0}]
[3,{"$f":"'80'!BA6","v":0},{"$f":"'40'!BA6","v":0},{"$f":"'30'!BA6","v":0},{"$f":"'20'!BA6","v":0},{"$f":"'17'!BA6","v":0},{"$f":"'15'!BA6","v":0},{"$f":"'12'!BA6","v":0},{"$f":"'10'!BA6","v":0}]
[4,{"$f":"'80'!BA7","v":0},{"$f":"'40'!BA7","v":0},{"$f":"'30'!BA7","v":0},{"$f":"'20'!BA7","v":0},{"$f":"'17'!BA7","v":0},{"$f":"'15'!BA7","v":0},{"$f":"'12'!BA7","v":0},{"$f":"'10'!BA7","v":0}]
[5,{"$f":"'80'!BA8","v":0},{"$f":"'40'!BA8","v":0},{"$f":"'30'!BA8","v":0},{"$f":"'20'!BA8","v":0},{"$f":"'17'!BA8","v":0},{"$f":"'15'!BA8","v":0},{"$f":"'12'!BA8","v":0},{"$f":"'10'!BA8","v":0}]
[6,{"$f":"'80'!BA9","v":0},{"$f":"'40'!BA9","v":0},{"$f":"'30'!BA9","v":0},{"$f":"'20'!BA9","v":0},{"$f":"'17'!BA9","v":0},{"$f":"'15'!BA9","v":0},{"$f":"'12'!BA9","v":0},{"$f":"'10'!BA9","v":0}]
[7,{"$f":"'80'!BA10","v":0},{"$f":"'40'!BA10","v":0},{"$f":"'30'!BA10","v":0},{"$f":"'20'!BA10","v":0},{"$f":"'17'!BA10","v":0},{"$f":"'15'!BA10","v":0},{"$f":"'12'!BA10","v":0},{"$f":"'10'!BA10","v":0}]
[8,{"$f":"'80'!BA11","v":0},{"$f":"'40'!BA11","v":0},{"$f":"'30'!BA11","v":0},{"$f":"'20'!BA11","v":0},{"$f":"'17'!BA11","v":0},{"$f":"'15'!BA11","v":0},{"$f":"'12'!BA11","v":0},{"$f":"'10'!BA11","v":0}]
[9,{"$f":"'80'!BA12","v":0},{"$f":"'40'!BA12","v":0},{"$f":"'30'!BA12","v":0},{"$f":"'20'!BA12","v":0},{"$f":"'17'!BA12","v":0},{"$f":"'15'!BA12","v":0},{"$f":"'12'!BA12","v":0},{"$f":"'10'!BA12","v":0}]
[10,{"$f":"'80'!BA13","v":0},{"$f":"'40'!BA13","v":0},{"$f":"'30'!BA13","v":0},{"$f":"'20'!BA13","v":0},{"$f":"'17'!BA13","v":0},{"$f":"'15'!BA13","v":0},{"$f":"'12'!BA13","v":0},{"$f":"'10'!BA13","v":0}]
[11,{"$f":"'80'!BA14","v":0},{"$f":"'40'!BA14","v":0},{"$f":"'30'!BA14","v":0},{"$f":"'20'!BA14","v":0},{"$f":"'17'!BA14","v":0},{"$f":"'15'!BA14","v":0},{"$f":"'12'!BA14","v":0},{"$f":"'10'!BA14","v":0}]
[12,{"$f":"'80'!BA15","v":0},{"$f":"'40'!BA15","v":0},{"$f":"'30'!BA15","v":0},{"$f":"'20'!BA15","v":0},{"$f":"'17'!BA15","v":0},{"$f":"'15'!BA15","v":0},{"$f":"'12'!BA15","v":0},{"$f":"'10'!BA15","v":0}]
[13,{"$f":"'80'!BA16","v":0},{"$f":"'40'!BA16","v":0},{"$f":"'30'!BA16","v":0},{"$f":"'20'!BA16","v":0},{"$f":"'17'!BA16","v":0},{"$f":"'15'!BA16","v":0},{"$f":"'12'!BA16","v":0},{"$f":"'10'!BA16","v":0}]
[14,{"$f":"'80'!BA17","v":0},{"$f":"'40'!BA17","v":0},{"$f":"'30'!BA17","v":0},{"$f":"'20'!BA17","v":0},{"$f":"'17'!BA17","v":0},{"$f":"'15'!BA17","v":0},{"$f":"'12'!BA17","v":0},{"$f":"'10'!BA17","v":0}]
[15,{"$f":"'80'!BA18","v":0},{"$f":"'40'!BA18","v":0},{"$f":"'30'!BA18","v":0},{"$f":"'20'!BA18","v":0},{"$f":"'17'!BA18","v":0},{"$f":"'15'!BA18","v":0},{"$f":"'12'!BA18","v":0},{"$f":"'10'!BA18","v":0}]
[16,{"$f":"'80'!BA19","v":0},{"$f":"'40'!BA19","v":0},{"$f":"'30'!BA19","v":0},{"$f":"'20'!BA19","v":0},{"$f":"'17'!BA19","v":0},{"$f":"'15'!BA19","v":0},{"$f":"'12'!BA19","v":0},{"$f":"'10'!BA19","v":0}]
[17,{"$f":"'80'!BA20","v":0},{"$f":"'40'!BA20","v":0},{"$f":"'30'!BA20","v":0},{"$f":"'20'!BA20","v":0},{"$f":"'17'!BA20","v":0},{"$f":"'15'!BA20","v":0},{"$f":"'12'!BA20","v":0},{"$f":"'10'!BA20","v":0}]
[18,{"$f":"'80'!BA21","v":0},{"$f":"'40'!BA21","v":0},{"$f":"'30'!BA21","v":0},{"$f":"'20'!BA21","v":0},{"$f":"'17'!BA21","v":0},{"$f":"'15'!BA21","v":0},{"$f":"'12'!BA21","v":0},{"$f":"'10'!BA21","v":0}]
[19,{"$f":"'80'!BA22","v":0},{"$f":"'40'!BA22","v":0},{"$f":"'30'!BA22","v":0},{"$f":"'20'!BA22","v":0},{"$f":"'17'!BA22","v":0},{"$f":"'15'!BA22","v":0},{"$f":"'12'!BA22","v":0},{"$f":"'10'!BA22","v":0}]
[20,{"$f":"'80'!BA23","v":0},{"$f":"'40'!BA23","v":0},{"$f":"'30'!BA23","v":0},{"$f":"'20'!BA23","v":0},{"$f":"'17'!BA23","v":0},{"$f":"'15'!BA23","v":0},{"$f":"'12'!BA23","v":0},{"$f":"'10'!BA23","v":0}]
[21,{"$f":"'80'!BA24","v":0},{"$f":"'40'!BA24","v":0},{"$f":"'30'!BA24","v":0},{"$f":"'20'!BA24","v":0},{"$f":"'17'!BA24","v":0},{"$f":"'15'!BA24","v":0},{"$f":"'12'!BA24","v":0},{"$f":"'10'!BA24","v":0}]
[22,{"$f":"'80'!BA25","v":0},{"$f":"'40'!BA25","v":0},{"$f":"'30'!BA25","v":0},{"$f":"'20'!BA25","v":0},{"$f":"'17'!BA25","v":0},{"$f":"'15'!BA25","v":0},{"$f":"'12'!BA25","v":0},{"$f":"'10'!BA25","v":0}]
[23,{"$f":"'80'!BA26","v":0},{"$f":"'40'!BA26","v":0},{"$f":"'30'!BA26","v":0},{"$f":"'20'!BA26","v":0},{"$f":"'17'!BA26","v":0},{"$f":"'15'!BA26","v":0},{"$f":"'12'!BA26","v":0},{"$f":"'10'!BA26","v":0}]
[24,{"$f":"'80'!BA27","v":0},{"$f":"'40'!BA27","v":0},{"$f":"'30'!BA27","v":0},{"$f":"'20'!BA27","v":0},{"$f":"'17'!BA27","v":0},{"$f":"'15'!BA27","v":0},{"$f":"'12'!BA27","v":0},{"$f":"'10'!BA27","v":0}]

{"sheet":"39 5R","index":60,"n_rows":25,"n_cols":9,"rows_kept":25}
["UT","80M","40M","30M","20M","17M","15M","12M","10M"]
[1,{"$f":"'80'!BB4","v":0},{"$f":"'40'!BB4","v":0},{"$f":"'30'!BB4","v":0},{"$f":"'20'!BB4","v":0},{"$f":"'17'!BB4","v":0},{"$f":"'15'!BB4","v":0},{"$f":"'12'!BB4","v":0},{"$f":"'10'!BB4","v":0}]
[2,{"$f":"'80'!BB5","v":0},{"$f":"'40'!BB5","v":0},{"$f":"'30'!BB5","v":0},{"$f":"'20'!BB5","v":0},{"$f":"'17'!BB5","v":0},{"$f":"'15'!BB5","v":0},{"$f":"'12'!BB5","v":0},{"$f":"'10'!BB5","v":0}]
[3,{"$f":"'80'!BB6","v":0},{"$f":"'40'!BB6","v":0},{"$f":"'30'!BB6","v":0},{"$f":"'20'!BB6","v":0},{"$f":"'17'!BB6","v":0},{"$f":"'15'!BB6","v":0},{"$f":"'12'!BB6","v":0},{"$f":"'10'!BB6","v":0}]
[4,{"$f":"'80'!BB7","v":0},{"$f":"'40'!BB7","v":0},{"$f":"'30'!BB7","v":0},{"$f":"'20'!BB7","v":0},{"$f":"'17'!BB7","v":0},{"$f":"'15'!BB7","v":0},{"$f":"'12'!BB7","v":0},{"$f":"'10'!BB7","v":0}]
[5,{"$f":"'80'!BB8","v":0},{"$f":"'40'!BB8","v":0},{"$f":"'30'!BB8","v":0},{"$f":"'20'!BB8","v":0},{"$f":"'17'!BB8","v":0},{"$f":"'15'!BB8","v":0},{"$f":"'12'!BB8","v":0},{"$f":"'10'!BB8","v":0}]
[6,{"$f":"'80'!BB9","v":0},{"$f":"'40'!BB9","v":0},{"$f":"'30'!BB9","v":0},{"$f":"'20'!BB9","v":0},{"$f":"'17'!BB9","v":0},{"$f":"'15'!BB9","v":0},{"$f":"'12'!BB9","v":0},{"$f":"'10'!BB9","v":0}]
[7,{"$f":"'80'!BB10","v":0},{"$f":"'40'!BB10","v":0},{"$f":"'30'!BB10","v":0},{"$f":"'20'!BB10","v":0},{"$f":"'17'!BB10","v":0},{"$f":"'15'!BB10","v":0},{"$f":"'12'!BB10","v":0},{"$f":"'10'!BB10","v":0}]
[8,{"$f":"'80'!BB11","v":0},{"$f":"'40'!BB11","v":0},{"$f":"'30'!BB11","v":0},{"$f":"'20'!BB11","v":0},{"$f":"'17'!BB11","v":0},{"$f":"'15'!BB11","v":0},{"$f":"'12'!BB11","v":0},{"$f":"'10'!BB11","v":0}]
[9,{"$f":"'80'!BB12","v":0},{"$f":"'40'!BB12","v":0},{"$f":"'30'!BB12","v":0},{"$f":"'20'!BB12","v":0},{"$f":"'17'!BB12","v":0},{"$f":"'15'!BB12","v":0},{"$f":"'12'!BB12","v":0},{"$f":"'10'!BB12","v":0}]
[10,{"$f":"'80'!BB13","v":0},{"$f":"'40'!BB13","v":0},{"$f":"'30'!BB13","v":0},{"$f":"'20'!BB13","v":0},{"$f":"'17'!BB13","v":0},{"$f":"'15'!BB13","v":0},{"$f":"'12'!BB13","v":0},{"$f":"'10'!BB13","v":0}]
[11,{"$f":"'80'!BB14","v":0},{"$f":"'40'!BB14","v":0},{"$f":"'30'!BB14","v":0},{"$f":"'20'!BB14","v":0},{"$f":"'17'!BB14","v":0},{"$f":"'15'!BB14","v":0},{"$f":"'12'!BB14","v":0},{"$f":"'10'!BB14","v":0}]
[12,{"$f":"'80'!BB15","v":0},{"$f":"'40'!BB15","v":0},{"$f":"'30'!BB15","v":0},{"$f":"'20'!BB15","v":0},{"$f":"'17'!BB15","v":0},{"$f":"'15'!BB15","v":0},{"$f":"'12'!BB15","v":0},{"$f":"'10'!BB15","v":0}]
[13,{"$f":"'80'!BB16","v":0},{"$f":"'40'!BB16","v":0},{"$f":"'30'!BB16","v":0},{"$f":"'20'!BB16","v":0},{"$f":"'17'!BB16","v":0},{"$f":"'15'!BB16","v":0},{"$f":"'12'!BB16","v":0},{"$f":"'10'!BB16","v":0}]
[14,{"$f":"'80'!BB17","v":0},{"$f":"'40'!BB17","v":0},{"$f":"'30'!BB17","v":0},{"$f":"'20'!BB17","v":0},{"$f":"'17'!BB17","v":0},{"$f":"'15'!BB17","v":0},{"$f":"'12'!BB17","v":0},{"$f":"'10'!BB17","v":0}]
[15,{"$f":"'80'!BB18","v":0},{"$f":"'40'!BB18","v":0},{"$f":"'30'!BB18","v":0},{"$f":"'20'!BB18","v":0},{"$f":"'17'!BB18","v":0},{"$f":"'15'!BB18","v":0},{"$f":"'12'!BB18","v":0},{"$f":"'10'!BB18","v":0}]
[16,{"$f":"'80'!BB19","v":0},{"$f":"'40'!BB19","v":0},{"$f":"'30'!BB19","v":0},{"$f":"'20'!BB19","v":0},{"$f":"'17'!BB19","v":0},{"$f":"'15'!BB19","v":0},{"$f":"'12'!BB19","v":0},{"$f":"'10'!BB19","v":0}]
[17,{"$f":"'80'!BB20","v":0},{"$f":"'40'!BB20","v":0},{"$f":"'30'!BB20","v":0},{"$f":"'20'!BB20","v":0},{"$f":"'17'!BB20","v":0},{"$f":"'15'!BB20","v":0},{"$f":"'12'!BB20","v":0},{"$f":"'10'!BB20","v":0}]
[18,{"$f":"'80'!BB21","v":0},{"$f":"'40'!BB21","v":0},{"$f":"'30'!BB21","v":0},{"$f":"'20'!BB21","v":0},{"$f":"'17'!BB21","v":0},{"$f":"'15'!BB21","v":0},{"$f":"'12'!BB21","v":0},{"$f":"'10'!BB21","v":0}]
[19,{"$f":"'80'!BB22","v":0},{"$f":"'40'!BB22","v":0},{"$f":"'30'!BB22","v":0},{"$f":"'20'!BB22","v":0},{"$f":"'17'!BB22","v":0},{"$f":"'15'!BB22","v":0},{"$f":"'12'!BB22","v":0},{"$f":"'10'!BB22","v":0}]
[20,{"$f":"'80'!BB23","v":0},{"$f":"'40'!BB23","v":0},{"$f":"'30'!BB23","v":0},{"$f":"'20'!BB23","v":0},{"$f":"'17'!BB23","v":0},{"$f":"'15'!BB23","v":0},{"$f":"'12'!BB23","v":0},{"$f":"'10'!BB23","v":0}]
[21,{"$f":"'80'!BB24","v":0},{"$f":"'40'!BB24","v":0},{"$f":"'30'!BB24","v":0},{"$f":"'20'!BB24","v":0},{"$f":"'17'!BB24","v":0},{"$f":"'15'!BB24","v":0},{"$f":"'12'!BB24","v":0},{"$f":"'10'!BB24","v":0}]
[22,{"$f":"'80'!BB25","v":0},{"$f":"'40'!BB25","v":0},{"$f":"'30'!BB25","v":0},{"$f":"'20'!BB25","v":0},{"$f":"'17'!BB25","v":0},{"$f":"'15'!BB25","v":0},{"$f":"'12'!BB25","v":0},{"$f":"'10'!BB25","v":0}]
[23,{"$f":"'80'!BB26","v":0},{"$f":"'40'!BB26","v":0},{"$f":"'30'!BB26","v":0},{"$f":"'20'!BB26","v":0},{"$f":"'17'!BB26","v":0},{"$f":"'15'!BB26","v":0},{"$f":"'12'!BB26","v":0},{"$f":"'10'!BB26","v":0}]
[24,{"$f":"'80'!BB27","v":0},{"$f":"'40'!BB27","v":0},{"$f":"'30'!BB27","v":0},{"$f":"'20'!BB27","v":0},{"$f":"'17'!BB27","v":0},{"$f":"'15'!BB27","v":0},{"$f":"'12'!BB27","v":0},{"$f":"'10'!BB27","v":0}]

{"sheet":"40 TF","index":61,"n_rows":25,"n_cols":9,"rows_kept":25}
["UT","80M","40M","30M","20M","17M","15M","12M","10M"]
[1,{"$f":"'80'!BC4","v":0},{"$f":"'40'!BC4","v":0},{"$f":"'30'!BC4","v":0},{"$f":"'20'!BC4","v":0},{"$f":"'17'!BC4","v":0},{"$f":"'15'!BC4","v":0},{"$f":"'12'!BC4","v":0},{"$f":"'10'!BC4","v":0}]
[2,{"$f":"'80'!BC5","v":0},{"$f":"'40'!BC5","v":0},{"$f":"'30'!BC5","v":0},{"$f":"'20'!BC5","v":0},{"$f":"'17'!BC5","v":0},{"$f":"'15'!BC5","v":0},{"$f":"'12'!BC5","v":0},{"$f":"'10'!BC5","v":0}]
[3,{"$f":"'80'!BC6","v":0},{"$f":"'40'!BC6","v":0},{"$f":"'30'!BC6","v":0},{"$f":"'20'!BC6","v":0},{"$f":"'17'!BC6","v":0},{"$f":"'15'!BC6","v":0},{"$f":"'12'!BC6","v":0},{"$f":"'10'!BC6","v":0}]
[4,{"$f":"'80'!BC7","v":0},{"$f":"'40'!BC7","v":0},{"$f":"'30'!BC7","v":0},{"$f":"'20'!BC7","v":0},{"$f":"'17'!BC7","v":0},{"$f":"'15'!BC7","v":0},{"$f":"'12'!BC7","v":0},{"$f":"'10'!BC7","v":0}]
[5,{"$f":"'80'!BC8","v":0},{"$f":"'40'!BC8","v":0},{"$f":"'30'!BC8","v":0},{"$f":"'20'!BC8","v":0},{"$f":"'17'!BC8","v":0},{"$f":"'15'!BC8","v":0},{"$f":"'12'!BC8","v":0},{"$f":"'10'!BC8","v":0}]
[6,{"$f":"'80'!BC9","v":0},{"$f":"'40'!BC9","v":0},{"$f":"'30'!BC9","v":0},{"$f":"'20'!BC9","v":0},{"$f":"'17'!BC9","v":0},{"$f":"'15'!BC9","v":0},{"$f":"'12'!BC9","v":0},{"$f":"'10'!BC9","v":0}]
[7,{"$f":"'80'!BC10","v":0},{"$f":"'40'!BC10","v":0},{"$f":"'30'!BC10","v":0},{"$f":"'20'!BC10","v":0},{"$f":"'17'!BC10","v":0},{"$f":"'15'!BC10","v":0},{"$f":"'12'!BC10","v":0},{"$f":"'10'!BC10","v":0}]
[8,{"$f":"'80'!BC11","v":0},{"$f":"'40'!BC11","v":0},{"$f":"'30'!BC11","v":0},{"$f":"'20'!BC11","v":0},{"$f":"'17'!BC11","v":0},{"$f":"'15'!BC11","v":0},{"$f":"'12'!BC11","v":0},{"$f":"'10'!BC11","v":0}]
[9,{"$f":"'80'!BC12","v":0},{"$f":"'40'!BC12","v":0},{"$f":"'30'!BC12","v":0},{"$f":"'20'!BC12","v":0},{"$f":"'17'!BC12","v":0},{"$f":"'15'!BC12","v":0},{"$f":"'12'!BC12","v":0},{"$f":"'10'!BC12","v":0}]
[10,{"$f":"'80'!BC13","v":0},{"$f":"'40'!BC13","v":0},{"$f":"'30'!BC13","v":0},{"$f":"'20'!BC13","v":0},{"$f":"'17'!BC13","v":0},{"$f":"'15'!BC13","v":0},{"$f":"'12'!BC13","v":0},{"$f":"'10'!BC13","v":0}]
[11,{"$f":"'80'!BC14","v":0},{"$f":"'40'!BC14","v":0},{"$f":"'30'!BC14","v":0},{"$f":"'20'!BC14","v":0},{"$f":"'17'!BC14","v":0},{"$f":"'15'!BC14","v":0},{"$f":"'12'!BC14","v":0},{"$f":"'10'!BC14","v":0}]
[12,{"$f":"'80'!BC15","v":0},{"$f":"'40'!BC15","v":0},{"$f":"'30'!BC15","v":0},{"$f":"'20'!BC15","v":0},{"$f":"'17'!BC15","v":0},{"$f":"'15'!BC15","v":0},{"$f":"'12'!BC15","v":0},{"$f":"'10'!BC15","v":0}]
[13,{"$f":"'80'!BC16","v":0},{"$f":"'40'!BC16","v":0},{"$f":"'30'!BC16","v":0},{"$f":"'20'!BC16","v":0},{"$f":"'17'!BC16","v":0},{"$f":"'15'!BC16","v":0},{"$f":"'12'!BC16","v":0},{"$f":"'10'!BC16","v":0}]
[14,{"$f":"'80'!BC17","v":0},{"$f":"'40'!BC17","v":0},{"$f":"'30'!BC17","v":0},{"$f":"'20'!BC17","v":0},{"$f":"'17'!BC17","v":0},{"$f":"'15'!BC17","v":0},{"$f":"'12'!BC17","v":0},{"$f":"'10'!BC17","v":0}]
[15,{"$f":"'80'!BC18","v":0},{"$f":"'40'!BC18","v":0},{"$f":"'30'!BC18","v":0},{"$f":"'20'!BC18","v":0},{"$f":"'17'!BC18","v":0},{"$f":"'15'!BC18","v":0},{"$f":"'12'!BC18","v":0},{"$f":"'10'!BC18","v":0}]
[16,{"$f":"'80'!BC19","v":0},{"$f":"'40'!BC19","v":0},{"$f":"'30'!BC19","v":0},{"$f":"'20'!BC19","v":0},{"$f":"'17'!BC19","v":0},{"$f":"'15'!BC19","v":0},{"$f":"'12'!BC19","v":0},{"$f":"'10'!BC19","v":0}]
[17,{"$f":"'80'!BC20","v":0},{"$f":"'40'!BC20","v":0},{"$f":"'30'!BC20","v":0},{"$f":"'20'!BC20","v":0},{"$f":"'17'!BC20","v":0},{"$f":"'15'!BC20","v":0},{"$f":"'12'!BC20","v":0},{"$f":"'10'!BC20","v":0}]
[18,{"$f":"'80'!BC21","v":0},{"$f":"'40'!BC21","v":0},{"$f":"'30'!BC21","v":0},{"$f":"'20'!BC21","v":0},{"$f":"'17'!BC21","v":0},{"$f":"'15'!BC21","v":0},{"$f":"'12'!BC21","v":0},{"$f":"'10'!BC21","v":0}]
[19,{"$f":"'80'!BC22","v":0},{"$f":"'40'!BC22","v":0},{"$f":"'30'!BC22","v":0},{"$f":"'20'!BC22","v":0},{"$f":"'17'!BC22","v":0},{"$f":"'15'!BC22","v":0},{"$f":"'12'!BC22","v":0},{"$f":"'10'!BC22","v":0}]
[20,{"$f":"'80'!BC23","v":0},{"$f":"'40'!BC23","v":0},{"$f":"'30'!BC23","v":0},{"$f":"'20'!BC23","v":0},{"$f":"'17'!BC23","v":0},{"$f":"'15'!BC23","v":0},{"$f":"'12'!BC23","v":0},{"$f":"'10'!BC23","v":0}]
[21,{"$f":"'80'!BC24","v":0},{"$f":"'40'!BC24","v":0},{"$f":"'30'!BC24","v":0},{"$f":"'20'!BC24","v":0},{"$f":"'17'!BC24","v":0},{"$f":"'15'!BC24","v":0},{"$f":"'12'!BC24","v":0},{"$f":"'10'!BC24","v":0}]
[22,{"$f":"'80'!BC25","v":0},{"$f":"'40'!BC25","v":0},{"$f":"'30'!BC25","v":0},{"$f":"'20'!BC25","v":0},{"$f":"'17'!BC25","v":0},{"$f":"'15'!BC25","v":0},{"$f":"'12'!BC25","v":0},{"$f":"'10'!BC25","v":0}]
[23,{"$f":"'80'!BC26","v":0},{"$f":"'40'!BC26","v":0},{"$f":"'30'!BC26","v":0},{"$f":"'20'!BC26","v":0},{"$f":"'17'!BC26","v":0},{"$f":"'15'!BC26","v":0},{"$f":"'12'!BC26","v":0},{"$f":"'10'!BC26","v":0}]
[24,{"$f":"'80'!BC27","v":0},{"$f":"'40'!BC27","v":0},{"$f":"'30'!BC27","v":0},{"$f":"'20'!BC27","v":0},{"$f":"'17'!BC27","v":0},{"$f":"'15'!BC27","v":0},{"$f":"'12'!BC27","v":0},{"$f":"'10'!BC27","v":0}]